{"text_format":"1","workbook":"xlsx","n_sheets":2,"sheets":["Program Obliczeniowy","Sortowanie wyników"],"not_rendered":{"charts":0,"images":0,"macros":1,"external_links":0,"defined_names":2,"comments":1,"pivot_tables":0},"unopened":[],"bounds":{"document_bytes":16777216,"sheet_cells":100000,"rows_first":2000,"rows_last":500,"rows_between":2000,"halvings":0,"cell_chars":16384,"cell_head_chars":4096},"cells_cut":0,"cells_raw":0,"read":"whole","date_system":"1900"}

{"sheet":"Program Obliczeniowy","index":0,"n_rows":160,"n_cols":88,"rows_kept":160,"cut":false,"hidden":false,"merged":[[143,84,145,84],[146,84,148,84],[149,84,151,84],[152,84,154,84],[155,84,157,84],[125,84,127,84],[128,84,130,84],[131,84,133,84],[134,84,136,84],[137,84,139,84],[59,84,61,84],[62,84,64,84],[65,84,67,84],[68,84,70,84],[71,84,73,84],[74,84,76,84],[77,84,79,84],[80,84,82,84],[83,84,85,84],[86,84,88,84],[89,84,91,84],[92,84,94,84],[95,84,97,84],[98,84,100,84],[101,84,103,84],[104,84,106,84],[140,84,142,84],[107,84,109,84],[110,84,112,84],[113,84,115,84],[116,84,118,84],[119,84,121,84],[122,84,124,84],[122,51,124,51],[125,51,127,51],[128,51,130,51],[116,51,118,51],[119,51,121,51],[98,51,100,51],[101,51,103,51],[104,51,106,51],[107,51,109,51],[2,84,4,84],[5,84,7,84],[8,84,10,84],[11,84,13,84],[14,84,16,84],[2,51,4,51],[5,51,7,51],[8,51,10,51],[11,51,13,51],[17,84,19,84],[20,84,22,84],[23,84,25,84],[26,84,28,84],[29,84,31,84],[32,84,34,84],[35,84,37,84],[38,84,40,84],[41,84,43,84],[44,84,46,84],[47,84,49,84],[50,84,52,84],[53,84,55,84],[56,84,58,84],[14,51,16,51],[17,51,19,51],[20,51,22,51],[23,51,25,51],[50,51,52,51],[53,51,55,51],[38,51,40,51],[41,51,43,51],[44,51,46,51],[47,51,49,51],[74,51,76,51],[77,51,79,51],[80,51,82,51],[83,51,85,51],[62,51,64,51],[65,51,67,51],[68,51,70,51],[71,51,73,51],[68,61,70,61],[71,61,73,61],[74,61,76,61],[77,61,79,61],[44,61,46,61],[47,61,49,61],[50,61,52,61],[53,61,55,61],[56,61,58,61],[59,61,61,61],[26,61,28,61],[29,61,31,61],[32,61,34,61],[155,54,157,54],[134,54,136,54],[137,54,139,54],[140,54,142,54],[143,54,145,54],[146,54,148,54],[149,54,151,54],[122,54,124,54],[125,54,127,54],[128,54,130,54],[131,54,133,54],[26,51,28,51],[29,51,31,51],[32,51,34,51],[35,51,37,51],[56,51,58,51],[59,51,61,51],[110,51,112,51],[113,51,115,51],[86,51,88,51],[89,51,91,51],[92,51,94,51],[95,51,97,51],[131,51,133,51],[155,51,157,51],[134,51,136,51],[137,51,139,51],[140,51,142,51],[143,51,145,51],[146,51,148,51],[149,51,151,51],[152,51,154,51],[86,54,88,54],[89,54,91,54],[92,54,94,54],[95,54,97,54],[74,54,76,54],[77,54,79,54],[80,54,82,54],[83,54,85,54],[110,54,112,54],[113,54,115,54],[116,54,118,54],[119,54,121,54],[98,54,100,54],[101,54,103,54],[104,54,106,54],[107,54,109,54],[152,54,154,54],[146,49,148,49],[149,49,151,49],[152,49,154,49],[155,49,157,49],[134,49,136,49],[137,49,139,49],[140,49,142,49],[143,49,145,49],[14,54,16,54],[17,54,19,54],[20,54,22,54],[23,54,25,54],[2,54,4,54],[5,54,7,54],[8,54,10,54],[11,54,13,54],[38,54,40,54],[41,54,43,54],[44,54,46,54],[47,54,49,54],[26,54,28,54],[29,54,31,54],[32,54,34,54],[35,54,37,54],[62,54,64,54],[65,54,67,54],[68,54,70,54],[71,54,73,54],[50,54,52,54],[53,54,55,54],[56,54,58,54],[59,54,61,54],[155,46,157,46],[143,46,145,46],[146,46,148,46],[149,46,151,46],[152,46,154,46],[140,46,142,46],[32,49,34,49],[35,49,37,49],[14,49,16,49],[17,49,19,49],[20,49,22,49],[23,49,25,49],[50,49,52,49],[53,49,55,49],[56,49,58,49],[59,49,61,49],[38,49,40,49],[41,49,43,49],[44,49,46,49],[47,49,49,49],[74,49,76,49],[77,49,79,49],[80,49,82,49],[83,49,85,49],[62,49,64,49],[65,49,67,49],[68,49,70,49],[71,49,73,49],[98,49,100,49],[101,49,103,49],[104,49,106,49],[107,49,109,49],[110,46,112,46],[113,46,115,46],[116,46,118,46],[137,46,139,46],[98,46,100,46],[101,46,103,46],[104,46,106,46],[107,46,109,46],[119,46,121,46],[122,46,124,46],[125,46,127,46],[128,46,130,46],[131,46,133,46],[134,46,136,46],[2,49,4,49],[5,49,7,49],[8,49,10,49],[11,49,13,49],[26,49,28,49],[29,49,31,49],[86,49,88,49],[89,49,91,49],[92,49,94,49],[95,49,97,49],[122,49,124,49],[125,49,127,49],[128,49,130,49],[131,49,133,49],[110,49,112,49],[113,49,115,49],[116,49,118,49],[119,49,121,49],[26,46,28,46],[29,46,31,46],[32,46,34,46],[35,46,37,46],[62,46,64,46],[65,46,67,46],[68,46,70,46],[71,46,73,46],[50,46,52,46],[53,46,55,46],[56,46,58,46],[59,46,61,46],[86,46,88,46],[89,46,91,46],[92,46,94,46],[95,46,97,46],[74,46,76,46],[77,46,79,46],[80,46,82,46],[83,46,85,46],[14,13,16,13],[14,14,16,14],[14,15,16,15],[14,16,16,16],[11,13,13,13],[11,14,13,14],[2,16,4,16],[0,37,0,38],[2,13,4,13],[2,14,4,14],[5,16,7,16],[8,16,10,16],[8,15,10,15],[5,15,7,15],[2,46,4,46],[5,46,7,46],[0,31,0,32],[0,34,0,35],[14,46,16,46],[11,46,13,46],[8,46,10,46],[32,13,34,13],[32,14,34,14],[32,15,34,15],[32,16,34,16],[29,13,31,13],[29,14,31,14],[23,15,25,15],[23,16,25,16],[26,13,28,13],[26,14,28,14],[26,15,28,15],[26,16,28,16],[23,13,25,13],[23,14,25,14],[17,15,19,15],[17,16,19,16],[20,13,22,13],[20,14,22,14],[20,15,22,15],[20,16,22,16],[17,13,19,13],[17,14,19,14],[50,13,52,13],[50,14,52,14],[50,15,52,15],[50,16,52,16],[47,13,49,13],[47,14,49,14],[41,15,43,15],[41,16,43,16],[44,13,46,13],[44,14,46,14],[44,15,46,15],[44,16,46,16],[41,13,43,13],[41,14,43,14],[35,15,37,15],[35,16,37,16],[38,13,40,13],[38,14,40,14],[38,15,40,15],[38,16,40,16],[35,13,37,13],[35,14,37,14],[68,13,70,13],[68,14,70,14],[68,15,70,15],[68,16,70,16],[65,13,67,13],[65,14,67,14],[59,15,61,15],[59,16,61,16],[62,13,64,13],[62,14,64,14],[62,15,64,15],[62,16,64,16],[59,13,61,13],[59,14,61,14],[53,15,55,15],[53,16,55,16],[56,13,58,13],[56,14,58,14],[56,15,58,15],[56,16,58,16],[53,13,55,13],[53,14,55,14],[86,13,88,13],[86,14,88,14],[86,15,88,15],[86,16,88,16],[83,13,85,13],[83,14,85,14],[77,15,79,15],[77,16,79,16],[80,13,82,13],[80,14,82,14],[80,15,82,15],[80,16,82,16],[77,13,79,13],[77,14,79,14],[71,15,73,15],[71,16,73,16],[74,13,76,13],[74,14,76,14],[74,15,76,15],[74,16,76,16],[71,13,73,13],[71,14,73,14],[104,13,106,13],[104,14,106,14],[104,15,106,15],[104,16,106,16],[101,13,103,13],[101,14,103,14],[95,15,97,15],[95,16,97,16],[98,13,100,13],[98,14,100,14],[98,15,100,15],[98,16,100,16],[95,13,97,13],[95,14,97,14],[89,15,91,15],[89,16,91,16],[92,13,94,13],[92,14,94,14],[92,15,94,15],[92,16,94,16],[89,13,91,13],[89,14,91,14],[122,13,124,13],[122,14,124,14],[122,15,124,15],[122,16,124,16],[119,13,121,13],[119,14,121,14],[113,15,115,15],[113,16,115,16],[116,13,118,13],[116,14,118,14],[116,15,118,15],[116,16,118,16],[113,13,115,13],[113,14,115,14],[107,15,109,15],[107,16,109,16],[110,13,112,13],[110,14,112,14],[110,15,112,15],[110,16,112,16],[107,13,109,13],[107,14,109,14],[140,13,142,13],[140,14,142,14],[140,15,142,15],[140,16,142,16],[137,13,139,13],[137,14,139,14],[131,15,133,15],[131,16,133,16],[134,13,136,13],[134,14,136,14],[134,15,136,15],[134,16,136,16],[131,13,133,13],[131,14,133,14],[125,15,127,15],[125,16,127,16],[128,13,130,13],[128,14,130,14],[128,15,130,15],[128,16,130,16],[125,13,127,13],[125,14,127,14],[155,13,157,13],[155,14,157,14],[149,15,151,15],[149,16,151,16],[152,13,154,13],[152,14,154,14],[152,15,154,15],[152,16,154,16],[149,13,151,13],[149,14,151,14],[143,15,145,15],[143,16,145,16],[146,13,148,13],[146,14,148,14],[146,15,148,15],[146,16,148,16],[143,13,145,13],[143,14,145,14],[155,15,157,15],[155,16,157,16],[2,61,4,61],[5,61,7,61],[8,61,10,61],[11,61,13,61],[14,61,16,61],[17,61,19,61],[20,61,22,61],[23,61,25,61],[137,15,139,15],[137,16,139,16],[119,15,121,15],[119,16,121,16],[101,15,103,15],[101,16,103,16],[83,15,85,15],[83,16,85,16],[65,15,67,15],[65,16,67,16],[47,15,49,15],[47,16,49,16],[29,15,31,15],[29,16,31,16],[11,16,13,16],[17,46,19,46],[20,46,22,46],[23,46,25,46],[38,46,40,46],[41,46,43,46],[44,46,46,46],[47,46,49,46],[62,61,64,61],[65,61,67,61],[35,61,37,61],[38,61,40,61],[41,61,43,61],[149,61,151,61],[116,61,118,61],[119,61,121,61],[122,61,124,61],[125,61,127,61],[128,61,130,61],[131,61,133,61],[98,61,100,61],[101,61,103,61],[104,61,106,61],[107,61,109,61],[110,61,112,61],[113,61,115,61],[80,61,82,61],[83,61,85,61],[86,61,88,61],[89,61,91,61],[92,61,94,61],[95,61,97,61],[2,64,4,64],[2,65,4,65],[2,66,4,66],[5,64,7,64],[5,65,7,65],[5,66,7,66],[188,61,190,61],[2,63,4,63],[5,63,7,63],[8,63,10,63],[11,63,13,63],[14,63,16,63],[17,63,19,63],[20,63,22,63],[23,63,25,63],[170,61,172,61],[173,61,175,61],[176,61,178,61],[179,61,181,61],[182,61,184,61],[185,61,187,61],[152,61,154,61],[155,61,157,61],[158,61,160,61],[161,61,163,61],[164,61,166,61],[167,61,169,61],[134,61,136,61],[137,61,139,61],[140,61,142,61],[143,61,145,61],[146,61,148,61],[20,64,22,64],[20,65,22,65],[20,66,22,66],[26,63,28,63],[26,64,28,64],[26,65,28,65],[26,66,28,66],[23,64,25,64],[23,65,25,65],[23,66,25,66],[14,64,16,64],[14,65,16,65],[14,66,16,66],[17,64,19,64],[17,65,19,65],[17,66,19,66],[8,64,10,64],[8,65,10,65],[8,66,10,66],[11,64,13,64],[11,65,13,65],[11,66,13,66],[41,63,43,63],[41,64,43,64],[41,65,43,65],[41,66,43,66],[38,63,40,63],[38,64,40,64],[38,65,40,65],[38,66,40,66],[35,63,37,63],[35,64,37,64],[35,65,37,65],[35,66,37,66],[32,63,34,63],[32,64,34,64],[32,65,34,65],[32,66,34,66],[29,63,31,63],[29,64,31,64],[29,65,31,65],[29,66,31,66],[56,63,58,63],[56,64,58,64],[56,65,58,65],[56,66,58,66],[53,63,55,63],[53,64,55,64],[53,65,55,65],[53,66,55,66],[50,63,52,63],[50,64,52,64],[50,65,52,65],[50,66,52,66],[47,63,49,63],[47,64,49,64],[47,65,49,65],[47,66,49,66],[44,63,46,63],[44,64,46,64],[44,65,46,65],[44,66,46,66],[71,63,73,63],[71,64,73,64],[71,65,73,65],[71,66,73,66],[68,63,70,63],[68,64,70,64],[68,65,70,65],[68,66,70,66],[65,63,67,63],[65,64,67,64],[65,65,67,65],[65,66,67,66],[62,63,64,63],[62,64,64,64],[62,65,64,65],[62,66,64,66],[59,63,61,63],[59,64,61,64],[59,65,61,65],[59,66,61,66],[86,63,88,63],[86,64,88,64],[86,65,88,65],[86,66,88,66],[83,63,85,63],[83,64,85,64],[83,65,85,65],[83,66,85,66],[80,63,82,63],[80,64,82,64],[80,65,82,65],[80,66,82,66],[77,63,79,63],[77,64,79,64],[77,65,79,65],[77,66,79,66],[74,63,76,63],[74,64,76,64],[74,65,76,65],[74,66,76,66],[101,63,103,63],[101,64,103,64],[101,65,103,65],[101,66,103,66],[98,63,100,63],[98,64,100,64],[98,65,100,65],[98,66,100,66],[95,63,97,63],[95,64,97,64],[95,65,97,65],[95,66,97,66],[92,63,94,63],[92,64,94,64],[92,65,94,65],[92,66,94,66],[89,63,91,63],[89,64,91,64],[89,65,91,65],[89,66,91,66],[116,63,118,63],[116,64,118,64],[116,65,118,65],[116,66,118,66],[113,63,115,63],[113,64,115,64],[113,65,115,65],[113,66,115,66],[110,63,112,63],[110,64,112,64],[110,65,112,65],[110,66,112,66],[107,63,109,63],[107,64,109,64],[107,65,109,65],[107,66,109,66],[104,63,106,63],[104,64,106,64],[104,65,106,65],[104,66,106,66],[131,63,133,63],[131,64,133,64],[131,65,133,65],[131,66,133,66],[128,63,130,63],[128,64,130,64],[128,65,130,65],[128,66,130,66],[125,63,127,63],[125,64,127,64],[125,65,127,65],[125,66,127,66],[122,63,124,63],[122,64,124,64],[122,65,124,65],[122,66,124,66],[119,63,121,63],[119,64,121,64],[119,65,121,65],[119,66,121,66],[146,63,148,63],[146,64,148,64],[146,65,148,65],[146,66,148,66],[143,63,145,63],[143,64,145,64],[143,65,145,65],[143,66,145,66],[140,63,142,63],[140,64,142,64],[140,65,142,65],[140,66,142,66],[137,63,139,63],[137,64,139,64],[137,65,139,65],[137,66,139,66],[134,63,136,63],[134,64,136,64],[134,65,136,65],[134,66,136,66],[161,64,163,64],[161,65,163,65],[161,66,163,66],[158,63,160,63],[158,64,160,64],[158,65,160,65],[158,66,160,66],[155,63,157,63],[155,64,157,64],[155,65,157,65],[155,66,157,66],[152,63,154,63],[152,64,154,64],[152,65,154,65],[152,66,154,66],[149,63,151,63],[149,64,151,64],[149,65,151,65],[149,66,151,66],[47,60,49,60],[50,60,52,60],[53,60,55,60],[17,60,19,60],[188,63,190,63],[188,64,190,64],[188,65,190,65],[188,66,190,66],[185,63,187,63],[185,64,187,64],[185,65,187,65],[185,66,187,66],[182,63,184,63],[182,64,184,64],[182,65,184,65],[182,66,184,66],[179,63,181,63],[179,64,181,64],[179,65,181,65],[179,66,181,66],[176,63,178,63],[176,64,178,64],[176,65,178,65],[176,66,178,66],[173,63,175,63],[173,64,175,64],[173,65,175,65],[173,66,175,66],[170,63,172,63],[170,64,172,64],[170,65,172,65],[170,66,172,66],[128,60,130,60],[131,60,133,60],[134,60,136,60],[137,60,139,60],[140,60,142,60],[143,60,145,60],[110,60,112,60],[113,60,115,60],[116,60,118,60],[119,60,121,60],[122,60,124,60],[125,60,127,60],[92,60,94,60],[95,60,97,60],[98,60,100,60],[101,60,103,60],[104,60,106,60],[107,60,109,60],[41,68,43,68],[44,68,46,68],[47,68,49,68],[50,68,52,68],[53,68,55,68],[56,68,58,68],[23,68,25,68],[26,68,28,68],[29,68,31,68],[32,68,34,68],[35,68,37,68],[38,68,40,68],[182,60,184,60],[185,60,187,60],[188,60,190,60],[2,68,4,68],[5,68,7,68],[8,68,10,68],[11,68,13,68],[14,68,16,68],[17,68,19,68],[20,68,22,68],[164,60,166,60],[167,60,169,60],[170,60,172,60],[173,60,175,60],[176,60,178,60],[179,60,181,60],[146,60,148,60],[149,60,151,60],[152,60,154,60],[155,60,157,60],[125,68,127,68],[128,68,130,68],[95,68,97,68],[98,68,100,68],[101,68,103,68],[104,68,106,68],[107,68,109,68],[110,68,112,68],[77,68,79,68],[80,68,82,68],[83,68,85,68],[86,68,88,68],[89,68,91,68],[92,68,94,68],[59,68,61,68],[62,68,64,68],[65,68,67,68],[68,68,70,68],[71,68,73,68],[74,68,76,68],[41,69,43,69],[44,69,46,69],[47,69,49,69],[50,69,52,69],[53,69,55,69],[56,69,58,69],[23,69,25,69],[26,69,28,69],[29,69,31,69],[32,69,34,69],[35,69,37,69],[38,69,40,69],[149,68,151,68],[152,68,154,68],[155,68,157,68],[2,69,4,69],[5,69,7,69],[8,69,10,69],[11,69,13,69],[14,69,16,69],[17,69,19,69],[20,69,22,69],[131,68,133,68],[134,68,136,68],[137,68,139,68],[140,68,142,68],[143,68,145,68],[146,68,148,68],[113,68,115,68],[116,68,118,68],[119,68,121,68],[122,68,124,68],[131,69,133,69],[116,69,118,69],[119,69,121,69],[122,69,124,69],[125,69,127,69],[77,69,79,69],[80,69,82,69],[83,69,85,69],[86,69,88,69],[89,69,91,69],[92,69,94,69],[59,69,61,69],[62,69,64,69],[65,69,67,69],[68,69,70,69],[71,69,73,69],[74,69,76,69],[2,4,4,4],[5,4,7,4],[8,4,10,4],[11,4,13,4],[11,15,13,15],[5,13,7,13],[5,14,7,14],[8,13,10,13],[8,14,10,14],[2,15,4,15],[155,69,157,69],[137,69,139,69],[140,69,142,69],[143,69,145,69],[146,69,148,69],[134,69,136,69],[149,69,151,69],[128,69,130,69],[14,4,16,4],[17,4,19,4],[152,69,154,69],[113,69,115,69],[20,4,22,4],[23,4,25,4],[26,4,28,4],[98,69,100,69],[29,4,31,4],[95,69,97,69],[101,69,103,69],[104,69,106,69],[107,69,109,69],[110,69,112,69],[68,4,70,4],[71,4,73,4],[74,4,76,4],[77,4,79,4],[80,4,82,4],[83,4,85,4],[50,4,52,4],[53,4,55,4],[56,4,58,4],[59,4,61,4],[62,4,64,4],[65,4,67,4],[32,4,34,4],[35,4,37,4],[38,4,40,4],[41,4,43,4],[44,4,46,4],[47,4,49,4],[122,4,124,4],[125,4,127,4],[128,4,130,4],[131,4,133,4],[134,4,136,4],[137,4,139,4],[104,4,106,4],[107,4,109,4],[110,4,112,4],[113,4,115,4],[116,4,118,4],[119,4,121,4],[86,4,88,4],[89,4,91,4],[92,4,94,4],[95,4,97,4],[98,4,100,4],[101,4,103,4],[167,67,169,67],[164,67,166,67],[161,67,163,67],[158,67,160,67],[155,67,157,67],[152,67,154,67],[158,4,160,4],[161,4,163,4],[188,67,190,67],[185,67,187,67],[182,67,184,67],[179,67,181,67],[176,67,178,67],[173,67,175,67],[170,67,172,67],[140,4,142,4],[143,4,145,4],[146,4,148,4],[149,4,151,4],[152,4,154,4],[155,4,157,4],[158,60,160,60],[161,60,163,60],[167,63,169,63],[167,64,169,64],[167,65,169,65],[167,66,169,66],[164,63,166,63],[164,64,166,64],[164,65,166,65],[164,66,166,66],[161,63,163,63],[113,67,115,67],[110,67,112,67],[107,67,109,67],[104,67,106,67],[101,67,103,67],[98,67,100,67]],"merged_total":1125,"flags":["merged_cut"]}
["liczba drużyn:",5,null,null,null,"ELIMINACJA",null,"……………………………",null,null," OGÓLNOPOLSKIEGO TURNIEJU BRD  - GRUPA - II",null,null,null,null,null,null,null,null,null,null,null,null,null,null,null,null,null,null,null,null,"test",null,null,"historia",null,null,"motorower",null,null,null,null,null,null,null,null,null,null,null,null,null,null,null,null,null,null,null,null,null,null,"drozunowo","drozunowo",null,"drozunowo","drozunowo","drozunowo","drozunowo","drozunowo","drozunowo","drozunowo","drozunowo","drozunowo",null,null,null,null,null,"CD",null,null,null,null,null,"\"0\"test","\"0\"test"]
[{"$f":"B1*3","v":15},null,"NR startowy","Imię i nazwisko","Szkoła","Test Wiedzy","m-ce","Test Skrzyżowań","m-ce","MRD","m-ce","RTP","m-ce","Pierwsza Pomoc","m-ce","razem drużyna","m-ce drużyna","razem indywidualnie","m-ce indywidualnie",null,null,null,"G","k","m","i",null,null,null,null,null,0," ",null,0," ",null,null,null,null,0," ",null,null,null,null,null,null,null,null,null,null,0,null,null,null,null,null,null,null,"suma","g","i","m","o","samoch.","k","obsl.moto",null,null,null,null,null,null,0," ",{"$f":"MAX(BZ:BZ)+1","v":1},null,null,null,null,null,{"$f":"MAX(CF:CF)+1","v":2},{"$f":"MAX(CG:CG)+1","v":1},null,null,{"$f":"MIN(CH:CH)-1","v":-1},1]
[{"$f":"B1","v":5},{"$f":"IF(MOD(ROW(),3)=2,((ROW()+1)/3)-1,\"\")","v":""},{"$f":"CONCATENATE(B5,\"A\")","v":"1A"},null,null,null,{"$f":"IF(ISBLANK(F3),\"\",IF(F3=0,$CE$2,CF3))","v":""},null,{"$f":"IF(ISBLANK(H3),\"\",IF(H3=0,$BY$2,BZ3))","v":""},null,{"$f":"IF(ISBLANK(J3),\"\",IF(J3=0,$CJ$2,CH3))","v":""},null,{"$f":"IF(ISNUMBER(L3),VLOOKUP(L3,AL:AM,2,FALSE),\"\")","v":""},null,{"$f":"IF(ISBLANK(N3),\"\",IF(N3=0,$CF$2,CG3))","v":""},{"$f":"IF(ISNUMBER(O3),IF(ISNUMBER(O3),IF(ISNUMBER(O3),O3+G3+G4+G5+I3+I4+I5+K3+K4+K5+M3+M4+M5,\"\"),\"\"),\"\")","v":""},{"$f":"IF(ISNUMBER(P3),VLOOKUP(BQ3,BS:BT,2,FALSE),\"\")","v":""},{"$f":"IF(ISNUMBER(G3),IF(ISNUMBER(K3),IF(ISNUMBER(M3),SUM(G3,I3,K3,M3),\"\"),\"\"),\"\")","v":""},{"$f":"IF(ISNUMBER(R3),VLOOKUP(AA3,AB:AC,2,FALSE),\"\")","v":""},null,null,null,{"$f":"G3","v":""},{"$f":"K3","v":""},{"$f":"M3","v":""},{"$f":"I3","v":""},{"$f":"IF(ISNUMBER(R3),CONCATENATE(R3+100,W3+100,Z3+100,X3+100,Y3+100)+0,\"\")","v":""},{"$f":"IF(ISNUMBER(SMALL(AA:AA,ROW()-2)),SMALL(AA:AA,ROW()-2),\"\")","v":""},1,null,null,{"$f":"IF(ISNUMBER(LARGE(F:F,ROW()-2)),LARGE(F:F,ROW()-2),\"\")","v":""},1,null,{"$f":"IF(ISNUMBER(SMALL(J:J,ROW()-2)),SMALL(J:J,ROW()-2),\"\")","v":""},1,null,{"$f":"IF(ISNUMBER(SMALL(L:L,ROW()-2)),SMALL(L:L,ROW()-2),\"\")","v":""},1,null,{"$f":"IF(ISNUMBER(LARGE(N:N,ROW()-2)),LARGE(N:N,ROW()-2),\"\")","v":""},1,null,{"$f":"IF(ISNUMBER(SMALL(#REF!,ROW()-2)),SMALL(#REF!,ROW()-2),\"\")","v":""},1,null,{"$f":"IF(#REF!,#REF!+0,)","v":{"$error":"#REF!"}},{"$f":"IF(ISNUMBER(LARGE(AU:AU,ROW()-2)),LARGE(AU:AU,ROW()-2),\"\")","v":""},1,{"$f":"IF(ISNUMBER(AU3),VLOOKUP(AU3,AV:AW,2,FALSE),\"\")","v":""},null,{"$f":"P3","v":""},{"$f":"IF(ISNUMBER(SMALL(P:P,ROW()-2)),SMALL(P:P,ROW()-2),\"\")","v":""},1,{"$f":"IF(ISNUMBER(AZ3),VLOOKUP(AZ3,BA:BB,2,FALSE),\"\")","v":""},null,{"$f":"IF(ISNUMBER(SMALL(R:R,ROW()-2)),SMALL(R:R,ROW()-2),\"\")","v":""},1,null,null,{"$f":"P3","v":""},{"$f":"SUM(G3,G4,G5)","v":0},{"$f":"SUM(I3,I4,I5)","v":0},{"$f":"SUM(M3,M4,M5)","v":0},{"$f":"O3","v":""},{"$f":"#REF!","v":{"$error":"#REF!"}},{"$f":"SUM(K3,K4,K5)","v":0},{"$f":"#REF!","v":{"$error":"#REF!"}},{"$f":"IF(ISNUMBER(P3),CONCATENATE(BI3+100,BJ3+100,BK3+100,BO3+100,BL3+100,BM3+100)+0,\"\")","v":""},null,{"$f":"IF(ISNUMBER(SMALL(BQ:BQ,ROW()-2)),SMALL(BQ:BQ,ROW()-2),\"\")","v":""},1,null,null,{"$f":"IF(ISNUMBER(LARGE(H:H,ROW()-2)),LARGE(H:H,ROW()-2),\"\")","v":""},1,null,{"$f":"VLOOKUP(H3,BW:BX,2,FALSE)","v":" "},null,null,null,null,null,{"$f":"VLOOKUP(F3,AF:AG,2,FALSE)","v":" "},{"$f":"VLOOKUP(N3,AO:AP,2,FALSE)","v":" "},{"$f":"IF(ISNUMBER(J3),VLOOKUP(J3,AI:AJ,2,FALSE),\"\")","v":""}]
[null,"",{"$f":"CONCATENATE(B5,\"B\")","v":"1B"},null,null,null,"",null,{"$f":"IF(ISBLANK(H4),\"\",IF(H4=0,$BY$2,BZ4))","v":""},null,{"$f":"IF(ISBLANK(J4),\"\",IF(J4=0,$CJ$2,CH4))","v":""},null,"",null,null,null,null,{"$f":"IF(ISNUMBER(G4),IF(ISNUMBER(K4),IF(ISNUMBER(M4),SUM(G4,I4,K4,M4),\"\"),\"\"),\"\")","v":""},"",null,null,null,{"$f":"G4","v":""},{"$f":"K4","v":""},{"$f":"M4","v":""},{"$f":"I4","v":""},{"$f":"IF(ISNUMBER(R4),CONCATENATE(R4+100,W4+100,Z4+100,X4+100,Y4+100)+0,\"\")","v":""},{"$f":"IF(ISNUMBER(SMALL(AA:AA,ROW()-2)),SMALL(AA:AA,ROW()-2),\"\")","v":""},{"$f":"IF(AB3<>AB4,AC3+1,AC3)","v":1},null,null,"",{"$f":"IF(AF3<>AF4,AG3+1,AG3)","v":1},null,"",{"$f":"IF(AI3<>AI4,AJ3+1,AJ3)","v":1},null,"",{"$f":"IF(AL3<>AL4,AM3+1,AM3)","v":1},null,"",{"$f":"IF(AO3<>AO4,AP3+1,AP3)","v":1},null,{"$f":"IF(ISNUMBER(SMALL(#REF!,ROW()-2)),SMALL(#REF!,ROW()-2),\"\")","v":""},{"$f":"IF(AR3<>AR4,AS3+1,AS3)","v":1},null,null,"",{"$f":"IF(AV4<>0,IF(AV3<>AV4,AW3+1,AW3),\"\")","v":1},null,null,null,"",{"$f":"IF(BA3<>BA4,BB3+1,BB3)","v":1},null,null,{"$f":"IF(ISNUMBER(SMALL(R:R,ROW()-2)),SMALL(R:R,ROW()-2),\"\")","v":""},{"$f":"IF(BE3<>BE4,BF3+1,BF3)","v":1},null,null,null,null,null,null,null,null,null,null,null,null,{"$f":"IF(ISNUMBER(SMALL(BQ:BQ,ROW()-2)),SMALL(BQ:BQ,ROW()-2),\"\")","v":""},{"$f":"IF(BS3<>BS4,BT3+1,BT3)","v":1},null,null,"",{"$f":"IF(BW3<>BW4,BX3+1,BX3)","v":1},null,{"$f":"VLOOKUP(H4,BW:BX,2,FALSE)","v":" "},null,null,null,null,null,{"$f":"VLOOKUP(F4,AF:AG,2,FALSE)","v":" "},null,{"$f":"IF(ISNUMBER(J4),VLOOKUP(J4,AI:AJ,2,FALSE),\"\")","v":""}]
[null,1,{"$f":"CONCATENATE(B5,\"C\")","v":"1C"},null,null,null,"",null,{"$f":"IF(ISBLANK(H5),\"\",IF(H5=0,$BY$2,BZ5))","v":""},null,"",null,"",null,null,null,null,"","",null,null,null,{"$f":"G5","v":""},{"$f":"K5","v":""},{"$f":"M5","v":""},"","",{"$f":"IF(ISNUMBER(SMALL(AA:AA,ROW()-2)),SMALL(AA:AA,ROW()-2),\"\")","v":""},{"$f":"IF(AB4<>AB5,AC4+1,AC4)","v":1},null,null,"",1,null,"",{"$f":"IF(AI4<>AI5,AJ4+1,AJ4)","v":1},null,"",{"$f":"IF(AL4<>AL5,AM4+1,AM4)","v":1},null,"",{"$f":"IF(AO4<>AO5,AP4+1,AP4)","v":1},null,{"$f":"IF(ISNUMBER(SMALL(#REF!,ROW()-2)),SMALL(#REF!,ROW()-2),\"\")","v":""},{"$f":"IF(AR4<>AR5,AS4+1,AS4)","v":1},null,null,"",1,null,null,null,"",1,null,null,"",1,null,null,null,null,null,null,null,null,null,null,null,null,"",1,null,null,"",1,null," ",null,null,null,null,null," ",null,""]
[null,"",{"$f":"CONCATENATE(B8,\"A\")","v":"2A"},null,null,null,"",null,"",null,"",null,"",null,{"$f":"IF(ISBLANK(N6),\"\",IF(N6=0,$CF$2,CG6))","v":""},{"$f":"IF(ISNUMBER(O6),IF(ISNUMBER(O6),IF(ISNUMBER(O6),O6+G6+G7+G8+I6+I7+I8+K6+K7+K8+M6+M7+M8,\"\"),\"\"),\"\")","v":""},{"$f":"IF(ISNUMBER(P6),VLOOKUP(BQ6,BS:BT,2,FALSE),\"\")","v":""},"","",null,null,null,"","","","","","",1,null,null,"",1,null,"",1,null,"",1,null,"",1,null,{"$f":"IF(ISNUMBER(SMALL(#REF!,ROW()-2)),SMALL(#REF!,ROW()-2),\"\")","v":""},1,null,{"$f":"IF(#REF!,#REF!+0,)","v":{"$error":"#REF!"}},"",1,{"$f":"IF(ISNUMBER(AU6),VLOOKUP(AU6,AV:AW,2,FALSE),\"\")","v":""},null,{"$f":"P6","v":""},"",1,{"$f":"IF(ISNUMBER(AZ6),VLOOKUP(AZ6,BA:BB,2,FALSE),\"\")","v":""},null,"",1,null,null,{"$f":"P6","v":""},{"$f":"SUM(G6,G7,G8)","v":0},{"$f":"SUM(I6,I7,I8)","v":0},{"$f":"SUM(M6,M7,M8)","v":0},{"$f":"O6","v":""},{"$f":"#REF!","v":{"$error":"#REF!"}},{"$f":"SUM(K6,K7,K8)","v":0},{"$f":"#REF!","v":{"$error":"#REF!"}},{"$f":"IF(ISNUMBER(P6),CONCATENATE(BI6+100,BJ6+100,BK6+100,BO6+100,BL6+100,BM6+100)+0,\"\")","v":""},{"$f":"IF(ISNUMBER(SMALL(BQ:BQ,ROW()-2)),SMALL(BQ:BQ,ROW()-2),\"\")","v":""},"",1,null,null,"",1,null," ",null,null,null,null,null," ",{"$f":"VLOOKUP(N6,AO:AP,2,FALSE)","v":" "},""]
[null,"",{"$f":"CONCATENATE(B8,\"B\")","v":"2B"},null,null,null,"",null,"",null,"",null,"",null,null,null,null,"","",null,null,null,"","","","","","",1,null,null,"",1,null,"",1,null,"",1,null,"",1,null,{"$f":"IF(ISNUMBER(SMALL(#REF!,ROW()-2)),SMALL(#REF!,ROW()-2),\"\")","v":""},1,null,null,"",1,null,null,null,"",1,null,null,"",1,null,null,null,null,null,null,null,null,null,null,null,null,"",1,null,null,"",1,null," ",null,null,null,null,null," ",null,""]
[null,2,{"$f":"CONCATENATE(B8,\"C\")","v":"2C"},null,null,null,"",null,"",null,"",null,"",null,null,null,null,"","",null,null,null,"","","","","","",1,null,null,"",1,null,"",1,null,"",1,null,"",1,null,{"$f":"IF(ISNUMBER(SMALL(#REF!,ROW()-2)),SMALL(#REF!,ROW()-2),\"\")","v":""},1,null,null,"",1,null,null,null,"",1,null,null,"",1,null,null,null,null,null,null,null,null,null,null,null,null,"",1,null,null,"",1,null," ",null,null,null,null,null," ",null,""]
[null,"",{"$f":"CONCATENATE(B11,\"A\")","v":"3A"},null,null,null,"",null,"",null,"",null,"",null,{"$f":"IF(ISBLANK(N9),\"\",IF(N9=0,$CF$2,CG9))","v":""},{"$f":"IF(ISNUMBER(O9),IF(ISNUMBER(O9),IF(ISNUMBER(O9),O9+G9+G10+G11+I9+I10+I11+K9+K10+K11+M9+M10+M11,\"\"),\"\"),\"\")","v":""},{"$f":"IF(ISNUMBER(P9),VLOOKUP(BQ9,BS:BT,2,FALSE),\"\")","v":""},"",{"$f":"IF(ISNUMBER(R9),VLOOKUP(AA9,AB:AC,2,FALSE),\"\")","v":""},null,null,null,"","","","","","",1,null,null,"",1,null,"",1,null,"",1,null,"",1,null,{"$f":"IF(ISNUMBER(SMALL(#REF!,ROW()-2)),SMALL(#REF!,ROW()-2),\"\")","v":""},1,null,{"$f":"IF(#REF!,#REF!+0,)","v":{"$error":"#REF!"}},"",1,{"$f":"IF(ISNUMBER(AU9),VLOOKUP(AU9,AV:AW,2,FALSE),\"\")","v":""},null,{"$f":"P9","v":""},"",1,{"$f":"IF(ISNUMBER(AZ9),VLOOKUP(AZ9,BA:BB,2,FALSE),\"\")","v":""},null,"",1,null,null,{"$f":"P9","v":""},{"$f":"SUM(G9,G10,G11)","v":0},{"$f":"SUM(I9,I10,I11)","v":0},{"$f":"SUM(M9,M10,M11)","v":0},{"$f":"O9","v":""},{"$f":"#REF!","v":{"$error":"#REF!"}},{"$f":"SUM(K9,K10,K11)","v":0},{"$f":"#REF!","v":{"$error":"#REF!"}},{"$f":"IF(ISNUMBER(P9),CONCATENATE(BI9+100,BJ9+100,BK9+100,BO9+100,BL9+100,BM9+100)+0,\"\")","v":""},{"$f":"IF(ISNUMBER(SMALL(BQ:BQ,ROW()-2)),SMALL(BQ:BQ,ROW()-2),\"\")","v":""},"",1,null,null,"",1,null," ",null,null,null,null,null," ",{"$f":"VLOOKUP(N9,AO:AP,2,FALSE)","v":" "},""]
[null,"",{"$f":"CONCATENATE(B11,\"B\")","v":"3B"},null,null,null,"",null,"",null,"",null,"",null,null,null,null,"","",null,null,null,"","","","","","",1,null,null,"",1,null,"",1,null,"",1,null,"",1,null,{"$f":"IF(ISNUMBER(SMALL(#REF!,ROW()-2)),SMALL(#REF!,ROW()-2),\"\")","v":""},1,null,null,"",1,null,null,null,"",1,null,null,"",1,null,null,null,null,null,null,null,null,null,null,null,null,"",1,null,null,"",1,null," ",null,null,null,null,null," ",null,""]
[null,3,{"$f":"CONCATENATE(B11,\"C\")","v":"3C"},null,null,null,"",null,"",null,"",null,"",null,null,null,null,"","",null,null,null,"","","","","","",1,null,null,"",1,null,"",1,null,"",1,null,"",1,null,{"$f":"IF(ISNUMBER(SMALL(#REF!,ROW()-2)),SMALL(#REF!,ROW()-2),\"\")","v":""},1,null,null,"",1,null,null,null,"",1,null,null,"",1,null,null,null,null,null,null,null,null,null,null,null,null,"",1,null,null,"",1,null," ",null,null,null,null,null," ",null,""]
[null,"",{"$f":"CONCATENATE(B14,\"A\")","v":"4A"},null,null,null,"",null,"",null,"",null,"",null,{"$f":"IF(ISBLANK(N12),\"\",IF(N12=0,$CF$2,CG12))","v":""},{"$f":"IF(ISNUMBER(O12),IF(ISNUMBER(O12),IF(ISNUMBER(O12),O12+G12+G13+G14+I12+I13+I14+K12+K13+K14+M12+M13+M14,\"\"),\"\"),\"\")","v":""},{"$f":"IF(ISNUMBER(P12),VLOOKUP(BQ12,BS:BT,2,FALSE),\"\")","v":""},"","",null,null,null,"","","","","","",1,null,null,"",1,null,"",1,null,"",1,null,"",1,null,{"$f":"IF(ISNUMBER(SMALL(#REF!,ROW()-2)),SMALL(#REF!,ROW()-2),\"\")","v":""},1,null,{"$f":"IF(#REF!,#REF!+0,)","v":{"$error":"#REF!"}},"",1,{"$f":"IF(ISNUMBER(AU12),VLOOKUP(AU12,AV:AW,2,FALSE),\"\")","v":""},null,{"$f":"P12","v":""},"",1,{"$f":"IF(ISNUMBER(AZ12),VLOOKUP(AZ12,BA:BB,2,FALSE),\"\")","v":""},null,"",1,null,null,{"$f":"P12","v":""},{"$f":"SUM(G12,G13,G14)","v":0},{"$f":"SUM(I12,I13,I14)","v":0},{"$f":"SUM(M12,M13,M14)","v":0},{"$f":"O12","v":""},{"$f":"#REF!","v":{"$error":"#REF!"}},{"$f":"SUM(K12,K13,K14)","v":0},{"$f":"#REF!","v":{"$error":"#REF!"}},{"$f":"IF(ISNUMBER(P12),CONCATENATE(BI12+100,BJ12+100,BK12+100,BO12+100,BL12+100,BM12+100)+0,\"\")","v":""},{"$f":"IF(ISNUMBER(SMALL(BQ:BQ,ROW()-2)),SMALL(BQ:BQ,ROW()-2),\"\")","v":""},"",1,null,null,"",1,null," ",null,null,null,null,null," ",{"$f":"VLOOKUP(N12,AO:AP,2,FALSE)","v":" "},""]
[null,"",{"$f":"CONCATENATE(B14,\"B\")","v":"4B"},null,null,null,"",null,"",null,"",null,"",null,null,null,null,"","",null,null,null,"","","","","","",1,null,null,"",1,null,"",1,null,"",1,null,"",1,null,{"$f":"IF(ISNUMBER(SMALL(#REF!,ROW()-2)),SMALL(#REF!,ROW()-2),\"\")","v":""},1,null,null,"",1,null,null,null,"",1,null,null,"",1,null,null,null,null,null,null,null,null,null,null,null,null,"",1,null,null,"",1,null," ",null,null,null,null,null," ",null,""]
[null,4,{"$f":"CONCATENATE(B14,\"C\")","v":"4C"},null,null,null,"",null,"",null,"",null,"",null,null,null,null,"","",null,null,null,"","","","","","",1,null,null,"",1,null,"",1,null,"",1,null,"",1,null,{"$f":"IF(ISNUMBER(SMALL(#REF!,ROW()-2)),SMALL(#REF!,ROW()-2),\"\")","v":""},1,null,null,"",1,null,null,null,"",1,null,null,"",1,null,null,null,null,null,null,null,null,null,null,null,null,"",1,null,null,"",1,null," ",null,null,null,null,null," ",null,""]
[null,"",{"$f":"CONCATENATE(B17,\"A\")","v":"5A"},null,null,null,"",null,"",null,"",null,"",null,{"$f":"IF(ISBLANK(N15),\"\",IF(N15=0,$CF$2,CG15))","v":""},{"$f":"IF(ISNUMBER(O15),IF(ISNUMBER(O15),IF(ISNUMBER(O15),O15+G15+G16+G17+I15+I16+I17+K15+K16+K17+M15+M16+M17,\"\"),\"\"),\"\")","v":""},{"$f":"IF(ISNUMBER(P15),VLOOKUP(BQ15,BS:BT,2,FALSE),\"\")","v":""},"","",null,null,null,"","","","","","",1,null,null,"",1,null,"",1,null,"",1,null,"",1,null,{"$f":"IF(ISNUMBER(SMALL(#REF!,ROW()-2)),SMALL(#REF!,ROW()-2),\"\")","v":""},1,null,{"$f":"IF(#REF!,#REF!+0,)","v":{"$error":"#REF!"}},"",1,{"$f":"IF(ISNUMBER(AU15),VLOOKUP(AU15,AV:AW,2,FALSE),\"\")","v":""},null,{"$f":"P15","v":""},"",1,{"$f":"IF(ISNUMBER(AZ15),VLOOKUP(AZ15,BA:BB,2,FALSE),\"\")","v":""},null,"",1,null,null,{"$f":"P15","v":""},{"$f":"SUM(G15,G16,G17)","v":0},{"$f":"SUM(I15,I16,I17)","v":0},{"$f":"SUM(M15,M16,M17)","v":0},{"$f":"O15","v":""},{"$f":"#REF!","v":{"$error":"#REF!"}},{"$f":"SUM(K15,K16,K17)","v":0},{"$f":"#REF!","v":{"$error":"#REF!"}},{"$f":"IF(ISNUMBER(P15),CONCATENATE(BI15+100,BJ15+100,BK15+100,BO15+100,BL15+100,BM15+100)+0,\"\")","v":""},{"$f":"IF(ISNUMBER(SMALL(BQ:BQ,ROW()-2)),SMALL(BQ:BQ,ROW()-2),\"\")","v":""},"",1,null,null,"",1,null," ",null,null,null,null,null," ",{"$f":"VLOOKUP(N15,AO:AP,2,FALSE)","v":" "},""]
[null,"",{"$f":"CONCATENATE(B17,\"B\")","v":"5B"},null,null,null,"",null,"",null,"",null,"",null,null,null,null,"","",null,null,null,"","","","","","",1,null,null,"",1,null,"",1,null,"",1,null,"",1,null,{"$f":"IF(ISNUMBER(SMALL(#REF!,ROW()-2)),SMALL(#REF!,ROW()-2),\"\")","v":""},1,null,null,"",1,null,null,null,"",1,null,null,"",1,null,null,null,null,null,null,null,null,null,null,null,null,"",1,null,null,"",1,null," ",null,null,null,null,null," ",null,""]
[null,5,{"$f":"CONCATENATE(B17,\"C\")","v":"5C"},null,null,null,"",null,"",null,"",null,"",null,null,null,null,"","",null,null,null,"","","","","","",1,null,null,"",1,null,"",1,null,"",1,null,"",1,null,{"$f":"IF(ISNUMBER(SMALL(#REF!,ROW()-2)),SMALL(#REF!,ROW()-2),\"\")","v":""},1,null,null,"",1,null,null,null,"",1,null,null,"",1,null,null,null,null,null,null,null,null,null,null,null,null,"",1,null,null,"",1,null," ",null,null,null,null,null," ",null,""]
[null,"",{"$f":"CONCATENATE(B20,\"A\")","v":"6A"},null,null,null,"",null,"",null,"",null,"",null,{"$f":"IF(ISBLANK(N18),\"\",IF(N18=0,$CF$2,CG18))","v":""},{"$f":"IF(ISNUMBER(O18),IF(ISNUMBER(O18),IF(ISNUMBER(O18),O18+G18+G19+G20+I18+I19+I20+K18+K19+K20+M18+M19+M20,\"\"),\"\"),\"\")","v":""},{"$f":"IF(ISNUMBER(P18),VLOOKUP(BQ18,BS:BT,2,FALSE),\"\")","v":""},"","",null,null,null,"","","","","","",1,null,null,"",1,null,"",1,null,"",1,null,"",1,null,{"$f":"IF(ISNUMBER(SMALL(#REF!,ROW()-2)),SMALL(#REF!,ROW()-2),\"\")","v":""},1,null,{"$f":"IF(#REF!,#REF!+0,)","v":{"$error":"#REF!"}},"",1,{"$f":"IF(ISNUMBER(AU18),VLOOKUP(AU18,AV:AW,2,FALSE),\"\")","v":""},null,{"$f":"P18","v":""},"",1,{"$f":"IF(ISNUMBER(AZ18),VLOOKUP(AZ18,BA:BB,2,FALSE),\"\")","v":""},null,"",1,null,null,{"$f":"P18","v":""},{"$f":"SUM(G18,G19,G20)","v":0},{"$f":"SUM(I18,I19,I20)","v":0},{"$f":"SUM(M18,M19,M20)","v":0},{"$f":"O18","v":""},{"$f":"#REF!","v":{"$error":"#REF!"}},{"$f":"SUM(K18,K19,K20)","v":0},{"$f":"#REF!","v":{"$error":"#REF!"}},{"$f":"IF(ISNUMBER(P18),CONCATENATE(BI18+100,BJ18+100,BK18+100,BO18+100,BL18+100,BM18+100)+0,\"\")","v":""},{"$f":"IF(ISNUMBER(SMALL(BQ:BQ,ROW()-2)),SMALL(BQ:BQ,ROW()-2),\"\")","v":""},"",1,null,null,"",1,null," ",null,null,null,null,null," ",{"$f":"VLOOKUP(N18,AO:AP,2,FALSE)","v":" "},""]
[null,"",{"$f":"CONCATENATE(B20,\"B\")","v":"6B"},null,null,null,"",null,"",null,"",null,"",null,null,null,null,"","",null,null,null,"","","","","","",1,null,null,"",1,null,"",1,null,"",1,null,"",1,null,{"$f":"IF(ISNUMBER(SMALL(#REF!,ROW()-2)),SMALL(#REF!,ROW()-2),\"\")","v":""},1,null,null,"",1,null,null,null,"",1,null,null,"",1,null,null,null,null,null,null,null,null,null,null,null,null,"",1,null,null,"",1,null," ",null,null,null,null,null," ",null,""]
[null,6,{"$f":"CONCATENATE(B20,\"C\")","v":"6C"},null,null,null,"",null,"",null,"",null,"",null,null,null,null,"","",null,null,null,"","","","","","",1,null,null,"",1,null,"",1,null,"",1,null,"",1,null,{"$f":"IF(ISNUMBER(SMALL(#REF!,ROW()-2)),SMALL(#REF!,ROW()-2),\"\")","v":""},1,null,null,"",1,null,null,null,"",1,null,null,"",1,null,null,null,null,null,null,null,null,null,null,null,null,"",1,null,null,"",1,null," ",null,null,null,null,null," ",null,""]
[null,"",{"$f":"CONCATENATE(B23,\"A\")","v":"7A"},null,null,null,"",null,"",null,"",null,"",null,{"$f":"IF(ISBLANK(N21),\"\",IF(N21=0,$CF$2,CG21))","v":""},{"$f":"IF(ISNUMBER(O21),IF(ISNUMBER(O21),IF(ISNUMBER(O21),O21+G21+G22+G23+I21+I22+I23+K21+K22+K23+M21+M22+M23,\"\"),\"\"),\"\")","v":""},{"$f":"IF(ISNUMBER(P21),VLOOKUP(BQ21,BS:BT,2,FALSE),\"\")","v":""},"","",null,null,null,"","","","","","",1,null,null,"",1,null,"",1,null,"",1,null,"",1,null,{"$f":"IF(ISNUMBER(SMALL(#REF!,ROW()-2)),SMALL(#REF!,ROW()-2),\"\")","v":""},1,null,{"$f":"IF(#REF!,#REF!+0,)","v":{"$error":"#REF!"}},"",1,{"$f":"IF(ISNUMBER(AU21),VLOOKUP(AU21,AV:AW,2,FALSE),\"\")","v":""},null,{"$f":"P21","v":""},"",1,{"$f":"IF(ISNUMBER(AZ21),VLOOKUP(AZ21,BA:BB,2,FALSE),\"\")","v":""},null,"",1,null,null,{"$f":"P21","v":""},{"$f":"SUM(G21,G22,G23)","v":0},{"$f":"SUM(I21,I22,I23)","v":0},{"$f":"SUM(M21,M22,M23)","v":0},{"$f":"O21","v":""},{"$f":"#REF!","v":{"$error":"#REF!"}},{"$f":"SUM(K21,K22,K23)","v":0},{"$f":"#REF!","v":{"$error":"#REF!"}},{"$f":"IF(ISNUMBER(P21),CONCATENATE(BI21+100,BJ21+100,BK21+100,BO21+100,BL21+100,BM21+100)+0,\"\")","v":""},{"$f":"IF(ISNUMBER(SMALL(BQ:BQ,ROW()-2)),SMALL(BQ:BQ,ROW()-2),\"\")","v":""},"",1,null,null,"",1,null," ",null,null,null,null,null," ",{"$f":"VLOOKUP(N21,AO:AP,2,FALSE)","v":" "},""]
[null,"",{"$f":"CONCATENATE(B23,\"B\")","v":"7B"},null,null,null,"",null,"",null,"",null,"",null,null,null,null,"","",null,null,null,"","","","","","",1,null,null,"",1,null,"",1,null,"",1,null,"",1,null,{"$f":"IF(ISNUMBER(SMALL(#REF!,ROW()-2)),SMALL(#REF!,ROW()-2),\"\")","v":""},1,null,null,"",1,null,null,null,"",1,null,null,"",1,null,null,null,null,null,null,null,null,null,null,null,null,"",1,null,null,"",1,null," ",null,null,null,null,null," ",null,""]
[null,7,{"$f":"CONCATENATE(B23,\"C\")","v":"7C"},null,null,null,"",null,"",null,"",null,"",null,null,null,null,"","",null,null,null,"","","","","","",1,null,null,"",1,null,"",1,null,"",1,null,"",1,null,{"$f":"IF(ISNUMBER(SMALL(#REF!,ROW()-2)),SMALL(#REF!,ROW()-2),\"\")","v":""},1,null,null,"",1,null,null,null,"",1,null,null,"",1,null,null,null,null,null,null,null,null,null,null,null,null,"",1,null,null,"",1,null," ",null,null,null,null,null," ",null,""]
[null,"",{"$f":"CONCATENATE(B26,\"A\")","v":"8A"},null,null,null,"",null,"",null,"",null,"",null,{"$f":"IF(ISBLANK(N24),\"\",IF(N24=0,$CF$2,CG24))","v":""},{"$f":"IF(ISNUMBER(O24),IF(ISNUMBER(O24),IF(ISNUMBER(O24),O24+G24+G25+G26+I24+I25+I26+K24+K25+K26+M24+M25+M26,\"\"),\"\"),\"\")","v":""},{"$f":"IF(ISNUMBER(P24),VLOOKUP(BQ24,BS:BT,2,FALSE),\"\")","v":""},"","",null,null,null,"","","","","","",1,null,null,"",1,null,"",1,null,"",1,null,"",1,null,{"$f":"IF(ISNUMBER(SMALL(#REF!,ROW()-2)),SMALL(#REF!,ROW()-2),\"\")","v":""},1,null,{"$f":"IF(#REF!,#REF!+0,)","v":{"$error":"#REF!"}},"",1,{"$f":"IF(ISNUMBER(AU24),VLOOKUP(AU24,AV:AW,2,FALSE),\"\")","v":""},null,{"$f":"P24","v":""},"",1,{"$f":"IF(ISNUMBER(AZ24),VLOOKUP(AZ24,BA:BB,2,FALSE),\"\")","v":""},null,"",1,null,null,{"$f":"P24","v":""},{"$f":"SUM(G24,G25,G26)","v":0},{"$f":"SUM(I24,I25,I26)","v":0},{"$f":"SUM(M24,M25,M26)","v":0},{"$f":"O24","v":""},{"$f":"#REF!","v":{"$error":"#REF!"}},{"$f":"SUM(K24,K25,K26)","v":0},{"$f":"#REF!","v":{"$error":"#REF!"}},{"$f":"IF(ISNUMBER(P24),CONCATENATE(BI24+100,BJ24+100,BK24+100,BO24+100,BL24+100,BM24+100)+0,\"\")","v":""},{"$f":"IF(ISNUMBER(SMALL(BQ:BQ,ROW()-2)),SMALL(BQ:BQ,ROW()-2),\"\")","v":""},"",1,null,null,"",1,null," ",null,null,null,null,null," ",{"$f":"VLOOKUP(N24,AO:AP,2,FALSE)","v":" "},""]
[null,"",{"$f":"CONCATENATE(B26,\"B\")","v":"8B"},null,null,null,"",null,"",null,"",null,"",null,null,null,null,"","",null,null,null,"","","","","","",1,null,null,"",1,null,"",1,null,"",1,null,"",1,null,{"$f":"IF(ISNUMBER(SMALL(#REF!,ROW()-2)),SMALL(#REF!,ROW()-2),\"\")","v":""},1,null,null,"",1,null,null,null,"",1,null,null,"",1,null,null,null,null,null,null,null,null,null,null,null,null,"",1,null,null,"",1,null," ",null,null,null,null,null," ",null,""]
[null,8,{"$f":"CONCATENATE(B26,\"C\")","v":"8C"},null,null,null,"",null,"",null,"",null,"",null,null,null,null,"","",null,null,null,"","","","","","",1,null,null,"",1,null,"",1,null,"",1,null,"",1,null,{"$f":"IF(ISNUMBER(SMALL(#REF!,ROW()-2)),SMALL(#REF!,ROW()-2),\"\")","v":""},1,null,null,"",1,null,null,null,"",1,null,null,"",1,null,null,null,null,null,null,null,null,null,null,null,null,"",1,null,null,"",1,null," ",null,null,null,null,null," ",null,""]
[null,"",{"$f":"CONCATENATE(B29,\"A\")","v":"9A"},null,null,null,"",null,"",null,"",null,"",null,{"$f":"IF(ISBLANK(N27),\"\",IF(N27=0,$CF$2,CG27))","v":""},{"$f":"IF(ISNUMBER(O27),IF(ISNUMBER(O27),IF(ISNUMBER(O27),O27+G27+G28+G29+I27+I28+I29+K27+K28+K29+M27+M28+M29,\"\"),\"\"),\"\")","v":""},{"$f":"IF(ISNUMBER(P27),VLOOKUP(BQ27,BS:BT,2,FALSE),\"\")","v":""},"","",null,null,null,"","","","","","",1,null,null,"",1,null,"",1,null,"",1,null,"",1,null,{"$f":"IF(ISNUMBER(SMALL(#REF!,ROW()-2)),SMALL(#REF!,ROW()-2),\"\")","v":""},1,null,{"$f":"IF(#REF!,#REF!+0,)","v":{"$error":"#REF!"}},"",1,{"$f":"IF(ISNUMBER(AU27),VLOOKUP(AU27,AV:AW,2,FALSE),\"\")","v":""},null,{"$f":"P27","v":""},"",1,{"$f":"IF(ISNUMBER(AZ27),VLOOKUP(AZ27,BA:BB,2,FALSE),\"\")","v":""},null,"",1,null,null,{"$f":"P27","v":""},{"$f":"SUM(G27,G28,G29)","v":0},{"$f":"SUM(I27,I28,I29)","v":0},{"$f":"SUM(M27,M28,M29)","v":0},{"$f":"O27","v":""},{"$f":"#REF!","v":{"$error":"#REF!"}},{"$f":"SUM(K27,K28,K29)","v":0},{"$f":"#REF!","v":{"$error":"#REF!"}},{"$f":"IF(ISNUMBER(P27),CONCATENATE(BI27+100,BJ27+100,BK27+100,BO27+100,BL27+100,BM27+100)+0,\"\")","v":""},{"$f":"IF(ISNUMBER(SMALL(BQ:BQ,ROW()-2)),SMALL(BQ:BQ,ROW()-2),\"\")","v":""},"",1,null,null,"",1,null," ",null,null,null,null,null," ",{"$f":"VLOOKUP(N27,AO:AP,2,FALSE)","v":" "},""]
[null,"",{"$f":"CONCATENATE(B29,\"B\")","v":"9B"},null,null,null,"",null,"",null,"",null,"",null,null,null,null,"","",null,null,null,"","","","","","",1,null,null,"",1,null,"",1,null,"",1,null,"",1,null,{"$f":"IF(ISNUMBER(SMALL(#REF!,ROW()-2)),SMALL(#REF!,ROW()-2),\"\")","v":""},1,null,null,"",1,null,null,null,"",1,null,null,"",1,null,null,null,null,null,null,null,null,null,null,null,null,"",1,null,null,"",1,null," ",null,null,null,null,null," ",null,""]
[null,9,{"$f":"CONCATENATE(B29,\"C\")","v":"9C"},null,null,null,"",null,"",null,"",null,"",null,null,null,null,"","",null,null,null,"","","","","","",1,null,null,"",1,null,"",1,null,"",1,null,"",1,null,{"$f":"IF(ISNUMBER(SMALL(#REF!,ROW()-2)),SMALL(#REF!,ROW()-2),\"\")","v":""},1,null,null,"",1,null,null,null,"",1,null,null,"",1,null,null,null,null,null,null,null,null,null,null,null,null,"",1,null,null,"",1,null," ",null,null,null,null,null," ",null,""]
[null,"",{"$f":"CONCATENATE(B32,\"A\")","v":"10A"},null,null,null,"",null,"",null,"",null,"",null,{"$f":"IF(ISBLANK(N30),\"\",IF(N30=0,$CF$2,CG30))","v":""},{"$f":"IF(ISNUMBER(O30),IF(ISNUMBER(O30),IF(ISNUMBER(O30),O30+G30+G31+G32+I30+I31+I32+K30+K31+K32+M30+M31+M32,\"\"),\"\"),\"\")","v":""},{"$f":"IF(ISNUMBER(P30),VLOOKUP(BQ30,BS:BT,2,FALSE),\"\")","v":""},"","",null,null,null,"","","","","","",1,null,null,"",1,null,"",1,null,"",1,null,"",1,null,{"$f":"IF(ISNUMBER(SMALL(#REF!,ROW()-2)),SMALL(#REF!,ROW()-2),\"\")","v":""},1,null,{"$f":"IF(#REF!,#REF!+0,)","v":{"$error":"#REF!"}},"",1,{"$f":"IF(ISNUMBER(AU30),VLOOKUP(AU30,AV:AW,2,FALSE),\"\")","v":""},null,{"$f":"P30","v":""},"",1,{"$f":"IF(ISNUMBER(AZ30),VLOOKUP(AZ30,BA:BB,2,FALSE),\"\")","v":""},null,"",1,null,null,{"$f":"P30","v":""},{"$f":"SUM(G30,G31,G32)","v":0},{"$f":"SUM(I30,I31,I32)","v":0},{"$f":"SUM(M30,M31,M32)","v":0},{"$f":"O30","v":""},{"$f":"#REF!","v":{"$error":"#REF!"}},{"$f":"SUM(K30,K31,K32)","v":0},{"$f":"#REF!","v":{"$error":"#REF!"}},{"$f":"IF(ISNUMBER(P30),CONCATENATE(BI30+100,BJ30+100,BK30+100,BO30+100,BL30+100,BM30+100)+0,\"\")","v":""},{"$f":"IF(ISNUMBER(SMALL(BQ:BQ,ROW()-2)),SMALL(BQ:BQ,ROW()-2),\"\")","v":""},"",1,null,null,"",1,null," ",null,null,null,null,null," ",{"$f":"VLOOKUP(N30,AO:AP,2,FALSE)","v":" "},""]
[null,"",{"$f":"CONCATENATE(B32,\"B\")","v":"10B"},null,null,null,"",null,"",null,"",null,"",null,null,null,null,"","",null,null,null,"","","","","","",1,null,null,"",1,null,"",1,null,"",1,null,"",1,null,{"$f":"IF(ISNUMBER(SMALL(#REF!,ROW()-2)),SMALL(#REF!,ROW()-2),\"\")","v":""},1,null,null,"",1,null,null,null,"",1,null,null,"",1,null,null,null,null,null,null,null,null,null,null,null,null,"",1,null,null,"",1,null," ",null,null,null,null,null," ",null,""]
[null,10,{"$f":"CONCATENATE(B32,\"C\")","v":"10C"},null,null,null,"",null,"",null,"",null,"",null,null,null,null,"","",null,null,null,"","","","","","",1,null,null,"",1,null,"",1,null,"",1,null,"",1,null,{"$f":"IF(ISNUMBER(SMALL(#REF!,ROW()-2)),SMALL(#REF!,ROW()-2),\"\")","v":""},1,null,null,"",1,null,null,null,"",1,null,null,"",1,null,null,null,null,null,null,null,null,null,null,null,null,"",1,null,null,"",1,null," ",null,null,null,null,null," ",null,""]
[null,"",{"$f":"CONCATENATE(B35,\"A\")","v":"11A"},null,null,null,"",null,"",null,"",null,"",null,{"$f":"IF(ISBLANK(N33),\"\",IF(N33=0,$CF$2,CG33))","v":""},{"$f":"IF(ISNUMBER(O33),IF(ISNUMBER(O33),IF(ISNUMBER(O33),O33+G33+G34+G35+I33+I34+I35+K33+K34+K35+M33+M34+M35,\"\"),\"\"),\"\")","v":""},{"$f":"IF(ISNUMBER(P33),VLOOKUP(BQ33,BS:BT,2,FALSE),\"\")","v":""},"","",null,null,null,"","","","","","",1,null,null,"",1,null,"",1,null,"",1,null,"",1,null,{"$f":"IF(ISNUMBER(SMALL(#REF!,ROW()-2)),SMALL(#REF!,ROW()-2),\"\")","v":""},1,null,{"$f":"IF(#REF!,#REF!+0,)","v":{"$error":"#REF!"}},"",1,{"$f":"IF(ISNUMBER(AU33),VLOOKUP(AU33,AV:AW,2,FALSE),\"\")","v":""},null,{"$f":"P33","v":""},"",1,{"$f":"IF(ISNUMBER(AZ33),VLOOKUP(AZ33,BA:BB,2,FALSE),\"\")","v":""},null,"",1,null,null,{"$f":"P33","v":""},{"$f":"SUM(G33,G34,G35)","v":0},{"$f":"SUM(I33,I34,I35)","v":0},{"$f":"SUM(M33,M34,M35)","v":0},{"$f":"O33","v":""},{"$f":"#REF!","v":{"$error":"#REF!"}},{"$f":"SUM(K33,K34,K35)","v":0},{"$f":"#REF!","v":{"$error":"#REF!"}},{"$f":"IF(ISNUMBER(P33),CONCATENATE(BI33+100,BJ33+100,BK33+100,BO33+100,BL33+100,BM33+100)+0,\"\")","v":""},{"$f":"IF(ISNUMBER(SMALL(BQ:BQ,ROW()-2)),SMALL(BQ:BQ,ROW()-2),\"\")","v":""},"",1,null,null,"",1,null," ",null,null,null,null,null," ",{"$f":"VLOOKUP(N33,AO:AP,2,FALSE)","v":" "},""]
[null,"",{"$f":"CONCATENATE(B35,\"B\")","v":"11B"},null,null,null,"",null,"",null,"",null,"",null,null,null,null,"","",null,null,null,"","","","","","",1,null,null,"",1,null,"",1,null,"",1,null,"",1,null,{"$f":"IF(ISNUMBER(SMALL(#REF!,ROW()-2)),SMALL(#REF!,ROW()-2),\"\")","v":""},1,null,null,"",1,null,null,null,"",1,null,null,"",1,null,null,null,null,null,null,null,null,null,null,null,null,"",1,null,null,"",1,null," ",null,null,null,null,null," ",null,""]
[null,11,{"$f":"CONCATENATE(B35,\"C\")","v":"11C"},null,null,null,{"$f":"IF(ISBLANK(F35),\"\",IF(F35=0,$CE$2,CF35))","v":""},null,"",null,"",null,{"$f":"IF(ISNUMBER(L35),VLOOKUP(L35,AL:AM,2,FALSE),\"\")","v":""},null,null,null,null,"","",null,null,null,"","","","","","",1,null,null,{"$f":"IF(ISNUMBER(LARGE(F:F,ROW()-2)),LARGE(F:F,ROW()-2),\"\")","v":""},1,null,{"$f":"IF(ISNUMBER(SMALL(J:J,ROW()-2)),SMALL(J:J,ROW()-2),\"\")","v":""},1,null,{"$f":"IF(ISNUMBER(SMALL(L:L,ROW()-2)),SMALL(L:L,ROW()-2),\"\")","v":""},1,null,{"$f":"IF(ISNUMBER(LARGE(N:N,ROW()-2)),LARGE(N:N,ROW()-2),\"\")","v":""},1,null,{"$f":"IF(ISNUMBER(SMALL(#REF!,ROW()-2)),SMALL(#REF!,ROW()-2),\"\")","v":""},1,null,null,{"$f":"IF(ISNUMBER(LARGE(AU:AU,ROW()-2)),LARGE(AU:AU,ROW()-2),\"\")","v":""},1,null,null,null,{"$f":"IF(ISNUMBER(SMALL(P:P,ROW()-2)),SMALL(P:P,ROW()-2),\"\")","v":""},1,null,null,"",1,null,null,null,null,null,null,null,null,null,null,null,null,"",1,null,null,{"$f":"IF(ISNUMBER(LARGE(H:H,ROW()-2)),LARGE(H:H,ROW()-2),\"\")","v":""},1,null," ",null,null,null,null,null," ",null,""]
[null,"",{"$f":"CONCATENATE(B38,\"A\")","v":"12A"},null,null,null,"",null,"",null,"",null,"",null,{"$f":"IF(ISBLANK(N36),\"\",IF(N36=0,$CF$2,CG36))","v":""},{"$f":"IF(ISNUMBER(O36),IF(ISNUMBER(O36),IF(ISNUMBER(O36),O36+G36+G37+G38+I36+I37+I38+K36+K37+K38+M36+M37+M38,\"\"),\"\"),\"\")","v":""},{"$f":"IF(ISNUMBER(P36),VLOOKUP(BQ36,BS:BT,2,FALSE),\"\")","v":""},"","",null,null,null,"","","","","","",1,null,null,"",{"$f":"IF(AF35<>AF36,AG35+1,AG35)","v":1},null,"",1,null,"",1,null,"",1,null,{"$f":"IF(ISNUMBER(SMALL(#REF!,ROW()-2)),SMALL(#REF!,ROW()-2),\"\")","v":""},1,null,{"$f":"IF(#REF!,#REF!+0,)","v":{"$error":"#REF!"}},"",1,{"$f":"IF(ISNUMBER(AU36),VLOOKUP(AU36,AV:AW,2,FALSE),\"\")","v":""},null,{"$f":"P36","v":""},"",1,{"$f":"IF(ISNUMBER(AZ36),VLOOKUP(AZ36,BA:BB,2,FALSE),\"\")","v":""},null,"",1,null,null,{"$f":"P36","v":""},{"$f":"SUM(G36,G37,G38)","v":0},{"$f":"SUM(I36,I37,I38)","v":0},{"$f":"SUM(M36,M37,M38)","v":0},{"$f":"O36","v":""},{"$f":"#REF!","v":{"$error":"#REF!"}},{"$f":"SUM(K36,K37,K38)","v":0},{"$f":"#REF!","v":{"$error":"#REF!"}},{"$f":"IF(ISNUMBER(P36),CONCATENATE(BI36+100,BJ36+100,BK36+100,BO36+100,BL36+100,BM36+100)+0,\"\")","v":""},{"$f":"IF(ISNUMBER(SMALL(BQ:BQ,ROW()-2)),SMALL(BQ:BQ,ROW()-2),\"\")","v":""},"",1,null,null,"",1,null," ",null,null,null,null,null," ",{"$f":"VLOOKUP(N36,AO:AP,2,FALSE)","v":" "},""]
[null,"",{"$f":"CONCATENATE(B38,\"B\")","v":"12B"},null,null,null,"",null,"",null,"",null,"",null,null,null,null,"","",null,null,null,"","","","","","",1,null,null,"",1,null,"",1,null,"",1,null,"",1,null,{"$f":"IF(ISNUMBER(SMALL(#REF!,ROW()-2)),SMALL(#REF!,ROW()-2),\"\")","v":""},1,null,null,"",1,null,null,null,"",1,null,null,"",1,null,null,null,null,null,null,null,null,null,null,null,null,"",1,null,null,"",1,null," ",null,null,null,null,null," ",null,""]
[null,12,{"$f":"CONCATENATE(B38,\"C\")","v":"12C"},null,null,null,"",null,"",null,"",null,"",null,null,null,null,"","",null,null,null,"","","","","","",1,null,null,"",1,null,"",1,null,"",1,null,"",1,null,{"$f":"IF(ISNUMBER(SMALL(#REF!,ROW()-2)),SMALL(#REF!,ROW()-2),\"\")","v":""},1,null,null,"",1,null,null,null,"",1,null,null,"",1,null,null,null,null,null,null,null,null,null,null,null,null,"",1,null,null,"",1,null," ",null,null,null,null,null," ",null,""]
[null,"",{"$f":"CONCATENATE(B41,\"A\")","v":"13A"},null,null,null,"",null,"",null,"",null,"",null,{"$f":"IF(ISBLANK(N39),\"\",IF(N39=0,$CF$2,CG39))","v":""},{"$f":"IF(ISNUMBER(O39),IF(ISNUMBER(O39),IF(ISNUMBER(O39),O39+G39+G40+G41+I39+I40+I41+K39+K40+K41+M39+M40+M41,\"\"),\"\"),\"\")","v":""},{"$f":"IF(ISNUMBER(P39),VLOOKUP(BQ39,BS:BT,2,FALSE),\"\")","v":""},"","",null,null,null,"","","","","","",1,null,null,"",1,null,"",1,null,"",1,null,"",1,null,{"$f":"IF(ISNUMBER(SMALL(#REF!,ROW()-2)),SMALL(#REF!,ROW()-2),\"\")","v":""},1,null,{"$f":"IF(#REF!,#REF!+0,)","v":{"$error":"#REF!"}},"",1,{"$f":"IF(ISNUMBER(AU39),VLOOKUP(AU39,AV:AW,2,FALSE),\"\")","v":""},null,{"$f":"P39","v":""},"",1,{"$f":"IF(ISNUMBER(AZ39),VLOOKUP(AZ39,BA:BB,2,FALSE),\"\")","v":""},null,"",1,null,null,{"$f":"P39","v":""},{"$f":"SUM(G39,G40,G41)","v":0},{"$f":"SUM(I39,I40,I41)","v":0},{"$f":"SUM(M39,M40,M41)","v":0},{"$f":"O39","v":""},{"$f":"#REF!","v":{"$error":"#REF!"}},{"$f":"SUM(K39,K40,K41)","v":0},{"$f":"#REF!","v":{"$error":"#REF!"}},{"$f":"IF(ISNUMBER(P39),CONCATENATE(BI39+100,BJ39+100,BK39+100,BO39+100,BL39+100,BM39+100)+0,\"\")","v":""},{"$f":"IF(ISNUMBER(SMALL(BQ:BQ,ROW()-2)),SMALL(BQ:BQ,ROW()-2),\"\")","v":""},"",1,null,null,"",1,null," ",null,null,null,null,null," ",{"$f":"VLOOKUP(N39,AO:AP,2,FALSE)","v":" "},""]
[null,"",{"$f":"CONCATENATE(B41,\"B\")","v":"13B"},null,null,null,"",null,"",null,"",null,"",null,null,null,null,"","",null,null,null,"","","","","","",1,null,null,"",1,null,"",1,null,"",1,null,"",1,null,{"$f":"IF(ISNUMBER(SMALL(#REF!,ROW()-2)),SMALL(#REF!,ROW()-2),\"\")","v":""},1,null,null,"",1,null,null,null,"",1,null,null,"",1,null,null,null,null,null,null,null,null,null,null,null,null,"",1,null,null,"",1,null," ",null,null,null,null,null," ",null,""]
[null,13,{"$f":"CONCATENATE(B41,\"C\")","v":"13C"},null,null,null,"",null,"",null,"",null,"",null,null,null,null,"","",null,null,null,"","","","","","",1,null,null,"",1,null,"",1,null,"",1,null,"",1,null,{"$f":"IF(ISNUMBER(SMALL(#REF!,ROW()-2)),SMALL(#REF!,ROW()-2),\"\")","v":""},1,null,null,"",1,null,null,null,"",1,null,null,"",1,null,null,null,null,null,null,null,null,null,null,null,null,"",1,null,null,"",1,null," ",null,null,null,null,null," ",null,""]
[null,"",{"$f":"CONCATENATE(B44,\"A\")","v":"14A"},null,null,null,"",null,"",null,"",null,"",null,{"$f":"IF(ISBLANK(N42),\"\",IF(N42=0,$CF$2,CG42))","v":""},{"$f":"IF(ISNUMBER(O42),IF(ISNUMBER(O42),IF(ISNUMBER(O42),O42+G42+G43+G44+I42+I43+I44+K42+K43+K44+M42+M43+M44,\"\"),\"\"),\"\")","v":""},{"$f":"IF(ISNUMBER(P42),VLOOKUP(BQ42,BS:BT,2,FALSE),\"\")","v":""},"","",null,null,null,"","","","","","",1,null,null,"",1,null,"",1,null,"",1,null,"",1,null,{"$f":"IF(ISNUMBER(SMALL(#REF!,ROW()-2)),SMALL(#REF!,ROW()-2),\"\")","v":""},1,null,{"$f":"IF(#REF!,#REF!+0,)","v":{"$error":"#REF!"}},"",1,{"$f":"IF(ISNUMBER(AU42),VLOOKUP(AU42,AV:AW,2,FALSE),\"\")","v":""},null,{"$f":"P42","v":""},"",1,{"$f":"IF(ISNUMBER(AZ42),VLOOKUP(AZ42,BA:BB,2,FALSE),\"\")","v":""},null,"",1,null,null,{"$f":"P42","v":""},{"$f":"SUM(G42,G43,G44)","v":0},{"$f":"SUM(I42,I43,I44)","v":0},{"$f":"SUM(M42,M43,M44)","v":0},{"$f":"O42","v":""},{"$f":"#REF!","v":{"$error":"#REF!"}},{"$f":"SUM(K42,K43,K44)","v":0},{"$f":"#REF!","v":{"$error":"#REF!"}},{"$f":"IF(ISNUMBER(P42),CONCATENATE(BI42+100,BJ42+100,BK42+100,BO42+100,BL42+100,BM42+100)+0,\"\")","v":""},{"$f":"IF(ISNUMBER(SMALL(BQ:BQ,ROW()-2)),SMALL(BQ:BQ,ROW()-2),\"\")","v":""},"",1,null,null,"",1,null," ",null,null,null,null,null," ",{"$f":"VLOOKUP(N42,AO:AP,2,FALSE)","v":" "},""]
[null,"",{"$f":"CONCATENATE(B44,\"B\")","v":"14B"},null,null,null,"",null,"",null,"",null,"",null,null,null,null,"","",null,null,null,"","","","","","",1,null,null,"",1,null,"",1,null,"",1,null,"",1,null,{"$f":"IF(ISNUMBER(SMALL(#REF!,ROW()-2)),SMALL(#REF!,ROW()-2),\"\")","v":""},1,null,null,"",1,null,null,null,"",1,null,null,"",1,null,null,null,null,null,null,null,null,null,null,null,null,"",1,null,null,"",1,null," ",null,null,null,null,null," ",null,""]
[null,14,{"$f":"CONCATENATE(B44,\"C\")","v":"14C"},null,null,null,"",null,"",null,"",null,"",null,null,null,null,"","",null,null,null,"","","","","","",1,null,null,"",1,null,"",1,null,"",1,null,"",1,null,{"$f":"IF(ISNUMBER(SMALL(#REF!,ROW()-2)),SMALL(#REF!,ROW()-2),\"\")","v":""},1,null,null,"",1,null,null,null,"",1,null,null,"",1,null,null,null,null,null,null,null,null,null,null,null,null,"",1,null,null,"",1,null," ",null,null,null,null,null," ",null,""]
[null,"",{"$f":"CONCATENATE(B47,\"A\")","v":"15A"},null,null,null,"",null,"",null,"",null,"",null,{"$f":"IF(ISBLANK(N45),\"\",IF(N45=0,$CF$2,CG45))","v":""},{"$f":"IF(ISNUMBER(O45),IF(ISNUMBER(O45),IF(ISNUMBER(O45),O45+G45+G46+G47+I45+I46+I47+K45+K46+K47+M45+M46+M47,\"\"),\"\"),\"\")","v":""},{"$f":"IF(ISNUMBER(P45),VLOOKUP(BQ45,BS:BT,2,FALSE),\"\")","v":""},"","",null,null,null,"","","","","","",1,null,null,"",1,null,"",1,null,"",1,null,"",1,null,{"$f":"IF(ISNUMBER(SMALL(#REF!,ROW()-2)),SMALL(#REF!,ROW()-2),\"\")","v":""},1,null,{"$f":"IF(#REF!,#REF!+0,)","v":{"$error":"#REF!"}},"",1,{"$f":"IF(ISNUMBER(AU45),VLOOKUP(AU45,AV:AW,2,FALSE),\"\")","v":""},null,{"$f":"P45","v":""},"",1,{"$f":"IF(ISNUMBER(AZ45),VLOOKUP(AZ45,BA:BB,2,FALSE),\"\")","v":""},null,"",1,null,null,{"$f":"P45","v":""},{"$f":"SUM(G45,G46,G47)","v":0},{"$f":"SUM(I45,I46,I47)","v":0},{"$f":"SUM(M45,M46,M47)","v":0},{"$f":"O45","v":""},{"$f":"#REF!","v":{"$error":"#REF!"}},{"$f":"SUM(K45,K46,K47)","v":0},{"$f":"#REF!","v":{"$error":"#REF!"}},{"$f":"IF(ISNUMBER(P45),CONCATENATE(BI45+100,BJ45+100,BK45+100,BO45+100,BL45+100,BM45+100)+0,\"\")","v":""},{"$f":"IF(ISNUMBER(SMALL(BQ:BQ,ROW()-2)),SMALL(BQ:BQ,ROW()-2),\"\")","v":""},"",1,null,null,"",1,null," ",null,null,null,null,null," ",{"$f":"VLOOKUP(N45,AO:AP,2,FALSE)","v":" "},""]
[null,"",{"$f":"CONCATENATE(B47,\"B\")","v":"15B"},null,null,null,"",null,"",null,"",null,"",null,null,null,null,"","",null,null,null,"","","","","","",1,null,null,"",1,null,"",1,null,"",1,null,"",1,null,{"$f":"IF(ISNUMBER(SMALL(#REF!,ROW()-2)),SMALL(#REF!,ROW()-2),\"\")","v":""},1,null,null,"",1,null,null,null,"",1,null,null,"",1,null,null,null,null,null,null,null,null,null,null,null,null,"",1,null,null,"",1,null," ",null,null,null,null,null," ",null,""]
[null,15,{"$f":"CONCATENATE(B47,\"C\")","v":"15C"},null,null,null,"",null,"",null,"",null,"",null,null,null,null,"","",null,null,null,"","","","","","",1,null,null,"",1,null,"",1,null,"",1,null,"",1,null,{"$f":"IF(ISNUMBER(SMALL(#REF!,ROW()-2)),SMALL(#REF!,ROW()-2),\"\")","v":""},1,null,null,"",1,null,null,null,"",1,null,null,"",1,null,null,null,null,null,null,null,null,null,null,null,null,"",1,null,null,"",1,null," ",null,null,null,null,null," ",null,""]
[null,"",{"$f":"CONCATENATE(B50,\"A\")","v":"16A"},null,null,null,"",null,"",null,"",null,"",null,{"$f":"IF(ISBLANK(N48),\"\",IF(N48=0,$CF$2,CG48))","v":""},{"$f":"IF(ISNUMBER(O48),IF(ISNUMBER(O48),IF(ISNUMBER(O48),O48+G48+G49+G50+I48+I49+I50+K48+K49+K50+M48+M49+M50,\"\"),\"\"),\"\")","v":""},{"$f":"IF(ISNUMBER(P48),VLOOKUP(BQ48,BS:BT,2,FALSE),\"\")","v":""},"","",null,null,null,"","","","","","",1,null,null,"",1,null,"",1,null,"",1,null,"",1,null,{"$f":"IF(ISNUMBER(SMALL(#REF!,ROW()-2)),SMALL(#REF!,ROW()-2),\"\")","v":""},1,null,{"$f":"IF(#REF!,#REF!+0,)","v":{"$error":"#REF!"}},"",1,{"$f":"IF(ISNUMBER(AU48),VLOOKUP(AU48,AV:AW,2,FALSE),\"\")","v":""},null,{"$f":"P48","v":""},"",1,{"$f":"IF(ISNUMBER(AZ48),VLOOKUP(AZ48,BA:BB,2,FALSE),\"\")","v":""},null,"",1,null,null,{"$f":"P48","v":""},{"$f":"SUM(G48,G49,G50)","v":0},{"$f":"SUM(I48,I49,I50)","v":0},{"$f":"SUM(M48,M49,M50)","v":0},{"$f":"O48","v":""},{"$f":"#REF!","v":{"$error":"#REF!"}},{"$f":"SUM(K48,K49,K50)","v":0},{"$f":"#REF!","v":{"$error":"#REF!"}},{"$f":"IF(ISNUMBER(P48),CONCATENATE(BI48+100,BJ48+100,BK48+100,BO48+100,BL48+100,BM48+100)+0,\"\")","v":""},{"$f":"IF(ISNUMBER(SMALL(BQ:BQ,ROW()-2)),SMALL(BQ:BQ,ROW()-2),\"\")","v":""},"",1,null,null,"",1,null," ",null,null,null,null,null," ",{"$f":"VLOOKUP(N48,AO:AP,2,FALSE)","v":" "},""]
[null,"",{"$f":"CONCATENATE(B50,\"B\")","v":"16B"},null,null,null,"",null,"",null,"",null,"",null,null,null,null,"","",null,null,null,"","","","","","",1,null,null,"",1,null,"",1,null,"",1,null,"",1,null,{"$f":"IF(ISNUMBER(SMALL(#REF!,ROW()-2)),SMALL(#REF!,ROW()-2),\"\")","v":""},1,null,null,"",1,null,null,null,"",1,null,null,"",1,null,null,null,null,null,null,null,null,null,null,null,null,"",1,null,null,"",1,null," ",null,null,null,null,null," ",null,""]
[null,16,{"$f":"CONCATENATE(B50,\"C\")","v":"16C"},null,null,null,"",null,"",null,"",null,"",null,null,null,null,"","",null,null,null,"","","","","","",1,null,null,"",1,null,"",1,null,"",1,null,"",1,null,{"$f":"IF(ISNUMBER(SMALL(#REF!,ROW()-2)),SMALL(#REF!,ROW()-2),\"\")","v":""},1,null,null,"",1,null,null,null,"",1,null,null,"",1,null,null,null,null,null,null,null,null,null,null,null,null,"",1,null,null,"",1,null," ",null,null,null,null,null," ",null,""]
[null,"",{"$f":"CONCATENATE(B53,\"A\")","v":"17A"},null,null,null,"",null,"",null,"",null,"",null,{"$f":"IF(ISBLANK(N51),\"\",IF(N51=0,$CF$2,CG51))","v":""},{"$f":"IF(ISNUMBER(O51),IF(ISNUMBER(O51),IF(ISNUMBER(O51),O51+G51+G52+G53+I51+I52+I53+K51+K52+K53+M51+M52+M53,\"\"),\"\"),\"\")","v":""},{"$f":"IF(ISNUMBER(P51),VLOOKUP(BQ51,BS:BT,2,FALSE),\"\")","v":""},"","",null,null,null,"","","","","","",1,null,null,"",1,null,"",1,null,"",1,null,"",1,null,{"$f":"IF(ISNUMBER(SMALL(#REF!,ROW()-2)),SMALL(#REF!,ROW()-2),\"\")","v":""},1,null,{"$f":"IF(#REF!,#REF!+0,)","v":{"$error":"#REF!"}},"",1,{"$f":"IF(ISNUMBER(AU51),VLOOKUP(AU51,AV:AW,2,FALSE),\"\")","v":""},null,{"$f":"P51","v":""},"",1,{"$f":"IF(ISNUMBER(AZ51),VLOOKUP(AZ51,BA:BB,2,FALSE),\"\")","v":""},null,"",1,null,null,{"$f":"P51","v":""},{"$f":"SUM(G51,G52,G53)","v":0},{"$f":"SUM(I51,I52,I53)","v":0},{"$f":"SUM(M51,M52,M53)","v":0},{"$f":"O51","v":""},{"$f":"#REF!","v":{"$error":"#REF!"}},{"$f":"SUM(K51,K52,K53)","v":0},{"$f":"#REF!","v":{"$error":"#REF!"}},{"$f":"IF(ISNUMBER(P51),CONCATENATE(BI51+100,BJ51+100,BK51+100,BO51+100,BL51+100,BM51+100)+0,\"\")","v":""},{"$f":"IF(ISNUMBER(SMALL(BQ:BQ,ROW()-2)),SMALL(BQ:BQ,ROW()-2),\"\")","v":""},"",1,null,null,"",1,null," ",null,null,null,null,null," ",{"$f":"VLOOKUP(N51,AO:AP,2,FALSE)","v":" "},""]
[null,"",{"$f":"CONCATENATE(B53,\"B\")","v":"17B"},null,null,null,"",null,"",null,"",null,"",null,null,null,null,"","",null,null,null,"","","","","","",1,null,null,"",1,null,"",1,null,"",1,null,"",1,null,{"$f":"IF(ISNUMBER(SMALL(#REF!,ROW()-2)),SMALL(#REF!,ROW()-2),\"\")","v":""},1,null,null,"",1,null,null,null,"",1,null,null,"",1,null,null,null,null,null,null,null,null,null,null,null,null,"",1,null,null,"",1,null," ",null,null,null,null,null," ",null,""]
[null,17,{"$f":"CONCATENATE(B53,\"C\")","v":"17C"},null,null,null,"",null,"",null,"",null,"",null,null,null,null,"","",null,null,null,"","","","","","",1,null,null,"",1,null,"",1,null,"",1,null,"",1,null,{"$f":"IF(ISNUMBER(SMALL(#REF!,ROW()-2)),SMALL(#REF!,ROW()-2),\"\")","v":""},1,null,null,"",1,null,null,null,"",1,null,null,"",1,null,null,null,null,null,null,null,null,null,null,null,null,"",1,null,null,"",1,null," ",null,null,null,null,null," ",null,""]
[null,"",{"$f":"CONCATENATE(B56,\"A\")","v":"18A"},null,null,null,"",null,"",null,"",null,"",null,{"$f":"IF(ISBLANK(N54),\"\",IF(N54=0,$CF$2,CG54))","v":""},{"$f":"IF(ISNUMBER(O54),IF(ISNUMBER(O54),IF(ISNUMBER(O54),O54+G54+G55+G56+I54+I55+I56+K54+K55+K56+M54+M55+M56,\"\"),\"\"),\"\")","v":""},{"$f":"IF(ISNUMBER(P54),VLOOKUP(BQ54,BS:BT,2,FALSE),\"\")","v":""},"","",null,null,null,"","","","","","",1,null,null,"",1,null,"",1,null,"",1,null,"",1,null,{"$f":"IF(ISNUMBER(SMALL(#REF!,ROW()-2)),SMALL(#REF!,ROW()-2),\"\")","v":""},1,null,{"$f":"IF(#REF!,#REF!+0,)","v":{"$error":"#REF!"}},"",1,{"$f":"IF(ISNUMBER(AU54),VLOOKUP(AU54,AV:AW,2,FALSE),\"\")","v":""},null,{"$f":"P54","v":""},"",1,{"$f":"IF(ISNUMBER(AZ54),VLOOKUP(AZ54,BA:BB,2,FALSE),\"\")","v":""},null,"",1,null,null,{"$f":"P54","v":""},{"$f":"SUM(G54,G55,G56)","v":0},{"$f":"SUM(I54,I55,I56)","v":0},{"$f":"SUM(M54,M55,M56)","v":0},{"$f":"O54","v":""},{"$f":"#REF!","v":{"$error":"#REF!"}},{"$f":"SUM(K54,K55,K56)","v":0},{"$f":"#REF!","v":{"$error":"#REF!"}},{"$f":"IF(ISNUMBER(P54),CONCATENATE(BI54+100,BJ54+100,BK54+100,BO54+100,BL54+100,BM54+100)+0,\"\")","v":""},{"$f":"IF(ISNUMBER(SMALL(BQ:BQ,ROW()-2)),SMALL(BQ:BQ,ROW()-2),\"\")","v":""},"",1,null,null,"",1,null," ",null,null,null,null,null," ",{"$f":"VLOOKUP(N54,AO:AP,2,FALSE)","v":" "},""]
[null,"",{"$f":"CONCATENATE(B56,\"B\")","v":"18B"},null,null,null,"",null,"",null,"",null,"",null,null,null,null,"","",null,null,null,"","","","","","",1,null,null,"",1,null,"",1,null,"",1,null,"",1,null,{"$f":"IF(ISNUMBER(SMALL(#REF!,ROW()-2)),SMALL(#REF!,ROW()-2),\"\")","v":""},1,null,null,"",null,null,null,null,"",1,null,null,"",1,null,null,null,null,null,null,null,null,null,null,null,null,"",1,null,null,"",1,null," ",null,null,null,null,null," ",null,""]
[null,18,{"$f":"CONCATENATE(B56,\"C\")","v":"18C"},null,null,null,"",null,"",null,"",null,"",null,null,null,null,"","",null,null,null,"","","","","","",1,null,null,"",1,null,"",1,null,"",1,null,"",1,null,{"$f":"IF(ISNUMBER(SMALL(#REF!,ROW()-2)),SMALL(#REF!,ROW()-2),\"\")","v":""},1,null,null,"",null,null,null,null,"",1,null,null,"",1,null,null,null,null,null,null,null,null,null,null,null,null,"",1,null,null,"",1,null," ",null,null,null,null,null," ",null,""]
[null,"",{"$f":"CONCATENATE(B59,\"A\")","v":"19A"},null,null,null,"",null,"",null,"",null,"",null,{"$f":"IF(ISBLANK(N57),\"\",IF(N57=0,$CF$2,CG57))","v":""},{"$f":"IF(ISNUMBER(O57),IF(ISNUMBER(O57),IF(ISNUMBER(O57),O57+G57+G58+G59+I57+I58+I59+K57+K58+K59+M57+M58+M59,\"\"),\"\"),\"\")","v":""},{"$f":"IF(ISNUMBER(P57),VLOOKUP(BQ57,BS:BT,2,FALSE),\"\")","v":""},"","",null,null,null,"","","","","","",1,null,null,"",1,null,"",1,null,"",1,null,"",1,null,{"$f":"IF(ISNUMBER(SMALL(#REF!,ROW()-2)),SMALL(#REF!,ROW()-2),\"\")","v":""},1,null,{"$f":"IF(#REF!,#REF!+0,)","v":{"$error":"#REF!"}},"",null,{"$f":"IF(ISNUMBER(AU57),VLOOKUP(AU57,AV:AW,2,FALSE),\"\")","v":""},null,{"$f":"P57","v":""},"",1,{"$f":"IF(ISNUMBER(AZ57),VLOOKUP(AZ57,BA:BB,2,FALSE),\"\")","v":""},null,"",1,null,null,{"$f":"P57","v":""},{"$f":"SUM(G57,G58,G59)","v":0},{"$f":"SUM(I57,I58,I59)","v":0},{"$f":"SUM(M57,M58,M59)","v":0},{"$f":"O57","v":""},{"$f":"#REF!","v":{"$error":"#REF!"}},{"$f":"SUM(K57,K58,K59)","v":0},{"$f":"#REF!","v":{"$error":"#REF!"}},{"$f":"IF(ISNUMBER(P57),CONCATENATE(BI57+100,BJ57+100,BK57+100,BO57+100,BL57+100,BM57+100)+0,\"\")","v":""},{"$f":"IF(ISNUMBER(SMALL(BQ:BQ,ROW()-2)),SMALL(BQ:BQ,ROW()-2),\"\")","v":""},"",1,null,null,"",1,null," ",null,null,null,null,null," ",{"$f":"VLOOKUP(N57,AO:AP,2,FALSE)","v":" "},""]
[null,"",{"$f":"CONCATENATE(B59,\"B\")","v":"19B"},null,null,null,"",null,"",null,"",null,"",null,null,null,null,"","",null,null,null,"","","","","","",1,null,null,"",1,null,"",1,null,"",1,null,"",1,null,{"$f":"IF(ISNUMBER(SMALL(#REF!,ROW()-2)),SMALL(#REF!,ROW()-2),\"\")","v":""},1,null,null,"",null,null,null,null,"",1,null,null,"",1,null,null,null,null,null,null,null,null,null,null,null,null,"",1,null,null,"",1,null," ",null,null,null,null,null," ",null,""]
[null,19,{"$f":"CONCATENATE(B59,\"C\")","v":"19C"},null,null,null,"",null,"",null,"",null,"",null,null,null,null,"","",null,null,null,"","","","","","",1,null,null,"",1,null,"",1,null,"",1,null,"",1,null,{"$f":"IF(ISNUMBER(SMALL(#REF!,ROW()-2)),SMALL(#REF!,ROW()-2),\"\")","v":""},1,null,null,"",null,null,null,null,"",1,null,null,"",1,null,null,null,null,null,null,null,null,null,null,null,null,"",1,null,null,"",1,null," ",null,null,null,null,null," ",null,""]
[null,"",{"$f":"CONCATENATE(B62,\"A\")","v":"20A"},null,null,null,"",null,"",null,"",null,"",null,{"$f":"IF(ISBLANK(N60),\"\",IF(N60=0,$CF$2,CG60))","v":""},{"$f":"IF(ISNUMBER(O60),IF(ISNUMBER(O60),IF(ISNUMBER(O60),O60+G60+G61+G62+I60+I61+I62+K60+K61+K62+M60+M61+M62,\"\"),\"\"),\"\")","v":""},{"$f":"IF(ISNUMBER(P60),VLOOKUP(BQ60,BS:BT,2,FALSE),\"\")","v":""},"","",null,null,null,"","","","","","",1,null,null,"",1,null,"",1,null,"",1,null,"",1,null,{"$f":"IF(ISNUMBER(SMALL(#REF!,ROW()-2)),SMALL(#REF!,ROW()-2),\"\")","v":""},1,null,{"$f":"IF(#REF!,#REF!+0,)","v":{"$error":"#REF!"}},"",null,{"$f":"IF(ISNUMBER(AU60),VLOOKUP(AU60,AV:AW,2,FALSE),\"\")","v":""},null,{"$f":"P60","v":""},"",1,{"$f":"IF(ISNUMBER(AZ60),VLOOKUP(AZ60,BA:BB,2,FALSE),\"\")","v":""},null,"",1,null,null,{"$f":"P60","v":""},{"$f":"SUM(G60,G61,G62)","v":0},{"$f":"SUM(I60,I61,I62)","v":0},{"$f":"SUM(M60,M61,M62)","v":0},{"$f":"O60","v":""},{"$f":"#REF!","v":{"$error":"#REF!"}},{"$f":"SUM(K60,K61,K62)","v":0},{"$f":"#REF!","v":{"$error":"#REF!"}},{"$f":"IF(ISNUMBER(P60),CONCATENATE(BI60+100,BJ60+100,BK60+100,BO60+100,BL60+100,BM60+100)+0,\"\")","v":""},{"$f":"IF(ISNUMBER(SMALL(BQ:BQ,ROW()-2)),SMALL(BQ:BQ,ROW()-2),\"\")","v":""},"",1,null,null,"",1,null," ",null,null,null,null,null," ",{"$f":"VLOOKUP(N60,AO:AP,2,FALSE)","v":" "},""]
[null,"",{"$f":"CONCATENATE(B62,\"B\")","v":"20B"},null,null,null,"",null,"",null,"",null,"",null,null,null,null,"","",null,null,null,"","","","","","",1,null,null,"",1,null,"",1,null,"",1,null,"",1,null,{"$f":"IF(ISNUMBER(SMALL(#REF!,ROW()-2)),SMALL(#REF!,ROW()-2),\"\")","v":""},1,null,null,"",null,null,null,null,"",1,null,null,"",1,null,null,null,null,null,null,null,null,null,null,null,null,"",1,null,null,"",1,null," ",null,null,null,null,null," ",null,""]
[null,20,{"$f":"CONCATENATE(B62,\"C\")","v":"20C"},null,null,null,"",null,"",null,"",null,"",null,null,null,null,"","",null,null,null,"","","","","","",1,null,null,"",1,null,"",1,null,"",1,null,"",1,null,{"$f":"IF(ISNUMBER(SMALL(#REF!,ROW()-2)),SMALL(#REF!,ROW()-2),\"\")","v":""},1,null,null,"",null,null,null,null,"",1,null,null,"",1,null,null,null,null,null,null,null,null,null,null,null,null,"",1,null,null,"",1,null," ",null,null,null,null,null," ",null,""]
[null,"",{"$f":"CONCATENATE(B65,\"A\")","v":"21A"},null,null,null,"",null,"",null,"",null,"",null,{"$f":"IF(ISBLANK(N63),\"\",IF(N63=0,$CF$2,CG63))","v":""},{"$f":"IF(ISNUMBER(O63),IF(ISNUMBER(O63),IF(ISNUMBER(O63),O63+G63+G64+G65+I63+I64+I65+K63+K64+K65+M63+M64+M65,\"\"),\"\"),\"\")","v":""},{"$f":"IF(ISNUMBER(P63),VLOOKUP(BQ63,BS:BT,2,FALSE),\"\")","v":""},"","",null,null,null,"","","","","","",1,null,null,"",1,null,"",1,null,"",1,null,"",1,null,{"$f":"IF(ISNUMBER(SMALL(#REF!,ROW()-2)),SMALL(#REF!,ROW()-2),\"\")","v":""},1,null,{"$f":"IF(#REF!,#REF!+0,)","v":{"$error":"#REF!"}},"",null,{"$f":"IF(ISNUMBER(AU63),VLOOKUP(AU63,AV:AW,2,FALSE),\"\")","v":""},null,{"$f":"P63","v":""},"",1,{"$f":"IF(ISNUMBER(AZ63),VLOOKUP(AZ63,BA:BB,2,FALSE),\"\")","v":""},null,"",1,null,null,{"$f":"P63","v":""},{"$f":"SUM(G63,G64,G65)","v":0},{"$f":"SUM(I63,I64,I65)","v":0},{"$f":"SUM(M63,M64,M65)","v":0},{"$f":"O63","v":""},{"$f":"#REF!","v":{"$error":"#REF!"}},{"$f":"SUM(K63,K64,K65)","v":0},{"$f":"#REF!","v":{"$error":"#REF!"}},{"$f":"IF(ISNUMBER(P63),CONCATENATE(BI63+100,BJ63+100,BK63+100,BO63+100,BL63+100,BM63+100)+0,\"\")","v":""},{"$f":"IF(ISNUMBER(SMALL(BQ:BQ,ROW()-2)),SMALL(BQ:BQ,ROW()-2),\"\")","v":""},"",1,null,null,"",1,null," ",null,null,null,null,null," ",{"$f":"VLOOKUP(N63,AO:AP,2,FALSE)","v":" "},""]
[null,"",{"$f":"CONCATENATE(B65,\"B\")","v":"21B"},null,null,null,"",null,"",null,"",null,"",null,null,null,null,"","",null,null,null,"","","","","","",1,null,null,"",1,null,"",1,null,"",1,null,"",1,null,{"$f":"IF(ISNUMBER(SMALL(#REF!,ROW()-2)),SMALL(#REF!,ROW()-2),\"\")","v":""},1,null,null,"",null,null,null,null,"",1,null,null,"",1,null,null,null,null,null,null,null,null,null,null,null,null,"",1,null,null,"",1,null," ",null,null,null,null,null," ",null,""]
[null,21,{"$f":"CONCATENATE(B65,\"C\")","v":"21C"},null,null,null,"",null,"",null,"",null,"",null,null,null,null,"","",null,null,null,"","","","","","",1,null,null,"",1,null,"",1,null,"",1,null,"",1,null,{"$f":"IF(ISNUMBER(SMALL(#REF!,ROW()-2)),SMALL(#REF!,ROW()-2),\"\")","v":""},1,null,null,"",null,null,null,null,"",1,null,null,"",1,null,null,null,null,null,null,null,null,null,null,null,null,"",1,null,null,"",1,null," ",null,null,null,null,null," ",null,""]
[null,"",{"$f":"CONCATENATE(B68,\"A\")","v":"22A"},null,null,null,"",null,"",null,"",null,"",null,{"$f":"IF(ISBLANK(N66),\"\",IF(N66=0,$CF$2,CG66))","v":""},{"$f":"IF(ISNUMBER(O66),IF(ISNUMBER(O66),IF(ISNUMBER(O66),O66+G66+G67+G68+I66+I67+I68+K66+K67+K68+M66+M67+M68,\"\"),\"\"),\"\")","v":""},{"$f":"IF(ISNUMBER(P66),VLOOKUP(BQ66,BS:BT,2,FALSE),\"\")","v":""},"","",null,null,null,"","","","","","",1,null,null,"",1,null,"",1,null,"",1,null,"",1,null,{"$f":"IF(ISNUMBER(SMALL(#REF!,ROW()-2)),SMALL(#REF!,ROW()-2),\"\")","v":""},1,null,{"$f":"IF(#REF!,#REF!+0,)","v":{"$error":"#REF!"}},"",null,{"$f":"IF(ISNUMBER(AU66),VLOOKUP(AU66,AV:AW,2,FALSE),\"\")","v":""},null,{"$f":"P66","v":""},"",1,{"$f":"IF(ISNUMBER(AZ66),VLOOKUP(AZ66,BA:BB,2,FALSE),\"\")","v":""},null,"",1,null,null,{"$f":"P66","v":""},{"$f":"SUM(G66,G67,G68)","v":0},{"$f":"SUM(I66,I67,I68)","v":0},{"$f":"SUM(M66,M67,M68)","v":0},{"$f":"O66","v":""},{"$f":"#REF!","v":{"$error":"#REF!"}},{"$f":"SUM(K66,K67,K68)","v":0},{"$f":"#REF!","v":{"$error":"#REF!"}},{"$f":"IF(ISNUMBER(P66),CONCATENATE(BI66+100,BJ66+100,BK66+100,BO66+100,BL66+100,BM66+100)+0,\"\")","v":""},{"$f":"IF(ISNUMBER(SMALL(BQ:BQ,ROW()-2)),SMALL(BQ:BQ,ROW()-2),\"\")","v":""},"",1,null,null,"",1,null," ",null,null,null,null,null," ",{"$f":"VLOOKUP(N66,AO:AP,2,FALSE)","v":" "},""]
[null,{"$f":"IF(MOD(ROW(),3)=2,((ROW()+1)/3)-1,\"\")","v":""},{"$f":"CONCATENATE(B68,\"B\")","v":"22B"},null,null,null,{"$f":"IF(ISBLANK(F67),\"\",IF(F67=0,$CE$2,CF67))","v":""},null,"",null,"",null,{"$f":"IF(ISNUMBER(L67),VLOOKUP(L67,AL:AM,2,FALSE),\"\")","v":""},null,null,null,null,"","",null,null,null,"","","","","","",1,null,null,{"$f":"IF(ISNUMBER(LARGE(F:F,ROW()-2)),LARGE(F:F,ROW()-2),\"\")","v":""},1,null,{"$f":"IF(ISNUMBER(SMALL(J:J,ROW()-2)),SMALL(J:J,ROW()-2),\"\")","v":""},1,null,{"$f":"IF(ISNUMBER(SMALL(L:L,ROW()-2)),SMALL(L:L,ROW()-2),\"\")","v":""},1,null,{"$f":"IF(ISNUMBER(LARGE(N:N,ROW()-2)),LARGE(N:N,ROW()-2),\"\")","v":""},1,null,{"$f":"IF(ISNUMBER(SMALL(#REF!,ROW()-2)),SMALL(#REF!,ROW()-2),\"\")","v":""},1,null,null,{"$f":"IF(ISNUMBER(LARGE(AU:AU,ROW()-2)),LARGE(AU:AU,ROW()-2),\"\")","v":""},null,null,null,null,{"$f":"IF(ISNUMBER(SMALL(P:P,ROW()-2)),SMALL(P:P,ROW()-2),\"\")","v":""},1,null,null,"",1,null,null,null,null,null,null,null,null,null,null,null,null,"",1,null,null,{"$f":"IF(ISNUMBER(LARGE(H:H,ROW()-2)),LARGE(H:H,ROW()-2),\"\")","v":""},1,null," ",null,null,null,null,null," ",null,""]
[null,22,{"$f":"CONCATENATE(B68,\"C\")","v":"22C"},null,null,null,"",null,{"$f":"IF(ISBLANK(H68),\"\",IF(H68=0,$BY$2,BZ68))","v":""},null,{"$f":"IF(ISBLANK(J68),\"\",IF(J68=0,$CJ$2,CH68))","v":""},null,"",null,null,null,null,{"$f":"IF(ISNUMBER(G68),IF(ISNUMBER(K68),IF(ISNUMBER(M68),SUM(G68,I68,K68,M68),\"\"),\"\"),\"\")","v":""},"",null,null,null,"","","",{"$f":"I68","v":""},{"$f":"IF(ISNUMBER(R68),CONCATENATE(R68+100,W68+100,Z68+100,X68+100,Y68+100)+0,\"\")","v":""},"",1,null,null,"",{"$f":"IF(AF67<>AF68,AG67+1,AG67)","v":1},null,"",1,null,"",1,null,"",1,null,{"$f":"IF(ISNUMBER(SMALL(#REF!,ROW()-2)),SMALL(#REF!,ROW()-2),\"\")","v":""},1,null,null,"",null,null,null,null,"",{"$f":"IF(BA67<>BA68,BB67+1,BB67)","v":1},null,null,{"$f":"IF(ISNUMBER(SMALL(R:R,ROW()-2)),SMALL(R:R,ROW()-2),\"\")","v":""},{"$f":"IF(BE67<>BE68,BF67+1,BF67)","v":1},null,null,null,null,null,null,null,null,null,null,null,null,{"$f":"IF(ISNUMBER(SMALL(BQ:BQ,ROW()-2)),SMALL(BQ:BQ,ROW()-2),\"\")","v":""},{"$f":"IF(BS67<>BS68,BT67+1,BT67)","v":1},null,null,"",{"$f":"IF(BW67<>BW68,BX67+1,BX67)","v":1},null,{"$f":"VLOOKUP(H68,BW:BX,2,FALSE)","v":" "},null,null,null,null,null,{"$f":"VLOOKUP(F68,AF:AG,2,FALSE)","v":" "},null,{"$f":"IF(ISNUMBER(J68),VLOOKUP(J68,AI:AJ,2,FALSE),\"\")","v":""}]
[null,"",{"$f":"CONCATENATE(B71,\"A\")","v":"23A"},null,null,null,"",null,"",null,"",null,"",null,{"$f":"IF(ISBLANK(N69),\"\",IF(N69=0,$CF$2,CG69))","v":""},{"$f":"IF(ISNUMBER(O69),IF(ISNUMBER(O69),IF(ISNUMBER(O69),O69+G69+G70+G71+I69+I70+I71+K69+K70+K71+M69+M70+M71,\"\"),\"\"),\"\")","v":""},{"$f":"IF(ISNUMBER(P69),VLOOKUP(BQ69,BS:BT,2,FALSE),\"\")","v":""},"","",null,null,null,{"$f":"G69","v":""},{"$f":"K69","v":""},{"$f":"M69","v":""},"","",{"$f":"IF(ISNUMBER(SMALL(AA:AA,ROW()-2)),SMALL(AA:AA,ROW()-2),\"\")","v":""},{"$f":"IF(AB68<>AB69,AC68+1,AC68)","v":1},null,null,"",1,null,"",{"$f":"IF(AI68<>AI69,AJ68+1,AJ68)","v":1},null,"",{"$f":"IF(AL68<>AL69,AM68+1,AM68)","v":1},null,"",{"$f":"IF(AO68<>AO69,AP68+1,AP68)","v":1},null,{"$f":"IF(ISNUMBER(SMALL(#REF!,ROW()-2)),SMALL(#REF!,ROW()-2),\"\")","v":""},{"$f":"IF(AR68<>AR69,AS68+1,AS68)","v":1},null,{"$f":"IF(#REF!,#REF!+0,)","v":{"$error":"#REF!"}},"",null,{"$f":"IF(ISNUMBER(AU69),VLOOKUP(AU69,AV:AW,2,FALSE),\"\")","v":""},null,{"$f":"P69","v":""},"",1,{"$f":"IF(ISNUMBER(AZ69),VLOOKUP(AZ69,BA:BB,2,FALSE),\"\")","v":""},null,"",1,null,null,{"$f":"P69","v":""},{"$f":"SUM(G69,G70,G71)","v":0},{"$f":"SUM(I69,I70,I71)","v":0},{"$f":"SUM(M69,M70,M71)","v":0},{"$f":"O69","v":""},{"$f":"#REF!","v":{"$error":"#REF!"}},{"$f":"SUM(K69,K70,K71)","v":0},{"$f":"#REF!","v":{"$error":"#REF!"}},{"$f":"IF(ISNUMBER(P69),CONCATENATE(BI69+100,BJ69+100,BK69+100,BO69+100,BL69+100,BM69+100)+0,\"\")","v":""},{"$f":"IF(ISNUMBER(SMALL(BQ:BQ,ROW()-2)),SMALL(BQ:BQ,ROW()-2),\"\")","v":""},"",1,null,null,"",1,null," ",null,null,null,null,null," ",{"$f":"VLOOKUP(N69,AO:AP,2,FALSE)","v":" "},""]
[null,"",{"$f":"CONCATENATE(B71,\"B\")","v":"23B"},null,null,null,"",null,"",null,"",null,"",null,null,null,null,"","",null,null,null,"","","","","","",1,null,null,"",1,null,"",1,null,"",1,null,"",1,null,{"$f":"IF(ISNUMBER(SMALL(#REF!,ROW()-2)),SMALL(#REF!,ROW()-2),\"\")","v":""},1,null,null,"",null,null,null,null,"",1,null,null,"",1,null,null,null,null,null,null,null,null,null,null,null,null,"",1,null,null,"",1,null," ",null,null,null,null,null," ",null,""]
[null,23,{"$f":"CONCATENATE(B71,\"C\")","v":"23C"},null,null,null,"",null,"",null,"",null,"",null,null,null,null,"","",null,null,null,"","","","","","",1,null,null,"",1,null,"",1,null,"",1,null,"",1,null,{"$f":"IF(ISNUMBER(SMALL(#REF!,ROW()-2)),SMALL(#REF!,ROW()-2),\"\")","v":""},1,null,null,"",null,null,null,null,"",1,null,null,"",1,null,null,null,null,null,null,null,null,null,null,null,null,"",1,null,null,"",1,null," ",null,null,null,null,null," ",null,""]
[null,"",{"$f":"CONCATENATE(B74,\"A\")","v":"24A"},null,null,null,"",null,"",null,"",null,"",null,{"$f":"IF(ISBLANK(N72),\"\",IF(N72=0,$CF$2,CG72))","v":""},{"$f":"IF(ISNUMBER(O72),IF(ISNUMBER(O72),IF(ISNUMBER(O72),O72+G72+G73+G74+I72+I73+I74+K72+K73+K74+M72+M73+M74,\"\"),\"\"),\"\")","v":""},{"$f":"IF(ISNUMBER(P72),VLOOKUP(BQ72,BS:BT,2,FALSE),\"\")","v":""},"","",null,null,null,"","","","","","",1,null,null,"",1,null,"",1,null,"",1,null,"",1,null,{"$f":"IF(ISNUMBER(SMALL(#REF!,ROW()-2)),SMALL(#REF!,ROW()-2),\"\")","v":""},1,null,{"$f":"IF(#REF!,#REF!+0,)","v":{"$error":"#REF!"}},"",null,{"$f":"IF(ISNUMBER(AU72),VLOOKUP(AU72,AV:AW,2,FALSE),\"\")","v":""},null,{"$f":"P72","v":""},"",1,{"$f":"IF(ISNUMBER(AZ72),VLOOKUP(AZ72,BA:BB,2,FALSE),\"\")","v":""},null,"",1,null,null,{"$f":"P72","v":""},{"$f":"SUM(G72,G73,G74)","v":0},{"$f":"SUM(I72,I73,I74)","v":0},{"$f":"SUM(M72,M73,M74)","v":0},{"$f":"O72","v":""},{"$f":"#REF!","v":{"$error":"#REF!"}},{"$f":"SUM(K72,K73,K74)","v":0},{"$f":"#REF!","v":{"$error":"#REF!"}},{"$f":"IF(ISNUMBER(P72),CONCATENATE(BI72+100,BJ72+100,BK72+100,BO72+100,BL72+100,BM72+100)+0,\"\")","v":""},{"$f":"IF(ISNUMBER(SMALL(BQ:BQ,ROW()-2)),SMALL(BQ:BQ,ROW()-2),\"\")","v":""},"",1,null,null,"",1,null," ",null,null,null,null,null," ",{"$f":"VLOOKUP(N72,AO:AP,2,FALSE)","v":" "},""]
[null,"",{"$f":"CONCATENATE(B74,\"B\")","v":"24B"},null,null,null,"",null,"",null,"",null,"",null,null,null,null,"",{"$f":"IF(ISNUMBER(R73),VLOOKUP(AA73,AB:AC,2,FALSE),\"\")","v":""},null,null,null,"","","","","","",1,null,null,"",1,null,"",1,null,"",1,null,"",1,null,{"$f":"IF(ISNUMBER(SMALL(#REF!,ROW()-2)),SMALL(#REF!,ROW()-2),\"\")","v":""},1,null,null,"",null,null,null,null,"",1,null,null,"",1,null,null,null,null,null,null,null,null,null,null,null,null,"",1,null,null,"",1,null," ",null,null,null,null,null," ",null,""]
[null,24,{"$f":"CONCATENATE(B74,\"C\")","v":"24C"},null,null,null,"",null,"",null,"",null,"",null,null,null,null,"","",null,null,null,"","","","","","",1,null,null,"",1,null,"",1,null,"",1,null,"",1,null,{"$f":"IF(ISNUMBER(SMALL(#REF!,ROW()-2)),SMALL(#REF!,ROW()-2),\"\")","v":""},1,null,null,"",null,null,null,null,"",1,null,null,"",1,null,null,null,null,null,null,null,null,null,null,null,null,"",1,null,null,"",1,null," ",null,null,null,null,null," ",null,""]
[null,"",{"$f":"CONCATENATE(B77,\"A\")","v":"25A"},null,null,null,"",null,"",null,"",null,"",null,{"$f":"IF(ISBLANK(N75),\"\",IF(N75=0,$CF$2,CG75))","v":""},{"$f":"IF(ISNUMBER(O75),IF(ISNUMBER(O75),IF(ISNUMBER(O75),O75+G75+G76+G77+I75+I76+I77+K75+K76+K77+M75+M76+M77,\"\"),\"\"),\"\")","v":""},{"$f":"IF(ISNUMBER(P75),VLOOKUP(BQ75,BS:BT,2,FALSE),\"\")","v":""},"","",null,null,null,"","","","","","",1,null,null,"",1,null,"",1,null,"",1,null,"",1,null,{"$f":"IF(ISNUMBER(SMALL(#REF!,ROW()-2)),SMALL(#REF!,ROW()-2),\"\")","v":""},1,null,{"$f":"IF(#REF!,#REF!+0,)","v":{"$error":"#REF!"}},"",null,{"$f":"IF(ISNUMBER(AU75),VLOOKUP(AU75,AV:AW,2,FALSE),\"\")","v":""},null,{"$f":"P75","v":""},"",1,{"$f":"IF(ISNUMBER(AZ75),VLOOKUP(AZ75,BA:BB,2,FALSE),\"\")","v":""},null,"",1,null,null,{"$f":"P75","v":""},{"$f":"SUM(G75,G76,G77)","v":0},{"$f":"SUM(I75,I76,I77)","v":0},{"$f":"SUM(M75,M76,M77)","v":0},{"$f":"O75","v":""},{"$f":"#REF!","v":{"$error":"#REF!"}},{"$f":"SUM(K75,K76,K77)","v":0},{"$f":"#REF!","v":{"$error":"#REF!"}},{"$f":"IF(ISNUMBER(P75),CONCATENATE(BI75+100,BJ75+100,BK75+100,BO75+100,BL75+100,BM75+100)+0,\"\")","v":""},{"$f":"IF(ISNUMBER(SMALL(BQ:BQ,ROW()-2)),SMALL(BQ:BQ,ROW()-2),\"\")","v":""},"",1,null,null,"",1,null," ",null,null,null,null,null," ",{"$f":"VLOOKUP(N75,AO:AP,2,FALSE)","v":" "},""]
[null,"",{"$f":"CONCATENATE(B77,\"B\")","v":"25B"},null,null,null,"",null,"",null,"",null,"",null,null,null,null,"","",null,null,null,"","","","","","",1,null,null,"",1,null,"",1,null,"",1,null,"",1,null,{"$f":"IF(ISNUMBER(SMALL(#REF!,ROW()-2)),SMALL(#REF!,ROW()-2),\"\")","v":""},1,null,null,"",null,null,null,null,"",1,null,null,"",1,null,null,null,null,null,null,null,null,null,null,null,null,"",1,null,null,"",1,null," ",null,null,null,null,null," ",null,""]
[null,25,{"$f":"CONCATENATE(B77,\"C\")","v":"25C"},null,null,null,"",null,"",null,"",null,"",null,null,null,null,"","",null,null,null,"","","","","","",1,null,null,"",1,null,"",1,null,"",1,null,"",1,null,{"$f":"IF(ISNUMBER(SMALL(#REF!,ROW()-2)),SMALL(#REF!,ROW()-2),\"\")","v":""},1,null,null,"",null,null,null,null,"",1,null,null,"",1,null,null,null,null,null,null,null,null,null,null,null,null,"",1,null,null,"",1,null," ",null,null,null,null,null," ",null,""]
[null,"",{"$f":"CONCATENATE(B80,\"A\")","v":"26A"},null,null,null,"",null,"",null,"",null,"",null,{"$f":"IF(ISBLANK(N78),\"\",IF(N78=0,$CF$2,CG78))","v":""},{"$f":"IF(ISNUMBER(O78),IF(ISNUMBER(O78),IF(ISNUMBER(O78),O78+G78+G79+G80+I78+I79+I80+K78+K79+K80+M78+M79+M80,\"\"),\"\"),\"\")","v":""},{"$f":"IF(ISNUMBER(P78),VLOOKUP(BQ78,BS:BT,2,FALSE),\"\")","v":""},"","",null,null,null,"","","","","","",1,null,null,"",1,null,"",1,null,"",1,null,"",1,null,{"$f":"IF(ISNUMBER(SMALL(#REF!,ROW()-2)),SMALL(#REF!,ROW()-2),\"\")","v":""},1,null,{"$f":"IF(#REF!,#REF!+0,)","v":{"$error":"#REF!"}},"",null,{"$f":"IF(ISNUMBER(AU78),VLOOKUP(AU78,AV:AW,2,FALSE),\"\")","v":""},null,{"$f":"P78","v":""},"",1,{"$f":"IF(ISNUMBER(AZ78),VLOOKUP(AZ78,BA:BB,2,FALSE),\"\")","v":""},null,"",1,null,null,{"$f":"P78","v":""},{"$f":"SUM(G78,G79,G80)","v":0},{"$f":"SUM(I78,I79,I80)","v":0},{"$f":"SUM(M78,M79,M80)","v":0},{"$f":"O78","v":""},{"$f":"#REF!","v":{"$error":"#REF!"}},{"$f":"SUM(K78,K79,K80)","v":0},{"$f":"#REF!","v":{"$error":"#REF!"}},{"$f":"IF(ISNUMBER(P78),CONCATENATE(BI78+100,BJ78+100,BK78+100,BO78+100,BL78+100,BM78+100)+0,\"\")","v":""},{"$f":"IF(ISNUMBER(SMALL(BQ:BQ,ROW()-2)),SMALL(BQ:BQ,ROW()-2),\"\")","v":""},"",1,null,null,"",1,null," ",null,null,null,null,null," ",{"$f":"VLOOKUP(N78,AO:AP,2,FALSE)","v":" "},""]
[null,"",{"$f":"CONCATENATE(B80,\"B\")","v":"26B"},null,null,null,"",null,"",null,"",null,"",null,null,null,null,"","",null,null,null,"","","","","","",1,null,null,"",1,null,"",1,null,"",1,null,"",1,null,{"$f":"IF(ISNUMBER(SMALL(#REF!,ROW()-2)),SMALL(#REF!,ROW()-2),\"\")","v":""},1,null,null,"",null,null,null,null,"",1,null,null,"",1,null,null,null,null,null,null,null,null,null,null,null,null,"",1,null,null,"",1,null," ",null,null,null,null,null," ",null,""]
[null,26,{"$f":"CONCATENATE(B80,\"C\")","v":"26C"},null,null,null,"",null,"",null,"",null,"",null,null,null,null,"","",null,null,null,"","","","","","",1,null,null,"",1,null,"",1,null,"",1,null,"",1,null,{"$f":"IF(ISNUMBER(SMALL(#REF!,ROW()-2)),SMALL(#REF!,ROW()-2),\"\")","v":""},1,null,null,"",null,null,null,null,"",1,null,null,"",1,null,null,null,null,null,null,null,null,null,null,null,null,"",1,null,null,"",1,null," ",null,null,null,null,null," ",null,""]
[null,"",{"$f":"CONCATENATE(B83,\"A\")","v":"27A"},null,null,null,"",null,"",null,"",null,"",null,{"$f":"IF(ISBLANK(N81),\"\",IF(N81=0,$CF$2,CG81))","v":""},{"$f":"IF(ISNUMBER(O81),IF(ISNUMBER(O81),IF(ISNUMBER(O81),O81+G81+G82+G83+I81+I82+I83+K81+K82+K83+M81+M82+M83,\"\"),\"\"),\"\")","v":""},{"$f":"IF(ISNUMBER(P81),VLOOKUP(BQ81,BS:BT,2,FALSE),\"\")","v":""},"","",null,null,null,"","","","","","",1,null,null,"",1,null,"",1,null,"",1,null,"",1,null,{"$f":"IF(ISNUMBER(SMALL(#REF!,ROW()-2)),SMALL(#REF!,ROW()-2),\"\")","v":""},1,null,{"$f":"IF(#REF!,#REF!+0,)","v":{"$error":"#REF!"}},"",null,{"$f":"IF(ISNUMBER(AU81),VLOOKUP(AU81,AV:AW,2,FALSE),\"\")","v":""},null,{"$f":"P81","v":""},"",1,{"$f":"IF(ISNUMBER(AZ81),VLOOKUP(AZ81,BA:BB,2,FALSE),\"\")","v":""},null,"",1,null,null,{"$f":"P81","v":""},{"$f":"SUM(G81,G82,G83)","v":0},{"$f":"SUM(I81,I82,I83)","v":0},{"$f":"SUM(M81,M82,M83)","v":0},{"$f":"O81","v":""},{"$f":"#REF!","v":{"$error":"#REF!"}},{"$f":"SUM(K81,K82,K83)","v":0},{"$f":"#REF!","v":{"$error":"#REF!"}},{"$f":"IF(ISNUMBER(P81),CONCATENATE(BI81+100,BJ81+100,BK81+100,BO81+100,BL81+100,BM81+100)+0,\"\")","v":""},{"$f":"IF(ISNUMBER(SMALL(BQ:BQ,ROW()-2)),SMALL(BQ:BQ,ROW()-2),\"\")","v":""},"",1,null,null,"",1,null," ",null,null,null,null,null," ",{"$f":"VLOOKUP(N81,AO:AP,2,FALSE)","v":" "},""]
[null,"",{"$f":"CONCATENATE(B83,\"B\")","v":"27B"},null,null,null,"",null,"",null,"",null,"",null,null,null,null,"","",null,null,null,"","","","","","",1,null,null,"",1,null,"",1,null,"",1,null,"",1,null,{"$f":"IF(ISNUMBER(SMALL(#REF!,ROW()-2)),SMALL(#REF!,ROW()-2),\"\")","v":""},1,null,null,"",null,null,null,null,"",1,null,null,"",1,null,null,null,null,null,null,null,null,null,null,null,null,"",1,null,null,"",1,null," ",null,null,null,null,null," ",null,""]
[null,27,{"$f":"CONCATENATE(B83,\"C\")","v":"27C"},null,null,null,"",null,"",null,"",null,"",null,null,null,null,"","",null,null,null,"","","","","","",1,null,null,"",1,null,"",1,null,"",1,null,"",1,null,{"$f":"IF(ISNUMBER(SMALL(#REF!,ROW()-2)),SMALL(#REF!,ROW()-2),\"\")","v":""},1,null,null,"",null,null,null,null,"",1,null,null,"",1,null,null,null,null,null,null,null,null,null,null,null,null,"",1,null,null,"",1,null," ",null,null,null,null,null," ",null,""]
[null,"",{"$f":"CONCATENATE(B86,\"A\")","v":"28A"},null,null,null,"",null,"",null,"",null,"",null,{"$f":"IF(ISBLANK(N84),\"\",IF(N84=0,$CF$2,CG84))","v":""},{"$f":"IF(ISNUMBER(O84),IF(ISNUMBER(O84),IF(ISNUMBER(O84),O84+G84+G85+G86+I84+I85+I86+K84+K85+K86+M84+M85+M86,\"\"),\"\"),\"\")","v":""},{"$f":"IF(ISNUMBER(P84),VLOOKUP(BQ84,BS:BT,2,FALSE),\"\")","v":""},"","",null,null,null,"","","","","","",1,null,null,"",1,null,"",1,null,"",1,null,"",1,null,{"$f":"IF(ISNUMBER(SMALL(#REF!,ROW()-2)),SMALL(#REF!,ROW()-2),\"\")","v":""},1,null,{"$f":"IF(#REF!,#REF!+0,)","v":{"$error":"#REF!"}},"",null,{"$f":"IF(ISNUMBER(AU84),VLOOKUP(AU84,AV:AW,2,FALSE),\"\")","v":""},null,{"$f":"P84","v":""},"",1,{"$f":"IF(ISNUMBER(AZ84),VLOOKUP(AZ84,BA:BB,2,FALSE),\"\")","v":""},null,"",1,null,null,{"$f":"P84","v":""},{"$f":"SUM(G84,G85,G86)","v":0},{"$f":"SUM(I84,I85,I86)","v":0},{"$f":"SUM(M84,M85,M86)","v":0},{"$f":"O84","v":""},{"$f":"#REF!","v":{"$error":"#REF!"}},{"$f":"SUM(K84,K85,K86)","v":0},{"$f":"#REF!","v":{"$error":"#REF!"}},{"$f":"IF(ISNUMBER(P84),CONCATENATE(BI84+100,BJ84+100,BK84+100,BO84+100,BL84+100,BM84+100)+0,\"\")","v":""},{"$f":"IF(ISNUMBER(SMALL(BQ:BQ,ROW()-2)),SMALL(BQ:BQ,ROW()-2),\"\")","v":""},"",1,null,null,"",1,null," ",null,null,null,null,null," ",{"$f":"VLOOKUP(N84,AO:AP,2,FALSE)","v":" "},""]
[null,"",{"$f":"CONCATENATE(B86,\"B\")","v":"28B"},null,null,null,"",null,"",null,"",null,"",null,null,null,null,"","",null,null,null,"","","","","","",1,null,null,"",1,null,"",1,null,"",1,null,"",1,null,{"$f":"IF(ISNUMBER(SMALL(#REF!,ROW()-2)),SMALL(#REF!,ROW()-2),\"\")","v":""},1,null,null,"",null,null,null,null,"",1,null,null,"",1,null,null,null,null,null,null,null,null,null,null,null,null,"",1,null,null,"",1,null," ",null,null,null,null,null," ",null,""]
[null,28,{"$f":"CONCATENATE(B86,\"C\")","v":"28C"},null,null,null,"",null,"",null,"",null,"",null,null,null,null,"","",null,null,null,"","","","","","",1,null,null,"",1,null,"",1,null,"",1,null,"",1,null,{"$f":"IF(ISNUMBER(SMALL(#REF!,ROW()-2)),SMALL(#REF!,ROW()-2),\"\")","v":""},1,null,null,"",null,null,null,null,"",1,null,null,"",1,null,null,null,null,null,null,null,null,null,null,null,null,"",1,null,null,"",1,null," ",null,null,null,null,null," ",null,""]
[null,"",{"$f":"CONCATENATE(B89,\"A\")","v":"29A"},null,null,null,"",null,"",null,"",null,"",null,{"$f":"IF(ISBLANK(N87),\"\",IF(N87=0,$CF$2,CG87))","v":""},{"$f":"IF(ISNUMBER(O87),IF(ISNUMBER(O87),IF(ISNUMBER(O87),O87+G87+G88+G89+I87+I88+I89+K87+K88+K89+M87+M88+M89,\"\"),\"\"),\"\")","v":""},{"$f":"IF(ISNUMBER(P87),VLOOKUP(BQ87,BS:BT,2,FALSE),\"\")","v":""},"","",null,null,null,"","","","","","",1,null,null,"",1,null,"",1,null,"",1,null,"",1,null,{"$f":"IF(ISNUMBER(SMALL(#REF!,ROW()-2)),SMALL(#REF!,ROW()-2),\"\")","v":""},1,null,{"$f":"IF(#REF!,#REF!+0,)","v":{"$error":"#REF!"}},"",null,{"$f":"IF(ISNUMBER(AU87),VLOOKUP(AU87,AV:AW,2,FALSE),\"\")","v":""},null,{"$f":"P87","v":""},"",1,{"$f":"IF(ISNUMBER(AZ87),VLOOKUP(AZ87,BA:BB,2,FALSE),\"\")","v":""},null,"",1,null,null,{"$f":"P87","v":""},{"$f":"SUM(G87,G88,G89)","v":0},{"$f":"SUM(I87,I88,I89)","v":0},{"$f":"SUM(M87,M88,M89)","v":0},{"$f":"O87","v":""},{"$f":"#REF!","v":{"$error":"#REF!"}},{"$f":"SUM(K87,K88,K89)","v":0},{"$f":"#REF!","v":{"$error":"#REF!"}},{"$f":"IF(ISNUMBER(P87),CONCATENATE(BI87+100,BJ87+100,BK87+100,BO87+100,BL87+100,BM87+100)+0,\"\")","v":""},{"$f":"IF(ISNUMBER(SMALL(BQ:BQ,ROW()-2)),SMALL(BQ:BQ,ROW()-2),\"\")","v":""},"",1,null,null,"",1,null," ",null,null,null,null,null," ",{"$f":"VLOOKUP(N87,AO:AP,2,FALSE)","v":" "},""]
[null,"",{"$f":"CONCATENATE(B89,\"B\")","v":"29B"},null,null,null,"",null,"",null,"",null,"",null,null,null,null,"","",null,null,null,"","","","","","",1,null,null,"",1,null,"",1,null,"",1,null,"",1,null,{"$f":"IF(ISNUMBER(SMALL(#REF!,ROW()-2)),SMALL(#REF!,ROW()-2),\"\")","v":""},1,null,null,"",null,null,null,null,"",1,null,null,"",1,null,null,null,null,null,null,null,null,null,null,null,null,"",1,null,null,"",1,null," ",null,null,null,null,null," ",null,""]
[null,29,{"$f":"CONCATENATE(B89,\"C\")","v":"29C"},null,null,null,"",null,"",null,"",null,"",null,null,null,null,"","",null,null,null,"","","","","","",1,null,null,"",1,null,"",1,null,"",1,null,"",1,null,{"$f":"IF(ISNUMBER(SMALL(#REF!,ROW()-2)),SMALL(#REF!,ROW()-2),\"\")","v":""},1,null,null,"",null,null,null,null,"",1,null,null,"",1,null,null,null,null,null,null,null,null,null,null,null,null,"",1,null,null,"",1,null," ",null,null,null,null,null," ",null,""]
[null,"",{"$f":"CONCATENATE(B92,\"A\")","v":"30A"},null,null,null,"",null,"",null,"",null,"",null,{"$f":"IF(ISBLANK(N90),\"\",IF(N90=0,$CF$2,CG90))","v":""},{"$f":"IF(ISNUMBER(O90),IF(ISNUMBER(O90),IF(ISNUMBER(O90),O90+G90+G91+G92+I90+I91+I92+K90+K91+K92+M90+M91+M92,\"\"),\"\"),\"\")","v":""},{"$f":"IF(ISNUMBER(P90),VLOOKUP(BQ90,BS:BT,2,FALSE),\"\")","v":""},"","",null,null,null,"","","","","","",1,null,null,"",1,null,"",1,null,"",1,null,"",1,null,{"$f":"IF(ISNUMBER(SMALL(#REF!,ROW()-2)),SMALL(#REF!,ROW()-2),\"\")","v":""},1,null,{"$f":"IF(#REF!,#REF!+0,)","v":{"$error":"#REF!"}},"",null,{"$f":"IF(ISNUMBER(AU90),VLOOKUP(AU90,AV:AW,2,FALSE),\"\")","v":""},null,{"$f":"P90","v":""},"",1,{"$f":"IF(ISNUMBER(AZ90),VLOOKUP(AZ90,BA:BB,2,FALSE),\"\")","v":""},null,"",1,null,null,{"$f":"P90","v":""},{"$f":"SUM(G90,G91,G92)","v":0},{"$f":"SUM(I90,I91,I92)","v":0},{"$f":"SUM(M90,M91,M92)","v":0},{"$f":"O90","v":""},{"$f":"#REF!","v":{"$error":"#REF!"}},{"$f":"SUM(K90,K91,K92)","v":0},{"$f":"#REF!","v":{"$error":"#REF!"}},{"$f":"IF(ISNUMBER(P90),CONCATENATE(BI90+100,BJ90+100,BK90+100,BO90+100,BL90+100,BM90+100)+0,\"\")","v":""},{"$f":"IF(ISNUMBER(SMALL(BQ:BQ,ROW()-2)),SMALL(BQ:BQ,ROW()-2),\"\")","v":""},"",1,null,null,"",1,null," ",null,null,null,null,null," ",{"$f":"VLOOKUP(N90,AO:AP,2,FALSE)","v":" "},""]
[null,"",{"$f":"CONCATENATE(B92,\"B\")","v":"30B"},null,null,null,"",null,"",null,"",null,"",null,null,null,null,"","",null,null,null,"","","","","","",1,null,null,"",1,null,"",1,null,"",1,null,"",1,null,{"$f":"IF(ISNUMBER(SMALL(#REF!,ROW()-2)),SMALL(#REF!,ROW()-2),\"\")","v":""},1,null,null,"",null,null,null,null,"",1,null,null,"",1,null,null,null,null,null,null,null,null,null,null,null,null,"",1,null,null,"",1,null," ",null,null,null,null,null," ",null,""]
[null,30,{"$f":"CONCATENATE(B92,\"C\")","v":"30C"},null,null,null,"",null,"",null,"",null,"",null,null,null,null,"","",null,null,null,"","","","","","",1,null,null,"",1,null,"",1,null,"",1,null,"",1,null,{"$f":"IF(ISNUMBER(SMALL(#REF!,ROW()-2)),SMALL(#REF!,ROW()-2),\"\")","v":""},1,null,null,"",null,null,null,null,"",1,null,null,"",1,null,null,null,null,null,null,null,null,null,null,null,null,"",1,null,null,"",1,null," ",null,null,null,null,null," ",null,""]
[null,"",{"$f":"CONCATENATE(B95,\"A\")","v":"31A"},null,null,null,"",null,"",null,"",null,"",null,{"$f":"IF(ISBLANK(N93),\"\",IF(N93=0,$CF$2,CG93))","v":""},{"$f":"IF(ISNUMBER(O93),IF(ISNUMBER(O93),IF(ISNUMBER(O93),O93+G93+G94+G95+I93+I94+I95+K93+K94+K95+M93+M94+M95,\"\"),\"\"),\"\")","v":""},{"$f":"IF(ISNUMBER(P93),VLOOKUP(BQ93,BS:BT,2,FALSE),\"\")","v":""},"","",null,null,null,"","","","","","",1,null,null,"",1,null,"",1,null,"",1,null,"",1,null,{"$f":"IF(ISNUMBER(SMALL(#REF!,ROW()-2)),SMALL(#REF!,ROW()-2),\"\")","v":""},1,null,{"$f":"IF(#REF!,#REF!+0,)","v":{"$error":"#REF!"}},"",null,{"$f":"IF(ISNUMBER(AU93),VLOOKUP(AU93,AV:AW,2,FALSE),\"\")","v":""},null,{"$f":"P93","v":""},"",1,{"$f":"IF(ISNUMBER(AZ93),VLOOKUP(AZ93,BA:BB,2,FALSE),\"\")","v":""},null,"",1,null,null,{"$f":"P93","v":""},{"$f":"SUM(G93,G94,G95)","v":0},{"$f":"SUM(I93,I94,I95)","v":0},{"$f":"SUM(M93,M94,M95)","v":0},{"$f":"O93","v":""},{"$f":"#REF!","v":{"$error":"#REF!"}},{"$f":"SUM(K93,K94,K95)","v":0},{"$f":"#REF!","v":{"$error":"#REF!"}},{"$f":"IF(ISNUMBER(P93),CONCATENATE(BI93+100,BJ93+100,BK93+100,BO93+100,BL93+100,BM93+100)+0,\"\")","v":""},{"$f":"IF(ISNUMBER(SMALL(BQ:BQ,ROW()-2)),SMALL(BQ:BQ,ROW()-2),\"\")","v":""},"",1,null,null,"",1,null," ",null,null,null,null,null," ",{"$f":"VLOOKUP(N93,AO:AP,2,FALSE)","v":" "},""]
[null,"",{"$f":"CONCATENATE(B95,\"B\")","v":"31B"},null,null,null,"",null,"",null,"",null,"",null,null,null,null,"","",null,null,null,"","","","","","",1,null,null,"",1,null,"",1,null,"",1,null,"",1,null,{"$f":"IF(ISNUMBER(SMALL(#REF!,ROW()-2)),SMALL(#REF!,ROW()-2),\"\")","v":""},1,null,null,"",null,null,null,null,"",1,null,null,"",1,null,null,null,null,null,null,null,null,null,null,null,null,"",1,null,null,"",1,null," ",null,null,null,null,null," ",null,""]
[null,31,{"$f":"CONCATENATE(B95,\"C\")","v":"31C"},null,null,null,"",null,"",null,"",null,"",null,null,null,null,"","",null,null,null,"","","","","","",1,null,null,"",1,null,"",1,null,"",1,null,"",1,null,{"$f":"IF(ISNUMBER(SMALL(#REF!,ROW()-2)),SMALL(#REF!,ROW()-2),\"\")","v":""},1,null,null,"",null,null,null,null,"",1,null,null,"",1,null,null,null,null,null,null,null,null,null,null,null,null,"",1,null,null,"",1,null," ",null,null,null,null,null," ",null,""]
[null,"",{"$f":"CONCATENATE(B98,\"A\")","v":"32A"},null,null,null,"",null,"",null,"",null,"",null,{"$f":"IF(ISBLANK(N96),\"\",IF(N96=0,$CF$2,CG96))","v":""},{"$f":"IF(ISNUMBER(O96),IF(ISNUMBER(O96),IF(ISNUMBER(O96),O96+G96+G97+G98+I96+I97+I98+K96+K97+K98+M96+M97+M98,\"\"),\"\"),\"\")","v":""},{"$f":"IF(ISNUMBER(P96),VLOOKUP(BQ96,BS:BT,2,FALSE),\"\")","v":""},"","",null,null,null,"","","","","","",1,null,null,"",1,null,"",1,null,"",1,null,"",1,null,{"$f":"IF(ISNUMBER(SMALL(#REF!,ROW()-2)),SMALL(#REF!,ROW()-2),\"\")","v":""},1,null,{"$f":"IF(#REF!,#REF!+0,)","v":{"$error":"#REF!"}},"",null,{"$f":"IF(ISNUMBER(AU96),VLOOKUP(AU96,AV:AW,2,FALSE),\"\")","v":""},null,{"$f":"P96","v":""},"",1,{"$f":"IF(ISNUMBER(AZ96),VLOOKUP(AZ96,BA:BB,2,FALSE),\"\")","v":""},null,"",1,null,null,{"$f":"P96","v":""},{"$f":"SUM(G96,G97,G98)","v":0},{"$f":"SUM(I96,I97,I98)","v":0},{"$f":"SUM(M96,M97,M98)","v":0},{"$f":"O96","v":""},{"$f":"#REF!","v":{"$error":"#REF!"}},{"$f":"SUM(K96,K97,K98)","v":0},{"$f":"#REF!","v":{"$error":"#REF!"}},{"$f":"IF(ISNUMBER(P96),CONCATENATE(BI96+100,BJ96+100,BK96+100,BO96+100,BL96+100,BM96+100)+0,\"\")","v":""},{"$f":"IF(ISNUMBER(SMALL(BQ:BQ,ROW()-2)),SMALL(BQ:BQ,ROW()-2),\"\")","v":""},"",1,null,null,"",1,null," ",null,null,null,null,null," ",{"$f":"VLOOKUP(N96,AO:AP,2,FALSE)","v":" "},""]
[null,"",{"$f":"CONCATENATE(B98,\"B\")","v":"32B"},null,null,null,"",null,"",null,"",null,"",null,null,null,null,"","",null,null,null,"","","","","","",1,null,null,"",1,null,"",1,null,"",1,null,"",1,null,{"$f":"IF(ISNUMBER(SMALL(#REF!,ROW()-2)),SMALL(#REF!,ROW()-2),\"\")","v":""},1,null,null,"",null,null,null,null,"",1,null,null,"",1,null,null,null,null,null,null,null,null,null,null,null,null,"",1,null,null,"",1,null," ",null,null,null,null,null," ",null,""]
[null,32,{"$f":"CONCATENATE(B98,\"C\")","v":"32C"},null,null,null,"",null,"",null,"",null,"",null,null,null,null,"","",null,null,null,"","","","","","",1,null,null,"",1,null,"",1,null,"",1,null,"",1,null,{"$f":"IF(ISNUMBER(SMALL(#REF!,ROW()-2)),SMALL(#REF!,ROW()-2),\"\")","v":""},1,null,null,"",null,null,null,null,"",1,null,null,"",1,null,null,null,null,null,null,null,null,null,null,null,null,"",1,null,null,"",1,null," ",null,null,null,null,null," ",null,""]
[null,"",{"$f":"CONCATENATE(B101,\"A\")","v":"33A"},null,null,null,{"$f":"IF(ISBLANK(F99),\"\",IF(F99=0,$CE$2,CF99))","v":""},null,"",null,"",null,{"$f":"IF(ISNUMBER(L99),VLOOKUP(L99,AL:AM,2,FALSE),\"\")","v":""},null,{"$f":"IF(ISBLANK(N99),\"\",IF(N99=0,$CF$2,CG99))","v":""},{"$f":"IF(ISNUMBER(O99),IF(ISNUMBER(O99),IF(ISNUMBER(O99),O99+G99+G100+G101+I99+I100+I101+K99+K100+K101+M99+M100+M101,\"\"),\"\"),\"\")","v":""},{"$f":"IF(ISNUMBER(P99),VLOOKUP(BQ99,BS:BT,2,FALSE),\"\")","v":""},"","",null,null,null,"","","","","","",1,null,null,{"$f":"IF(ISNUMBER(LARGE(F:F,ROW()-2)),LARGE(F:F,ROW()-2),\"\")","v":""},1,null,{"$f":"IF(ISNUMBER(SMALL(J:J,ROW()-2)),SMALL(J:J,ROW()-2),\"\")","v":""},1,null,{"$f":"IF(ISNUMBER(SMALL(L:L,ROW()-2)),SMALL(L:L,ROW()-2),\"\")","v":""},1,null,{"$f":"IF(ISNUMBER(LARGE(N:N,ROW()-2)),LARGE(N:N,ROW()-2),\"\")","v":""},1,null,{"$f":"IF(ISNUMBER(SMALL(#REF!,ROW()-2)),SMALL(#REF!,ROW()-2),\"\")","v":""},1,null,{"$f":"IF(#REF!,#REF!+0,)","v":{"$error":"#REF!"}},{"$f":"IF(ISNUMBER(LARGE(AU:AU,ROW()-2)),LARGE(AU:AU,ROW()-2),\"\")","v":""},null,{"$f":"IF(ISNUMBER(AU99),VLOOKUP(AU99,AV:AW,2,FALSE),\"\")","v":""},null,{"$f":"P99","v":""},{"$f":"IF(ISNUMBER(SMALL(P:P,ROW()-2)),SMALL(P:P,ROW()-2),\"\")","v":""},1,{"$f":"IF(ISNUMBER(AZ99),VLOOKUP(AZ99,BA:BB,2,FALSE),\"\")","v":""},null,"",1,null,null,{"$f":"P99","v":""},{"$f":"SUM(G99,G100,G101)","v":0},{"$f":"SUM(I99,I100,I101)","v":0},{"$f":"SUM(M99,M100,M101)","v":0},{"$f":"O99","v":""},{"$f":"#REF!","v":{"$error":"#REF!"}},{"$f":"SUM(K99,K100,K101)","v":0},{"$f":"#REF!","v":{"$error":"#REF!"}},{"$f":"IF(ISNUMBER(P99),CONCATENATE(BI99+100,BJ99+100,BK99+100,BO99+100,BL99+100,BM99+100)+0,\"\")","v":""},{"$f":"IF(ISNUMBER(SMALL(BQ:BQ,ROW()-2)),SMALL(BQ:BQ,ROW()-2),\"\")","v":""},"",1,null,null,{"$f":"IF(ISNUMBER(LARGE(H:H,ROW()-2)),LARGE(H:H,ROW()-2),\"\")","v":""},1,null," ",null,null,null,null,null," ",{"$f":"VLOOKUP(N99,AO:AP,2,FALSE)","v":" "},""]
[null,"",{"$f":"CONCATENATE(B101,\"B\")","v":"33B"},null,null,null,"",null,"",null,"",null,"",null,null,null,null,"","",null,null,null,"","","","","","",1,null,null,"",{"$f":"IF(AF99<>AF100,AG99+1,AG99)","v":1},null,"",1,null,"",1,null,"",1,null,{"$f":"IF(ISNUMBER(SMALL(#REF!,ROW()-2)),SMALL(#REF!,ROW()-2),\"\")","v":""},1,null,null,"",null,null,null,null,"",1,null,null,"",1,null,null,null,null,null,null,null,null,null,null,null,null,"",1,null,null,"",1,null," ",null,null,null,null,null," ",null,""]
[null,33,{"$f":"CONCATENATE(B101,\"C\")","v":"33C"},null,null,null,"",null,"",null,"",null,"",null,null,null,null,"","",null,null,null,"","","","","","",1,null,null,"",1,null,"",1,null,"",1,null,"",1,null,{"$f":"IF(ISNUMBER(SMALL(#REF!,ROW()-2)),SMALL(#REF!,ROW()-2),\"\")","v":""},1,null,null,"",null,null,null,null,"",1,null,null,"",1,null,null,null,null,null,null,null,null,null,null,null,null,"",1,null,null,"",1,null," ",null,null,null,null,null," ",null,""]
[null,"",{"$f":"CONCATENATE(B104,\"A\")","v":"34A"},null,null,null,"",null,"",null,"",null,"",null,{"$f":"IF(ISBLANK(N102),\"\",IF(N102=0,$CF$2,CG102))","v":""},{"$f":"IF(ISNUMBER(O102),IF(ISNUMBER(O102),IF(ISNUMBER(O102),O102+G102+G103+G104+I102+I103+I104+K102+K103+K104+M102+M103+M104,\"\"),\"\"),\"\")","v":""},{"$f":"IF(ISNUMBER(P102),VLOOKUP(BQ102,BS:BT,2,FALSE),\"\")","v":""},"","",null,null,null,"","","","","","",1,null,null,"",1,null,"",1,null,"",1,null,"",1,null,{"$f":"IF(ISNUMBER(SMALL(#REF!,ROW()-2)),SMALL(#REF!,ROW()-2),\"\")","v":""},1,null,{"$f":"IF(#REF!,#REF!+0,)","v":{"$error":"#REF!"}},"",null,{"$f":"IF(ISNUMBER(AU102),VLOOKUP(AU102,AV:AW,2,FALSE),\"\")","v":""},null,{"$f":"P102","v":""},"",1,{"$f":"IF(ISNUMBER(AZ102),VLOOKUP(AZ102,BA:BB,2,FALSE),\"\")","v":""},null,"",1,null,null,{"$f":"P102","v":""},{"$f":"SUM(G102,G103,G104)","v":0},{"$f":"SUM(I102,I103,I104)","v":0},{"$f":"SUM(M102,M103,M104)","v":0},{"$f":"O102","v":""},{"$f":"#REF!","v":{"$error":"#REF!"}},{"$f":"SUM(K102,K103,K104)","v":0},{"$f":"#REF!","v":{"$error":"#REF!"}},{"$f":"IF(ISNUMBER(P102),CONCATENATE(BI102+100,BJ102+100,BK102+100,BO102+100,BL102+100,BM102+100)+0,\"\")","v":""},{"$f":"IF(ISNUMBER(SMALL(BQ:BQ,ROW()-2)),SMALL(BQ:BQ,ROW()-2),\"\")","v":""},"",1,null,null,"",1,null," ",null,null,null,null,null," ",{"$f":"VLOOKUP(N102,AO:AP,2,FALSE)","v":" "},""]
[null,"",{"$f":"CONCATENATE(B104,\"B\")","v":"34B"},null,null,null,"",null,"",null,"",null,"",null,null,null,null,"","",null,null,null,"","","","","","",1,null,null,"",1,null,"",1,null,"",1,null,"",1,null,{"$f":"IF(ISNUMBER(SMALL(#REF!,ROW()-2)),SMALL(#REF!,ROW()-2),\"\")","v":""},1,null,null,"",null,null,null,null,"",1,null,null,"",1,null,null,null,null,null,null,null,null,null,null,null,null,"",1,null,null,"",1,null," ",null,null,null,null,null," ",null,""]
[null,34,{"$f":"CONCATENATE(B104,\"C\")","v":"34C"},null,null,null,"",null,"",null,"",null,"",null,null,null,null,"","",null,null,null,"","","","","","",1,null,null,"",1,null,"",1,null,"",1,null,"",1,null,{"$f":"IF(ISNUMBER(SMALL(#REF!,ROW()-2)),SMALL(#REF!,ROW()-2),\"\")","v":""},1,null,null,"",null,null,null,null,"",1,null,null,"",1,null,null,null,null,null,null,null,null,null,null,null,null,"",1,null,null,"",1,null," ",null,null,null,null,null," ",null,""]
[null,"",{"$f":"CONCATENATE(B107,\"A\")","v":"35A"},null,null,null,"",null,"",null,"",null,"",null,{"$f":"IF(ISBLANK(N105),\"\",IF(N105=0,$CF$2,CG105))","v":""},{"$f":"IF(ISNUMBER(O105),IF(ISNUMBER(O105),IF(ISNUMBER(O105),O105+G105+G106+G107+I105+I106+I107+K105+K106+K107+M105+M106+M107,\"\"),\"\"),\"\")","v":""},{"$f":"IF(ISNUMBER(P105),VLOOKUP(BQ105,BS:BT,2,FALSE),\"\")","v":""},"","",null,null,null,"","","","","","",1,null,null,"",1,null,"",1,null,"",1,null,"",1,null,{"$f":"IF(ISNUMBER(SMALL(#REF!,ROW()-2)),SMALL(#REF!,ROW()-2),\"\")","v":""},1,null,{"$f":"IF(#REF!,#REF!+0,)","v":{"$error":"#REF!"}},"",null,{"$f":"IF(ISNUMBER(AU105),VLOOKUP(AU105,AV:AW,2,FALSE),\"\")","v":""},null,{"$f":"P105","v":""},"",1,{"$f":"IF(ISNUMBER(AZ105),VLOOKUP(AZ105,BA:BB,2,FALSE),\"\")","v":""},null,"",1,null,null,{"$f":"P105","v":""},{"$f":"SUM(G105,G106,G107)","v":0},{"$f":"SUM(I105,I106,I107)","v":0},{"$f":"SUM(M105,M106,M107)","v":0},{"$f":"O105","v":""},{"$f":"#REF!","v":{"$error":"#REF!"}},{"$f":"SUM(K105,K106,K107)","v":0},{"$f":"#REF!","v":{"$error":"#REF!"}},{"$f":"IF(ISNUMBER(P105),CONCATENATE(BI105+100,BJ105+100,BK105+100,BO105+100,BL105+100,BM105+100)+0,\"\")","v":""},{"$f":"IF(ISNUMBER(SMALL(BQ:BQ,ROW()-2)),SMALL(BQ:BQ,ROW()-2),\"\")","v":""},"",1,null,null,"",1,null," ",null,null,null,null,null," ",{"$f":"VLOOKUP(N105,AO:AP,2,FALSE)","v":" "},""]
[null,"",{"$f":"CONCATENATE(B107,\"B\")","v":"35B"},null,null,null,"",null,"",null,"",null,"",null,null,null,null,"","",null,null,null,"","","","","","",1,null,null,"",1,null,"",1,null,"",1,null,"",1,null,{"$f":"IF(ISNUMBER(SMALL(#REF!,ROW()-2)),SMALL(#REF!,ROW()-2),\"\")","v":""},1,null,null,"",null,null,null,null,"",1,null,null,"",1,null,null,null,null,null,null,null,null,null,null,null,null,"",1,null,null,"",1,null," ",null,null,null,null,null," ",null,""]
[null,35,{"$f":"CONCATENATE(B107,\"C\")","v":"35C"},null,null,null,"",null,"",null,"",null,"",null,null,null,null,"","",null,null,null,"","","","","","",1,null,null,"",1,null,"",1,null,"",1,null,"",1,null,{"$f":"IF(ISNUMBER(SMALL(#REF!,ROW()-2)),SMALL(#REF!,ROW()-2),\"\")","v":""},1,null,null,"",null,null,null,null,"",1,null,null,"",1,null,null,null,null,null,null,null,null,null,null,null,null,"",1,null,null,"",1,null," ",null,null,null,null,null," ",null,""]
[null,"",{"$f":"CONCATENATE(B110,\"A\")","v":"36A"},null,null,null,"",null,"",null,"",null,"",null,{"$f":"IF(ISBLANK(N108),\"\",IF(N108=0,$CF$2,CG108))","v":""},{"$f":"IF(ISNUMBER(O108),IF(ISNUMBER(O108),IF(ISNUMBER(O108),O108+G108+G109+G110+I108+I109+I110+K108+K109+K110+M108+M109+M110,\"\"),\"\"),\"\")","v":""},{"$f":"IF(ISNUMBER(P108),VLOOKUP(BQ108,BS:BT,2,FALSE),\"\")","v":""},"","",null,null,null,"","","","","","",1,null,null,"",1,null,"",1,null,"",1,null,"",1,null,{"$f":"IF(ISNUMBER(SMALL(#REF!,ROW()-2)),SMALL(#REF!,ROW()-2),\"\")","v":""},1,null,{"$f":"IF(#REF!,#REF!+0,)","v":{"$error":"#REF!"}},"",null,{"$f":"IF(ISNUMBER(AU108),VLOOKUP(AU108,AV:AW,2,FALSE),\"\")","v":""},null,{"$f":"P108","v":""},"",1,{"$f":"IF(ISNUMBER(AZ108),VLOOKUP(AZ108,BA:BB,2,FALSE),\"\")","v":""},null,"",1,null,null,{"$f":"P108","v":""},{"$f":"SUM(G108,G109,G110)","v":0},{"$f":"SUM(I108,I109,I110)","v":0},{"$f":"SUM(M108,M109,M110)","v":0},{"$f":"O108","v":""},{"$f":"#REF!","v":{"$error":"#REF!"}},{"$f":"SUM(K108,K109,K110)","v":0},{"$f":"#REF!","v":{"$error":"#REF!"}},{"$f":"IF(ISNUMBER(P108),CONCATENATE(BI108+100,BJ108+100,BK108+100,BO108+100,BL108+100,BM108+100)+0,\"\")","v":""},{"$f":"IF(ISNUMBER(SMALL(BQ:BQ,ROW()-2)),SMALL(BQ:BQ,ROW()-2),\"\")","v":""},"",1,null,null,"",1,null," ",null,null,null,null,null," ",{"$f":"VLOOKUP(N108,AO:AP,2,FALSE)","v":" "},""]
[null,"",{"$f":"CONCATENATE(B110,\"B\")","v":"36B"},null,null,null,"",null,"",null,"",null,"",null,null,null,null,"","",null,null,null,"","","","","","",1,null,null,"",1,null,"",1,null,"",1,null,"",1,null,{"$f":"IF(ISNUMBER(SMALL(#REF!,ROW()-2)),SMALL(#REF!,ROW()-2),\"\")","v":""},1,null,null,"",null,null,null,null,"",1,null,null,"",1,null,null,null,null,null,null,null,null,null,null,null,null,"",1,null,null,"",1,null," ",null,null,null,null,null," ",null,""]
[null,36,{"$f":"CONCATENATE(B110,\"C\")","v":"36C"},null,null,null,"",null,"",null,"",null,"",null,null,null,null,"","",null,null,null,"","","","","","",1,null,null,"",1,null,"",1,null,"",1,null,"",1,null,{"$f":"IF(ISNUMBER(SMALL(#REF!,ROW()-2)),SMALL(#REF!,ROW()-2),\"\")","v":""},1,null,null,"",null,null,null,null,"",1,null,null,"",1,null,null,null,null,null,null,null,null,null,null,null,null,"",1,null,null,"",1,null," ",null,null,null,null,null," ",null,""]
[null,"",{"$f":"CONCATENATE(B113,\"A\")","v":"37A"},null,null,null,"",null,"",null,"",null,"",null,{"$f":"IF(ISBLANK(N111),\"\",IF(N111=0,$CF$2,CG111))","v":""},{"$f":"IF(ISNUMBER(O111),IF(ISNUMBER(O111),IF(ISNUMBER(O111),O111+G111+G112+G113+I111+I112+I113+K111+K112+K113+M111+M112+M113,\"\"),\"\"),\"\")","v":""},{"$f":"IF(ISNUMBER(P111),VLOOKUP(BQ111,BS:BT,2,FALSE),\"\")","v":""},"","",null,null,null,"","","","","","",1,null,null,"",1,null,"",1,null,"",1,null,"",1,null,{"$f":"IF(ISNUMBER(SMALL(#REF!,ROW()-2)),SMALL(#REF!,ROW()-2),\"\")","v":""},1,null,{"$f":"IF(#REF!,#REF!+0,)","v":{"$error":"#REF!"}},"",null,{"$f":"IF(ISNUMBER(AU111),VLOOKUP(AU111,AV:AW,2,FALSE),\"\")","v":""},null,{"$f":"P111","v":""},"",1,{"$f":"IF(ISNUMBER(AZ111),VLOOKUP(AZ111,BA:BB,2,FALSE),\"\")","v":""},null,"",1,null,null,{"$f":"P111","v":""},{"$f":"SUM(G111,G112,G113)","v":0},{"$f":"SUM(I111,I112,I113)","v":0},{"$f":"SUM(M111,M112,M113)","v":0},{"$f":"O111","v":""},{"$f":"#REF!","v":{"$error":"#REF!"}},{"$f":"SUM(K111,K112,K113)","v":0},{"$f":"#REF!","v":{"$error":"#REF!"}},{"$f":"IF(ISNUMBER(P111),CONCATENATE(BI111+100,BJ111+100,BK111+100,BO111+100,BL111+100,BM111+100)+0,\"\")","v":""},{"$f":"IF(ISNUMBER(SMALL(BQ:BQ,ROW()-2)),SMALL(BQ:BQ,ROW()-2),\"\")","v":""},"",1,null,null,"",1,null," ",null,null,null,null,null," ",{"$f":"VLOOKUP(N111,AO:AP,2,FALSE)","v":" "},""]
[null,"",{"$f":"CONCATENATE(B113,\"B\")","v":"37B"},null,null,null,"",null,"",null,"",null,"",null,null,null,null,"","",null,null,null,"","","","","","",1,null,null,"",1,null,"",1,null,"",1,null,"",1,null,{"$f":"IF(ISNUMBER(SMALL(#REF!,ROW()-2)),SMALL(#REF!,ROW()-2),\"\")","v":""},1,null,null,"",null,null,null,null,"",1,null,null,"",1,null,null,null,null,null,null,null,null,null,null,null,null,"",1,null,null,"",1,null," ",null,null,null,null,null," ",null,""]
[null,37,{"$f":"CONCATENATE(B113,\"C\")","v":"37C"},null,null,null,"",null,"",null,"",null,"",null,null,null,null,"","",null,null,null,"","","","","","",1,null,null,"",1,null,"",1,null,"",1,null,"",1,null,{"$f":"IF(ISNUMBER(SMALL(#REF!,ROW()-2)),SMALL(#REF!,ROW()-2),\"\")","v":""},1,null,null,"",null,null,null,null,"",1,null,null,"",1,null,null,null,null,null,null,null,null,null,null,null,null,"",1,null,null,"",1,null," ",null,null,null,null,null," ",null,""]
[null,"",{"$f":"CONCATENATE(B116,\"A\")","v":"38A"},null,null,null,"",null,"",null,"",null,"",null,{"$f":"IF(ISBLANK(N114),\"\",IF(N114=0,$CF$2,CG114))","v":""},{"$f":"IF(ISNUMBER(O114),IF(ISNUMBER(O114),IF(ISNUMBER(O114),O114+G114+G115+G116+I114+I115+I116+K114+K115+K116+M114+M115+M116,\"\"),\"\"),\"\")","v":""},{"$f":"IF(ISNUMBER(P114),VLOOKUP(BQ114,BS:BT,2,FALSE),\"\")","v":""},"","",null,null,null,"","","","","","",1,null,null,"",1,null,"",1,null,"",1,null,"",1,null,{"$f":"IF(ISNUMBER(SMALL(#REF!,ROW()-2)),SMALL(#REF!,ROW()-2),\"\")","v":""},1,null,{"$f":"IF(#REF!,#REF!+0,)","v":{"$error":"#REF!"}},"",null,{"$f":"IF(ISNUMBER(AU114),VLOOKUP(AU114,AV:AW,2,FALSE),\"\")","v":""},null,{"$f":"P114","v":""},"",1,{"$f":"IF(ISNUMBER(AZ114),VLOOKUP(AZ114,BA:BB,2,FALSE),\"\")","v":""},null,"",1,null,null,{"$f":"P114","v":""},{"$f":"SUM(G114,G115,G116)","v":0},{"$f":"SUM(I114,I115,I116)","v":0},{"$f":"SUM(M114,M115,M116)","v":0},{"$f":"O114","v":""},{"$f":"#REF!","v":{"$error":"#REF!"}},{"$f":"SUM(K114,K115,K116)","v":0},{"$f":"#REF!","v":{"$error":"#REF!"}},{"$f":"IF(ISNUMBER(P114),CONCATENATE(BI114+100,BJ114+100,BK114+100,BO114+100,BL114+100,BM114+100)+0,\"\")","v":""},{"$f":"IF(ISNUMBER(SMALL(BQ:BQ,ROW()-2)),SMALL(BQ:BQ,ROW()-2),\"\")","v":""},"",1,null,null,"",1,null," ",null,null,null,null,null," ",{"$f":"VLOOKUP(N114,AO:AP,2,FALSE)","v":" "},""]
[null,"",{"$f":"CONCATENATE(B116,\"B\")","v":"38B"},null,null,null,"",null,"",null,"",null,"",null,null,null,null,"","",null,null,null,"","","","","","",1,null,null,"",1,null,"",1,null,"",1,null,"",1,null,{"$f":"IF(ISNUMBER(SMALL(#REF!,ROW()-2)),SMALL(#REF!,ROW()-2),\"\")","v":""},1,null,null,"",null,null,null,null,"",1,null,null,"",1,null,null,null,null,null,null,null,null,null,null,null,null,"",1,null,null,"",1,null," ",null,null,null,null,null," ",null,""]
[null,38,{"$f":"CONCATENATE(B116,\"C\")","v":"38C"},null,null,null,"",null,"",null,"",null,"",null,null,null,null,"","",null,null,null,"","","","","","",1,null,null,"",1,null,"",1,null,"",1,null,"",1,null,{"$f":"IF(ISNUMBER(SMALL(#REF!,ROW()-2)),SMALL(#REF!,ROW()-2),\"\")","v":""},1,null,null,"",null,null,null,null,"",1,null,null,"",1,null,null,null,null,null,null,null,null,null,null,null,null,"",1,null,null,"",1,null," ",null,null,null,null,null," ",null,""]
[null,"",{"$f":"CONCATENATE(B119,\"A\")","v":"39A"},null,null,null,"",null,"",null,"",null,"",null,{"$f":"IF(ISBLANK(N117),\"\",IF(N117=0,$CF$2,CG117))","v":""},{"$f":"IF(ISNUMBER(O117),IF(ISNUMBER(O117),IF(ISNUMBER(O117),O117+G117+G118+G119+I117+I118+I119+K117+K118+K119+M117+M118+M119,\"\"),\"\"),\"\")","v":""},{"$f":"IF(ISNUMBER(P117),VLOOKUP(BQ117,BS:BT,2,FALSE),\"\")","v":""},"","",null,null,null,"","","","","","",1,null,null,"",1,null,"",1,null,"",1,null,"",1,null,{"$f":"IF(ISNUMBER(SMALL(#REF!,ROW()-2)),SMALL(#REF!,ROW()-2),\"\")","v":""},1,null,{"$f":"IF(#REF!,#REF!+0,)","v":{"$error":"#REF!"}},"",null,{"$f":"IF(ISNUMBER(AU117),VLOOKUP(AU117,AV:AW,2,FALSE),\"\")","v":""},null,{"$f":"P117","v":""},"",1,{"$f":"IF(ISNUMBER(AZ117),VLOOKUP(AZ117,BA:BB,2,FALSE),\"\")","v":""},null,"",1,null,null,{"$f":"P117","v":""},{"$f":"SUM(G117,G118,G119)","v":0},{"$f":"SUM(I117,I118,I119)","v":0},{"$f":"SUM(M117,M118,M119)","v":0},{"$f":"O117","v":""},{"$f":"#REF!","v":{"$error":"#REF!"}},{"$f":"SUM(K117,K118,K119)","v":0},{"$f":"#REF!","v":{"$error":"#REF!"}},{"$f":"IF(ISNUMBER(P117),CONCATENATE(BI117+100,BJ117+100,BK117+100,BO117+100,BL117+100,BM117+100)+0,\"\")","v":""},{"$f":"IF(ISNUMBER(SMALL(BQ:BQ,ROW()-2)),SMALL(BQ:BQ,ROW()-2),\"\")","v":""},"",1,null,null,"",1,null," ",null,null,null,null,null," ",{"$f":"VLOOKUP(N117,AO:AP,2,FALSE)","v":" "},""]
[null,"",{"$f":"CONCATENATE(B119,\"B\")","v":"39B"},null,null,null,"",null,"",null,"",null,"",null,null,null,null,"","",null,null,null,"","","","","","",1,null,null,"",1,null,"",1,null,"",1,null,"",1,null,{"$f":"IF(ISNUMBER(SMALL(#REF!,ROW()-2)),SMALL(#REF!,ROW()-2),\"\")","v":""},1,null,null,"",null,null,null,null,"",1,null,null,"",1,null,null,null,null,null,null,null,null,null,null,null,null,"",1,null,null,"",1,null," ",null,null,null,null,null," ",null,""]
[null,39,{"$f":"CONCATENATE(B119,\"C\")","v":"39C"},null,null,null,"",null,"",null,"",null,"",null,null,null,null,"","",null,null,null,"","","","","","",1,null,null,"",1,null,"",1,null,"",1,null,"",1,null,{"$f":"IF(ISNUMBER(SMALL(#REF!,ROW()-2)),SMALL(#REF!,ROW()-2),\"\")","v":""},1,null,null,"",null,null,null,null,"",1,null,null,"",1,null,null,null,null,null,null,null,null,null,null,null,null,"",1,null,null,"",1,null," ",null,null,null,null,null," ",null,""]
[null,"",{"$f":"CONCATENATE(B122,\"A\")","v":"40A"},null,null,null,"",null,"",null,"",null,"",null,{"$f":"IF(ISBLANK(N120),\"\",IF(N120=0,$CF$2,CG120))","v":""},{"$f":"IF(ISNUMBER(O120),IF(ISNUMBER(O120),IF(ISNUMBER(O120),O120+G120+G121+G122+I120+I121+I122+K120+K121+K122+M120+M121+M122,\"\"),\"\"),\"\")","v":""},{"$f":"IF(ISNUMBER(P120),VLOOKUP(BQ120,BS:BT,2,FALSE),\"\")","v":""},"","",null,null,null,"","","","","","",1,null,null,"",1,null,"",1,null,"",1,null,"",1,null,{"$f":"IF(ISNUMBER(SMALL(#REF!,ROW()-2)),SMALL(#REF!,ROW()-2),\"\")","v":""},1,null,{"$f":"IF(#REF!,#REF!+0,)","v":{"$error":"#REF!"}},"",null,{"$f":"IF(ISNUMBER(AU120),VLOOKUP(AU120,AV:AW,2,FALSE),\"\")","v":""},null,{"$f":"P120","v":""},"",1,{"$f":"IF(ISNUMBER(AZ120),VLOOKUP(AZ120,BA:BB,2,FALSE),\"\")","v":""},null,"",1,null,null,{"$f":"P120","v":""},{"$f":"SUM(G120,G121,G122)","v":0},{"$f":"SUM(I120,I121,I122)","v":0},{"$f":"SUM(M120,M121,M122)","v":0},{"$f":"O120","v":""},{"$f":"#REF!","v":{"$error":"#REF!"}},{"$f":"SUM(K120,K121,K122)","v":0},{"$f":"#REF!","v":{"$error":"#REF!"}},{"$f":"IF(ISNUMBER(P120),CONCATENATE(BI120+100,BJ120+100,BK120+100,BO120+100,BL120+100,BM120+100)+0,\"\")","v":""},{"$f":"IF(ISNUMBER(SMALL(BQ:BQ,ROW()-2)),SMALL(BQ:BQ,ROW()-2),\"\")","v":""},"",1,null,null,"",1,null," ",null,null,null,null,null," ",{"$f":"VLOOKUP(N120,AO:AP,2,FALSE)","v":" "},""]
[null,"",{"$f":"CONCATENATE(B122,\"B\")","v":"40B"},null,null,null,"",null,"",null,"",null,"",null,null,null,null,"","",null,null,null,"","","","","","",1,null,null,"",1,null,"",1,null,"",1,null,"",1,null,{"$f":"IF(ISNUMBER(SMALL(#REF!,ROW()-2)),SMALL(#REF!,ROW()-2),\"\")","v":""},1,null,null,"",null,null,null,null,"",1,null,null,"",1,null,null,null,null,null,null,null,null,null,null,null,null,"",1,null,null,"",1,null," ",null,null,null,null,null," ",null,""]
[null,40,{"$f":"CONCATENATE(B122,\"C\")","v":"40C"},null,null,null,"",null,"",null,"",null,"",null,null,null,null,"","",null,null,null,"","","","","","",1,null,null,"",1,null,"",1,null,"",1,null,"",1,null,{"$f":"IF(ISNUMBER(SMALL(#REF!,ROW()-2)),SMALL(#REF!,ROW()-2),\"\")","v":""},1,null,null,"",null,null,null,null,"",1,null,null,"",1,null,null,null,null,null,null,null,null,null,null,null,null,"",1,null,null,"",1,null," ",null,null,null,null,null," ",null,""]
[null,"",{"$f":"CONCATENATE(B125,\"A\")","v":"41A"},null,null,null,"",null,"",null,"",null,"",null,{"$f":"IF(ISBLANK(N123),\"\",IF(N123=0,$CF$2,CG123))","v":""},{"$f":"IF(ISNUMBER(O123),IF(ISNUMBER(O123),IF(ISNUMBER(O123),O123+G123+G124+G125+I123+I124+I125+K123+K124+K125+M123+M124+M125,\"\"),\"\"),\"\")","v":""},{"$f":"IF(ISNUMBER(P123),VLOOKUP(BQ123,BS:BT,2,FALSE),\"\")","v":""},"","",null,null,null,"","","","","","",1,null,null,"",1,null,"",1,null,"",1,null,"",1,null,{"$f":"IF(ISNUMBER(SMALL(#REF!,ROW()-2)),SMALL(#REF!,ROW()-2),\"\")","v":""},1,null,{"$f":"IF(#REF!,#REF!+0,)","v":{"$error":"#REF!"}},"",null,{"$f":"IF(ISNUMBER(AU123),VLOOKUP(AU123,AV:AW,2,FALSE),\"\")","v":""},null,{"$f":"P123","v":""},"",1,{"$f":"IF(ISNUMBER(AZ123),VLOOKUP(AZ123,BA:BB,2,FALSE),\"\")","v":""},null,"",1,null,null,{"$f":"P123","v":""},{"$f":"SUM(G123,G124,G125)","v":0},{"$f":"SUM(I123,I124,I125)","v":0},{"$f":"SUM(M123,M124,M125)","v":0},{"$f":"O123","v":""},{"$f":"#REF!","v":{"$error":"#REF!"}},{"$f":"SUM(K123,K124,K125)","v":0},{"$f":"#REF!","v":{"$error":"#REF!"}},{"$f":"IF(ISNUMBER(P123),CONCATENATE(BI123+100,BJ123+100,BK123+100,BO123+100,BL123+100,BM123+100)+0,\"\")","v":""},{"$f":"IF(ISNUMBER(SMALL(BQ:BQ,ROW()-2)),SMALL(BQ:BQ,ROW()-2),\"\")","v":""},"",1,null,null,"",1,null," ",null,null,null,null,null," ",{"$f":"VLOOKUP(N123,AO:AP,2,FALSE)","v":" "},""]
[null,"",{"$f":"CONCATENATE(B125,\"B\")","v":"41B"},null,null,null,"",null,"",null,"",null,"",null,null,null,null,"","",null,null,null,"","","","","","",1,null,null,"",1,null,"",1,null,"",1,null,"",1,null,{"$f":"IF(ISNUMBER(SMALL(#REF!,ROW()-2)),SMALL(#REF!,ROW()-2),\"\")","v":""},1,null,null,"",null,null,null,null,"",1,null,null,"",1,null,null,null,null,null,null,null,null,null,null,null,null,"",1,null,null,"",1,null," ",null,null,null,null,null," ",null,""]
[null,41,{"$f":"CONCATENATE(B125,\"C\")","v":"41C"},null,null,null,"",null,"",null,"",null,"",null,null,null,null,"","",null,null,null,"","","","","","",1,null,null,"",1,null,"",1,null,"",1,null,"",1,null,{"$f":"IF(ISNUMBER(SMALL(#REF!,ROW()-2)),SMALL(#REF!,ROW()-2),\"\")","v":""},1,null,null,"",null,null,null,null,"",1,null,null,"",1,null,null,null,null,null,null,null,null,null,null,null,null,"",1,null,null,"",1,null," ",null,null,null,null,null," ",null,""]
[null,"",{"$f":"CONCATENATE(B128,\"A\")","v":"42A"},null,null,null,"",null,"",null,"",null,"",null,{"$f":"IF(ISBLANK(N126),\"\",IF(N126=0,$CF$2,CG126))","v":""},{"$f":"IF(ISNUMBER(O126),IF(ISNUMBER(O126),IF(ISNUMBER(O126),O126+G126+G127+G128+I126+I127+I128+K126+K127+K128+M126+M127+M128,\"\"),\"\"),\"\")","v":""},{"$f":"IF(ISNUMBER(P126),VLOOKUP(BQ126,BS:BT,2,FALSE),\"\")","v":""},"","",null,null,null,"","","","","","",1,null,null,"",1,null,"",1,null,"",1,null,"",1,null,{"$f":"IF(ISNUMBER(SMALL(#REF!,ROW()-2)),SMALL(#REF!,ROW()-2),\"\")","v":""},1,null,{"$f":"IF(#REF!,#REF!+0,)","v":{"$error":"#REF!"}},"",null,{"$f":"IF(ISNUMBER(AU126),VLOOKUP(AU126,AV:AW,2,FALSE),\"\")","v":""},null,{"$f":"P126","v":""},"",1,{"$f":"IF(ISNUMBER(AZ126),VLOOKUP(AZ126,BA:BB,2,FALSE),\"\")","v":""},null,"",1,null,null,{"$f":"P126","v":""},{"$f":"SUM(G126,G127,G128)","v":0},{"$f":"SUM(I126,I127,I128)","v":0},{"$f":"SUM(M126,M127,M128)","v":0},{"$f":"O126","v":""},{"$f":"#REF!","v":{"$error":"#REF!"}},{"$f":"SUM(K126,K127,K128)","v":0},{"$f":"#REF!","v":{"$error":"#REF!"}},{"$f":"IF(ISNUMBER(P126),CONCATENATE(BI126+100,BJ126+100,BK126+100,BO126+100,BL126+100,BM126+100)+0,\"\")","v":""},{"$f":"IF(ISNUMBER(SMALL(BQ:BQ,ROW()-2)),SMALL(BQ:BQ,ROW()-2),\"\")","v":""},"",1,null,null,"",1,null," ",null,null,null,null,null," ",{"$f":"VLOOKUP(N126,AO:AP,2,FALSE)","v":" "},""]
[null,"",{"$f":"CONCATENATE(B128,\"B\")","v":"42B"},null,null,null,"",null,"",null,"",null,"",null,null,null,null,"","",null,null,null,"","","","","","",1,null,null,"",1,null,"",1,null,"",1,null,"",1,null,{"$f":"IF(ISNUMBER(SMALL(#REF!,ROW()-2)),SMALL(#REF!,ROW()-2),\"\")","v":""},1,null,null,"",null,null,null,null,"",1,null,null,"",1,null,null,null,null,null,null,null,null,null,null,null,null,"",1,null,null,"",1,null," ",null,null,null,null,null," ",null,""]
[null,42,{"$f":"CONCATENATE(B128,\"C\")","v":"42C"},null,null,null,"",null,"",null,"",null,"",null,null,null,null,"","",null,null,null,"","","","","","",1,null,null,"",1,null,"",1,null,"",1,null,"",1,null,{"$f":"IF(ISNUMBER(SMALL(#REF!,ROW()-2)),SMALL(#REF!,ROW()-2),\"\")","v":""},1,null,null,"",null,null,null,null,"",1,null,null,"",1,null,null,null,null,null,null,null,null,null,null,null,null,"",1,null,null,"",1,null," ",null,null,null,null,null," ",null,""]
[null,"",{"$f":"CONCATENATE(B131,\"A\")","v":"43A"},null,null,null,"",null,"",null,"",null,"",null,{"$f":"IF(ISBLANK(N129),\"\",IF(N129=0,$CF$2,CG129))","v":""},{"$f":"IF(ISNUMBER(O129),IF(ISNUMBER(O129),IF(ISNUMBER(O129),O129+G129+G130+G131+I129+I130+I131+K129+K130+K131+M129+M130+M131,\"\"),\"\"),\"\")","v":""},{"$f":"IF(ISNUMBER(P129),VLOOKUP(BQ129,BS:BT,2,FALSE),\"\")","v":""},"","",null,null,null,"","","","","","",1,null,null,"",1,null,"",1,null,"",1,null,"",1,null,{"$f":"IF(ISNUMBER(SMALL(#REF!,ROW()-2)),SMALL(#REF!,ROW()-2),\"\")","v":""},1,null,{"$f":"IF(#REF!,#REF!+0,)","v":{"$error":"#REF!"}},"",null,{"$f":"IF(ISNUMBER(AU129),VLOOKUP(AU129,AV:AW,2,FALSE),\"\")","v":""},null,{"$f":"P129","v":""},"",1,{"$f":"IF(ISNUMBER(AZ129),VLOOKUP(AZ129,BA:BB,2,FALSE),\"\")","v":""},null,"",1,null,null,{"$f":"P129","v":""},{"$f":"SUM(G129,G130,G131)","v":0},{"$f":"SUM(I129,I130,I131)","v":0},{"$f":"SUM(M129,M130,M131)","v":0},{"$f":"O129","v":""},{"$f":"#REF!","v":{"$error":"#REF!"}},{"$f":"SUM(K129,K130,K131)","v":0},{"$f":"#REF!","v":{"$error":"#REF!"}},{"$f":"IF(ISNUMBER(P129),CONCATENATE(BI129+100,BJ129+100,BK129+100,BO129+100,BL129+100,BM129+100)+0,\"\")","v":""},{"$f":"IF(ISNUMBER(SMALL(BQ:BQ,ROW()-2)),SMALL(BQ:BQ,ROW()-2),\"\")","v":""},"",1,null,null,"",1,null," ",null,null,null,null,null," ",{"$f":"VLOOKUP(N129,AO:AP,2,FALSE)","v":" "},""]
[null,"",{"$f":"CONCATENATE(B131,\"B\")","v":"43B"},null,null,null,"",null,"",null,"",null,"",null,null,null,null,"","",null,null,null,"","","","","","",1,null,null,"",1,null,"",1,null,"",1,null,"",1,null,{"$f":"IF(ISNUMBER(SMALL(#REF!,ROW()-2)),SMALL(#REF!,ROW()-2),\"\")","v":""},1,null,null,"",null,null,null,null,"",1,null,null,"",1,null,null,null,null,null,null,null,null,null,null,null,null,"",1,null,null,"",1,null," ",null,null,null,null,null," ",null,""]
[null,{"$f":"IF(MOD(ROW(),3)=2,((ROW()+1)/3)-1,\"\")","v":43},{"$f":"CONCATENATE(B131,\"C\")","v":"43C"},null,null,null,{"$f":"IF(ISBLANK(F131),\"\",IF(F131=0,$CE$2,CF131))","v":""},null,"",null,"",null,{"$f":"IF(ISNUMBER(L131),VLOOKUP(L131,AL:AM,2,FALSE),\"\")","v":""},null,null,null,null,"","",null,null,null,"","","","","","",1,null,null,{"$f":"IF(ISNUMBER(LARGE(F:F,ROW()-2)),LARGE(F:F,ROW()-2),\"\")","v":""},1,null,{"$f":"IF(ISNUMBER(SMALL(J:J,ROW()-2)),SMALL(J:J,ROW()-2),\"\")","v":""},1,null,{"$f":"IF(ISNUMBER(SMALL(L:L,ROW()-2)),SMALL(L:L,ROW()-2),\"\")","v":""},1,null,{"$f":"IF(ISNUMBER(LARGE(N:N,ROW()-2)),LARGE(N:N,ROW()-2),\"\")","v":""},1,null,{"$f":"IF(ISNUMBER(SMALL(#REF!,ROW()-2)),SMALL(#REF!,ROW()-2),\"\")","v":""},1,null,null,{"$f":"IF(ISNUMBER(LARGE(AU:AU,ROW()-2)),LARGE(AU:AU,ROW()-2),\"\")","v":""},null,null,null,null,{"$f":"IF(ISNUMBER(SMALL(P:P,ROW()-2)),SMALL(P:P,ROW()-2),\"\")","v":""},1,null,null,"",1,null,null,null,null,null,null,null,null,null,null,null,null,"",1,null,null,{"$f":"IF(ISNUMBER(LARGE(H:H,ROW()-2)),LARGE(H:H,ROW()-2),\"\")","v":""},1,null," ",null,null,null,null,null," ",null,""]
[null,"",{"$f":"CONCATENATE(B134,\"A\")","v":"44A"},null,null,null,"",null,{"$f":"IF(ISBLANK(H132),\"\",IF(H132=0,$BY$2,BZ132))","v":""},null,{"$f":"IF(ISBLANK(J132),\"\",IF(J132=0,$CJ$2,CH132))","v":""},null,"",null,{"$f":"IF(ISBLANK(N132),\"\",IF(N132=0,$CF$2,CG132))","v":""},{"$f":"IF(ISNUMBER(O132),IF(ISNUMBER(O132),IF(ISNUMBER(O132),O132+G132+G133+G134+I132+I133+I134+K132+K133+K134+M132+M133+M134,\"\"),\"\"),\"\")","v":""},{"$f":"IF(ISNUMBER(P132),VLOOKUP(BQ132,BS:BT,2,FALSE),\"\")","v":""},{"$f":"IF(ISNUMBER(G132),IF(ISNUMBER(K132),IF(ISNUMBER(M132),SUM(G132,I132,K132,M132),\"\"),\"\"),\"\")","v":""},"",null,null,null,"","","",{"$f":"I132","v":""},{"$f":"IF(ISNUMBER(R132),CONCATENATE(R132+100,W132+100,Z132+100,X132+100,Y132+100)+0,\"\")","v":""},"",1,null,null,"",{"$f":"IF(AF131<>AF132,AG131+1,AG131)","v":1},null,"",1,null,"",1,null,"",1,null,{"$f":"IF(ISNUMBER(SMALL(#REF!,ROW()-2)),SMALL(#REF!,ROW()-2),\"\")","v":""},1,null,{"$f":"IF(#REF!,#REF!+0,)","v":{"$error":"#REF!"}},"",null,{"$f":"IF(ISNUMBER(AU132),VLOOKUP(AU132,AV:AW,2,FALSE),\"\")","v":""},null,{"$f":"P132","v":""},"",{"$f":"IF(BA131<>BA132,BB131+1,BB131)","v":1},{"$f":"IF(ISNUMBER(AZ132),VLOOKUP(AZ132,BA:BB,2,FALSE),\"\")","v":""},null,{"$f":"IF(ISNUMBER(SMALL(R:R,ROW()-2)),SMALL(R:R,ROW()-2),\"\")","v":""},{"$f":"IF(BE131<>BE132,BF131+1,BF131)","v":1},null,null,{"$f":"P132","v":""},{"$f":"SUM(G132,G133,G134)","v":0},{"$f":"SUM(I132,I133,I134)","v":0},{"$f":"SUM(M132,M133,M134)","v":0},{"$f":"O132","v":""},{"$f":"#REF!","v":{"$error":"#REF!"}},{"$f":"SUM(K132,K133,K134)","v":0},{"$f":"#REF!","v":{"$error":"#REF!"}},{"$f":"IF(ISNUMBER(P132),CONCATENATE(BI132+100,BJ132+100,BK132+100,BO132+100,BL132+100,BM132+100)+0,\"\")","v":""},{"$f":"IF(ISNUMBER(SMALL(BQ:BQ,ROW()-2)),SMALL(BQ:BQ,ROW()-2),\"\")","v":""},{"$f":"IF(ISNUMBER(SMALL(BQ:BQ,ROW()-2)),SMALL(BQ:BQ,ROW()-2),\"\")","v":""},{"$f":"IF(BS131<>BS132,BT131+1,BT131)","v":1},null,null,"",{"$f":"IF(BW131<>BW132,BX131+1,BX131)","v":1},null,{"$f":"VLOOKUP(H132,BW:BX,2,FALSE)","v":" "},null,null,null,null,null,{"$f":"VLOOKUP(F132,AF:AG,2,FALSE)","v":" "},{"$f":"VLOOKUP(N132,AO:AP,2,FALSE)","v":" "},{"$f":"IF(ISNUMBER(J132),VLOOKUP(J132,AI:AJ,2,FALSE),\"\")","v":""}]
[null,"",{"$f":"CONCATENATE(B134,\"B\")","v":"44B"},null,null,null,"",null,"",null,"",null,"",null,null,null,null,"","",null,null,null,{"$f":"G133","v":""},{"$f":"K133","v":""},{"$f":"M133","v":""},"","",{"$f":"IF(ISNUMBER(SMALL(AA:AA,ROW()-2)),SMALL(AA:AA,ROW()-2),\"\")","v":""},{"$f":"IF(AB132<>AB133,AC132+1,AC132)","v":1},null,null,"",1,null,"",{"$f":"IF(AI132<>AI133,AJ132+1,AJ132)","v":1},null,"",{"$f":"IF(AL132<>AL133,AM132+1,AM132)","v":1},null,"",{"$f":"IF(AO132<>AO133,AP132+1,AP132)","v":1},null,{"$f":"IF(ISNUMBER(SMALL(#REF!,ROW()-2)),SMALL(#REF!,ROW()-2),\"\")","v":""},{"$f":"IF(AR132<>AR133,AS132+1,AS132)","v":1},null,null,"",null,null,null,null,"",1,null,null,"",1,null,null,null,null,null,null,null,null,null,null,null,null,"",1,null,null,"",1,null," ",null,null,null,null,null," ",null,""]
[null,44,{"$f":"CONCATENATE(B134,\"C\")","v":"44C"},null,null,null,"",null,"",null,"",null,"",null,null,null,null,"","",null,null,null,"","","","","","",1,null,null,"",1,null,"",1,null,"",1,null,"",1,null,{"$f":"IF(ISNUMBER(SMALL(#REF!,ROW()-2)),SMALL(#REF!,ROW()-2),\"\")","v":""},1,null,null,"",null,null,null,null,"",1,null,null,"",1,null,null,null,null,null,null,null,null,null,null,null,null,"",1,null,null,"",1,null," ",null,null,null,null,null," ",null,""]
[null,"",{"$f":"CONCATENATE(B137,\"A\")","v":"45A"},null,null,null,"",null,"",null,"",null,"",null,{"$f":"IF(ISBLANK(N135),\"\",IF(N135=0,$CF$2,CG135))","v":""},{"$f":"IF(ISNUMBER(O135),IF(ISNUMBER(O135),IF(ISNUMBER(O135),O135+G135+G136+G137+I135+I136+I137+K135+K136+K137+M135+M136+M137,\"\"),\"\"),\"\")","v":""},{"$f":"IF(ISNUMBER(P135),VLOOKUP(BQ135,BS:BT,2,FALSE),\"\")","v":""},"","",null,null,null,"","","","","","",1,null,null,"",1,null,"",1,null,"",1,null,"",1,null,{"$f":"IF(ISNUMBER(SMALL(#REF!,ROW()-2)),SMALL(#REF!,ROW()-2),\"\")","v":""},1,null,{"$f":"IF(#REF!,#REF!+0,)","v":{"$error":"#REF!"}},"",null,{"$f":"IF(ISNUMBER(AU135),VLOOKUP(AU135,AV:AW,2,FALSE),\"\")","v":""},null,{"$f":"P135","v":""},"",1,{"$f":"IF(ISNUMBER(AZ135),VLOOKUP(AZ135,BA:BB,2,FALSE),\"\")","v":""},null,"",1,null,null,{"$f":"P135","v":""},{"$f":"SUM(G135,G136,G137)","v":0},{"$f":"SUM(I135,I136,I137)","v":0},{"$f":"SUM(M135,M136,M137)","v":0},{"$f":"O135","v":""},{"$f":"#REF!","v":{"$error":"#REF!"}},{"$f":"SUM(K135,K136,K137)","v":0},{"$f":"#REF!","v":{"$error":"#REF!"}},{"$f":"IF(ISNUMBER(P135),CONCATENATE(BI135+100,BJ135+100,BK135+100,BO135+100,BL135+100,BM135+100)+0,\"\")","v":""},{"$f":"IF(ISNUMBER(SMALL(BQ:BQ,ROW()-2)),SMALL(BQ:BQ,ROW()-2),\"\")","v":""},"",1,null,null,"",1,null," ",null,null,null,null,null," ",{"$f":"VLOOKUP(N135,AO:AP,2,FALSE)","v":" "},""]
[null,"",{"$f":"CONCATENATE(B137,\"B\")","v":"45B"},null,null,null,"",null,"",null,"",null,"",null,null,null,null,"","",null,null,null,"","","","","","",1,null,null,"",1,null,"",1,null,"",1,null,"",1,null,{"$f":"IF(ISNUMBER(SMALL(#REF!,ROW()-2)),SMALL(#REF!,ROW()-2),\"\")","v":""},1,null,null,"",null,null,null,null,"",1,null,null,"",1,null,null,null,null,null,null,null,null,null,null,null,null,"",1,null,null,"",1,null," ",null,null,null,null,null," ",null,""]
[null,45,{"$f":"CONCATENATE(B137,\"C\")","v":"45C"},null,null,null,"",null,"",null,"",null,"",null,null,null,null,"",{"$f":"IF(ISNUMBER(R137),VLOOKUP(AA137,AB:AC,2,FALSE),\"\")","v":""},null,null,null,"","","","","","",1,null,null,"",1,null,"",1,null,"",1,null,"",1,null,{"$f":"IF(ISNUMBER(SMALL(#REF!,ROW()-2)),SMALL(#REF!,ROW()-2),\"\")","v":""},1,null,null,"",null,null,null,null,"",1,null,null,"",1,null,null,null,null,null,null,null,null,null,null,null,null,"",1,null,null,"",1,null," ",null,null,null,null,null," ",null,""]
[null,"",{"$f":"CONCATENATE(B140,\"A\")","v":"46A"},null,null,null,"",null,"",null,"",null,"",null,{"$f":"IF(ISBLANK(N138),\"\",IF(N138=0,$CF$2,CG138))","v":""},{"$f":"IF(ISNUMBER(O138),IF(ISNUMBER(O138),IF(ISNUMBER(O138),O138+G138+G139+G140+I138+I139+I140+K138+K139+K140+M138+M139+M140,\"\"),\"\"),\"\")","v":""},{"$f":"IF(ISNUMBER(P138),VLOOKUP(BQ138,BS:BT,2,FALSE),\"\")","v":""},"","",null,null,null,"","","","","","",1,null,null,"",1,null,"",1,null,"",1,null,"",1,null,{"$f":"IF(ISNUMBER(SMALL(#REF!,ROW()-2)),SMALL(#REF!,ROW()-2),\"\")","v":""},1,null,{"$f":"IF(#REF!,#REF!+0,)","v":{"$error":"#REF!"}},"",null,{"$f":"IF(ISNUMBER(AU138),VLOOKUP(AU138,AV:AW,2,FALSE),\"\")","v":""},null,{"$f":"P138","v":""},"",1,{"$f":"IF(ISNUMBER(AZ138),VLOOKUP(AZ138,BA:BB,2,FALSE),\"\")","v":""},null,"",1,null,null,{"$f":"P138","v":""},{"$f":"SUM(G138,G139,G140)","v":0},{"$f":"SUM(I138,I139,I140)","v":0},{"$f":"SUM(M138,M139,M140)","v":0},{"$f":"O138","v":""},{"$f":"#REF!","v":{"$error":"#REF!"}},{"$f":"SUM(K138,K139,K140)","v":0},{"$f":"#REF!","v":{"$error":"#REF!"}},{"$f":"IF(ISNUMBER(P138),CONCATENATE(BI138+100,BJ138+100,BK138+100,BO138+100,BL138+100,BM138+100)+0,\"\")","v":""},{"$f":"IF(ISNUMBER(SMALL(BQ:BQ,ROW()-2)),SMALL(BQ:BQ,ROW()-2),\"\")","v":""},"",1,null,null,"",1,null," ",null,null,null,null,null," ",{"$f":"VLOOKUP(N138,AO:AP,2,FALSE)","v":" "},""]
[null,"",{"$f":"CONCATENATE(B140,\"B\")","v":"46B"},null,null,null,"",null,"",null,"",null,"",null,null,null,null,"","",null,null,null,"","","","","","",1,null,null,"",1,null,"",1,null,"",1,null,"",1,null,{"$f":"IF(ISNUMBER(SMALL(#REF!,ROW()-2)),SMALL(#REF!,ROW()-2),\"\")","v":""},1,null,null,"",null,null,null,null,"",1,null,null,"",1,null,null,null,null,null,null,null,null,null,null,null,null,"",1,null,null,"",1,null," ",null,null,null,null,null," ",null,""]
[null,46,{"$f":"CONCATENATE(B140,\"C\")","v":"46C"},null,null,null,"",null,"",null,"",null,"",null,null,null,null,"","",null,null,null,"","","","","","",1,null,null,"",1,null,"",1,null,"",1,null,"",1,null,{"$f":"IF(ISNUMBER(SMALL(#REF!,ROW()-2)),SMALL(#REF!,ROW()-2),\"\")","v":""},1,null,null,"",null,null,null,null,"",1,null,null,"",1,null,null,null,null,null,null,null,null,null,null,null,null,"",1,null,null,"",1,null," ",null,null,null,null,null," ",null,""]
[null,"",{"$f":"CONCATENATE(B143,\"A\")","v":"47A"},null,null,null,"",null,"",null,"",null,"",null,{"$f":"IF(ISBLANK(N141),\"\",IF(N141=0,$CF$2,CG141))","v":""},{"$f":"IF(ISNUMBER(O141),IF(ISNUMBER(O141),IF(ISNUMBER(O141),O141+G141+G142+G143+I141+I142+I143+K141+K142+K143+M141+M142+M143,\"\"),\"\"),\"\")","v":""},{"$f":"IF(ISNUMBER(P141),VLOOKUP(BQ141,BS:BT,2,FALSE),\"\")","v":""},"","",null,null,null,"","","","","","",1,null,null,"",1,null,"",1,null,"",1,null,"",1,null,{"$f":"IF(ISNUMBER(SMALL(#REF!,ROW()-2)),SMALL(#REF!,ROW()-2),\"\")","v":""},1,null,{"$f":"IF(#REF!,#REF!+0,)","v":{"$error":"#REF!"}},"",null,{"$f":"IF(ISNUMBER(AU141),VLOOKUP(AU141,AV:AW,2,FALSE),\"\")","v":""},null,{"$f":"P141","v":""},"",1,{"$f":"IF(ISNUMBER(AZ141),VLOOKUP(AZ141,BA:BB,2,FALSE),\"\")","v":""},null,"",1,null,null,{"$f":"P141","v":""},{"$f":"SUM(G141,G142,G143)","v":0},{"$f":"SUM(I141,I142,I143)","v":0},{"$f":"SUM(M141,M142,M143)","v":0},{"$f":"O141","v":""},{"$f":"#REF!","v":{"$error":"#REF!"}},{"$f":"SUM(K141,K142,K143)","v":0},{"$f":"#REF!","v":{"$error":"#REF!"}},{"$f":"IF(ISNUMBER(P141),CONCATENATE(BI141+100,BJ141+100,BK141+100,BO141+100,BL141+100,BM141+100)+0,\"\")","v":""},{"$f":"IF(ISNUMBER(SMALL(BQ:BQ,ROW()-2)),SMALL(BQ:BQ,ROW()-2),\"\")","v":""},"",1,null,null,"",1,null," ",null,null,null,null,null," ",{"$f":"VLOOKUP(N141,AO:AP,2,FALSE)","v":" "},""]
[null,"",{"$f":"CONCATENATE(B143,\"B\")","v":"47B"},null,null,null,"",null,"",null,"",null,"",null,null,null,null,"","",null,null,null,"","","","","","",1,null,null,"",1,null,"",1,null,"",1,null,"",1,null,{"$f":"IF(ISNUMBER(SMALL(#REF!,ROW()-2)),SMALL(#REF!,ROW()-2),\"\")","v":""},1,null,null,"",null,null,null,null,"",1,null,null,"",1,null,null,null,null,null,null,null,null,null,null,null,null,"",1,null,null,"",1,null," ",null,null,null,null,null," ",null,""]
[null,47,{"$f":"CONCATENATE(B143,\"C\")","v":"47C"},null,null,null,"",null,"",null,"",null,"",null,null,null,null,"","",null,null,null,"","","","","","",1,null,null,"",1,null,"",1,null,"",1,null,"",1,null,{"$f":"IF(ISNUMBER(SMALL(#REF!,ROW()-2)),SMALL(#REF!,ROW()-2),\"\")","v":""},1,null,null,"",null,null,null,null,"",1,null,null,"",1,null,null,null,null,null,null,null,null,null,null,null,null,"",1,null,null,"",1,null," ",null,null,null,null,null," ",null,""]
[null,"",{"$f":"CONCATENATE(B146,\"A\")","v":"48A"},null,null,null,"",null,"",null,"",null,"",null,{"$f":"IF(ISBLANK(N144),\"\",IF(N144=0,$CF$2,CG144))","v":""},{"$f":"IF(ISNUMBER(O144),IF(ISNUMBER(O144),IF(ISNUMBER(O144),O144+G144+G145+G146+I144+I145+I146+K144+K145+K146+M144+M145+M146,\"\"),\"\"),\"\")","v":""},{"$f":"IF(ISNUMBER(P144),VLOOKUP(BQ144,BS:BT,2,FALSE),\"\")","v":""},"","",null,null,null,"","","","","","",1,null,null,"",1,null,"",1,null,"",1,null,"",1,null,{"$f":"IF(ISNUMBER(SMALL(#REF!,ROW()-2)),SMALL(#REF!,ROW()-2),\"\")","v":""},1,null,{"$f":"IF(#REF!,#REF!+0,)","v":{"$error":"#REF!"}},"",null,{"$f":"IF(ISNUMBER(AU144),VLOOKUP(AU144,AV:AW,2,FALSE),\"\")","v":""},null,{"$f":"P144","v":""},"",1,{"$f":"IF(ISNUMBER(AZ144),VLOOKUP(AZ144,BA:BB,2,FALSE),\"\")","v":""},null,"",1,null,null,{"$f":"P144","v":""},{"$f":"SUM(G144,G145,G146)","v":0},{"$f":"SUM(I144,I145,I146)","v":0},{"$f":"SUM(M144,M145,M146)","v":0},{"$f":"O144","v":""},{"$f":"#REF!","v":{"$error":"#REF!"}},{"$f":"SUM(K144,K145,K146)","v":0},{"$f":"#REF!","v":{"$error":"#REF!"}},{"$f":"IF(ISNUMBER(P144),CONCATENATE(BI144+100,BJ144+100,BK144+100,BO144+100,BL144+100,BM144+100)+0,\"\")","v":""},{"$f":"IF(ISNUMBER(SMALL(BQ:BQ,ROW()-2)),SMALL(BQ:BQ,ROW()-2),\"\")","v":""},"",1,null,null,"",1,null," ",null,null,null,null,null," ",{"$f":"VLOOKUP(N144,AO:AP,2,FALSE)","v":" "},""]
[null,"",{"$f":"CONCATENATE(B146,\"B\")","v":"48B"},null,null,null,"",null,"",null,"",null,"",null,null,null,null,"","",null,null,null,"","","","","","",1,null,null,"",1,null,"",1,null,"",1,null,"",1,null,{"$f":"IF(ISNUMBER(SMALL(#REF!,ROW()-2)),SMALL(#REF!,ROW()-2),\"\")","v":""},1,null,null,"",null,null,null,null,"",1,null,null,"",1,null,null,null,null,null,null,null,null,null,null,null,null,"",1,null,null,"",1,null," ",null,null,null,null,null," ",null,""]
[null,48,{"$f":"CONCATENATE(B146,\"C\")","v":"48C"},null,null,null,"",null,"",null,"",null,"",null,null,null,null,"","",null,null,null,"","","","","","",1,null,null,"",1,null,"",1,null,"",1,null,"",1,null,{"$f":"IF(ISNUMBER(SMALL(#REF!,ROW()-2)),SMALL(#REF!,ROW()-2),\"\")","v":""},1,null,null,"",null,null,null,null,"",1,null,null,"",1,null,null,null,null,null,null,null,null,null,null,null,null,"",1,null,null,"",1,null," ",null,null,null,null,null," ",null,""]
[null,"",{"$f":"CONCATENATE(B149,\"A\")","v":"49A"},null,null,null,"",null,"",null,"",null,"",null,{"$f":"IF(ISBLANK(N147),\"\",IF(N147=0,$CF$2,CG147))","v":""},{"$f":"IF(ISNUMBER(O147),IF(ISNUMBER(O147),IF(ISNUMBER(O147),O147+G147+G148+G149+I147+I148+I149+K147+K148+K149+M147+M148+M149,\"\"),\"\"),\"\")","v":""},{"$f":"IF(ISNUMBER(P147),VLOOKUP(BQ147,BS:BT,2,FALSE),\"\")","v":""},"","",null,null,null,"","","","","","",1,null,null,"",1,null,"",1,null,"",1,null,"",1,null,{"$f":"IF(ISNUMBER(SMALL(#REF!,ROW()-2)),SMALL(#REF!,ROW()-2),\"\")","v":""},1,null,{"$f":"IF(#REF!,#REF!+0,)","v":{"$error":"#REF!"}},"",null,{"$f":"IF(ISNUMBER(AU147),VLOOKUP(AU147,AV:AW,2,FALSE),\"\")","v":""},null,{"$f":"P147","v":""},"",1,{"$f":"IF(ISNUMBER(AZ147),VLOOKUP(AZ147,BA:BB,2,FALSE),\"\")","v":""},null,"",1,null,null,{"$f":"P147","v":""},{"$f":"SUM(G147,G148,G149)","v":0},{"$f":"SUM(I147,I148,I149)","v":0},{"$f":"SUM(M147,M148,M149)","v":0},{"$f":"O147","v":""},{"$f":"#REF!","v":{"$error":"#REF!"}},{"$f":"SUM(K147,K148,K149)","v":0},{"$f":"#REF!","v":{"$error":"#REF!"}},{"$f":"IF(ISNUMBER(P147),CONCATENATE(BI147+100,BJ147+100,BK147+100,BO147+100,BL147+100,BM147+100)+0,\"\")","v":""},{"$f":"IF(ISNUMBER(SMALL(BQ:BQ,ROW()-2)),SMALL(BQ:BQ,ROW()-2),\"\")","v":""},"",1,null,null,"",1,null," ",null,null,null,null,null," ",{"$f":"VLOOKUP(N147,AO:AP,2,FALSE)","v":" "},""]
[null,"",{"$f":"CONCATENATE(B149,\"B\")","v":"49B"},null,null,null,"",null,"",null,"",null,"",null,null,null,null,"","",null,null,null,"","","","","","",1,null,null,"",1,null,"",1,null,"",1,null,"",1,null,{"$f":"IF(ISNUMBER(SMALL(#REF!,ROW()-2)),SMALL(#REF!,ROW()-2),\"\")","v":""},1,null,null,"",null,null,null,null,"",1,null,null,"",1,null,null,null,null,null,null,null,null,null,null,null,null,"",1,null,null,"",1,null," ",null,null,null,null,null," ",null,""]
[null,49,{"$f":"CONCATENATE(B149,\"C\")","v":"49C"},null,null,null,"",null,"",null,"",null,"",null,null,null,null,"","",null,null,null,"","","","","","",1,null,null,"",1,null,"",1,null,"",1,null,"",1,null,{"$f":"IF(ISNUMBER(SMALL(#REF!,ROW()-2)),SMALL(#REF!,ROW()-2),\"\")","v":""},1,null,null,"",null,null,null,null,"",1,null,null,"",1,null,null,null,null,null,null,null,null,null,null,null,null,"",1,null,null,"",1,null," ",null,null,null,null,null," ",null,""]
[null,"",{"$f":"CONCATENATE(B152,\"A\")","v":"50A"},null,null,null,"",null,"",null,"",null,"",null,{"$f":"IF(ISBLANK(N150),\"\",IF(N150=0,$CF$2,CG150))","v":""},{"$f":"IF(ISNUMBER(O150),IF(ISNUMBER(O150),IF(ISNUMBER(O150),O150+G150+G151+G152+I150+I151+I152+K150+K151+K152+M150+M151+M152,\"\"),\"\"),\"\")","v":""},{"$f":"IF(ISNUMBER(P150),VLOOKUP(BQ150,BS:BT,2,FALSE),\"\")","v":""},"","",null,null,null,"","","","","","",1,null,null,"",1,null,"",1,null,"",1,null,"",1,null,{"$f":"IF(ISNUMBER(SMALL(#REF!,ROW()-2)),SMALL(#REF!,ROW()-2),\"\")","v":""},1,null,{"$f":"IF(#REF!,#REF!+0,)","v":{"$error":"#REF!"}},"",null,{"$f":"IF(ISNUMBER(AU150),VLOOKUP(AU150,AV:AW,2,FALSE),\"\")","v":""},null,{"$f":"P150","v":""},"",1,{"$f":"IF(ISNUMBER(AZ150),VLOOKUP(AZ150,BA:BB,2,FALSE),\"\")","v":""},null,"",1,null,null,{"$f":"P150","v":""},{"$f":"SUM(G150,G151,G152)","v":0},{"$f":"SUM(I150,I151,I152)","v":0},{"$f":"SUM(M150,M151,M152)","v":0},{"$f":"O150","v":""},{"$f":"#REF!","v":{"$error":"#REF!"}},{"$f":"SUM(K150,K151,K152)","v":0},{"$f":"#REF!","v":{"$error":"#REF!"}},{"$f":"IF(ISNUMBER(P150),CONCATENATE(BI150+100,BJ150+100,BK150+100,BO150+100,BL150+100,BM150+100)+0,\"\")","v":""},{"$f":"IF(ISNUMBER(SMALL(BQ:BQ,ROW()-2)),SMALL(BQ:BQ,ROW()-2),\"\")","v":""},"",1,null,null,"",1,null," ",null,null,null,null,null," ",{"$f":"VLOOKUP(N150,AO:AP,2,FALSE)","v":" "},""]
[null,"",{"$f":"CONCATENATE(B152,\"B\")","v":"50B"},null,null,null,"",null,"",null,"",null,"",null,null,null,null,"","",null,null,null,"","","","","","",1,null,null,"",1,null,"",1,null,"",1,null,"",1,null,{"$f":"IF(ISNUMBER(SMALL(#REF!,ROW()-2)),SMALL(#REF!,ROW()-2),\"\")","v":""},1,null,null,"",null,null,null,null,"",1,null,null,"",1,null,null,null,null,null,null,null,null,null,null,null,null,"",1,null,null,"",1,null," ",null,null,null,null,null," ",null,""]
[null,50,{"$f":"CONCATENATE(B152,\"C\")","v":"50C"},null,null,null,"",null,"",null,"",null,"",null,null,null,null,"","",null,null,null,"","","","","","",1,null,null,"",1,null,"",1,null,"",1,null,"",1,null,{"$f":"IF(ISNUMBER(SMALL(#REF!,ROW()-2)),SMALL(#REF!,ROW()-2),\"\")","v":""},1,null,null,"",null,null,null,null,"",1,null,null,"",1,null,null,null,null,null,null,null,null,null,null,null,null,"",1,null,null,"",1,null," ",null,null,null,null,null," ",null,""]
[null,"",{"$f":"CONCATENATE(B155,\"A\")","v":"51A"},null,null,null,"",null,"",null,"",null,"",null,{"$f":"IF(ISBLANK(N153),\"\",IF(N153=0,$CF$2,CG153))","v":""},{"$f":"IF(ISNUMBER(O153),IF(ISNUMBER(O153),IF(ISNUMBER(O153),O153+G153+G154+G155+I153+I154+I155+K153+K154+K155+M153+M154+M155,\"\"),\"\"),\"\")","v":""},{"$f":"IF(ISNUMBER(P153),VLOOKUP(BQ153,BS:BT,2,FALSE),\"\")","v":""},"","",null,null,null,"","","","","","",1,null,null,"",1,null,"",1,null,"",1,null,"",1,null,{"$f":"IF(ISNUMBER(SMALL(#REF!,ROW()-2)),SMALL(#REF!,ROW()-2),\"\")","v":""},1,null,{"$f":"IF(#REF!,#REF!+0,)","v":{"$error":"#REF!"}},"",null,{"$f":"IF(ISNUMBER(AU153),VLOOKUP(AU153,AV:AW,2,FALSE),\"\")","v":""},null,{"$f":"P153","v":""},"",1,{"$f":"IF(ISNUMBER(AZ153),VLOOKUP(AZ153,BA:BB,2,FALSE),\"\")","v":""},null,"",1,null,null,{"$f":"P153","v":""},{"$f":"SUM(G153,G154,G155)","v":0},{"$f":"SUM(I153,I154,I155)","v":0},{"$f":"SUM(M153,M154,M155)","v":0},{"$f":"O153","v":""},{"$f":"#REF!","v":{"$error":"#REF!"}},{"$f":"SUM(K153,K154,K155)","v":0},{"$f":"#REF!","v":{"$error":"#REF!"}},{"$f":"IF(ISNUMBER(P153),CONCATENATE(BI153+100,BJ153+100,BK153+100,BO153+100,BL153+100,BM153+100)+0,\"\")","v":""},{"$f":"IF(ISNUMBER(SMALL(BQ:BQ,ROW()-2)),SMALL(BQ:BQ,ROW()-2),\"\")","v":""},"",1,null,null,"",1,null," ",null,null,null,null,null," ",{"$f":"VLOOKUP(N153,AO:AP,2,FALSE)","v":" "},""]
[null,"",{"$f":"CONCATENATE(B155,\"B\")","v":"51B"},null,null,null,"",null,"",null,"",null,"",null,null,null,null,"","",null,null,null,"","","","","","",1,null,null,"",1,null,"",1,null,"",1,null,"",1,null,{"$f":"IF(ISNUMBER(SMALL(#REF!,ROW()-2)),SMALL(#REF!,ROW()-2),\"\")","v":""},1,null,null,"",null,null,null,null,"",1,null,null,"",1,null,null,null,null,null,null,null,null,null,null,null,null,"",1,null,null,"",1,null," ",null,null,null,null,null," ",null,""]
[null,51,{"$f":"CONCATENATE(B155,\"C\")","v":"51C"},null,null,null,"",null,"",null,"",null,"",null,null,null,null,"","",null,null,null,"","","","","","",1,null,null,"",1,null,"",1,null,"",1,null,"",1,null,{"$f":"IF(ISNUMBER(SMALL(#REF!,ROW()-2)),SMALL(#REF!,ROW()-2),\"\")","v":""},1,null,null,"",null,null,null,null,"",1,null,null,"",1,null,null,null,null,null,null,null,null,null,null,null,null,"",1,null,null,"",1,null," ",null,null,null,null,null," ",null,""]
[null,"",{"$f":"CONCATENATE(B158,\"A\")","v":"52A"},null,null,null,"",null,"",null,"",null,"",null,{"$f":"IF(ISBLANK(N156),\"\",IF(N156=0,$CF$2,CG156))","v":""},{"$f":"IF(ISNUMBER(O156),IF(ISNUMBER(O156),IF(ISNUMBER(O156),O156+G156+G157+G158+I156+I157+I158+K156+K157+K158+M156+M157+M158,\"\"),\"\"),\"\")","v":""},{"$f":"IF(ISNUMBER(P156),VLOOKUP(BQ156,BS:BT,2,FALSE),\"\")","v":""},"","",null,null,null,"","","","","","",1,null,null,"",1,null,"",1,null,"",1,null,"",1,null,{"$f":"IF(ISNUMBER(SMALL(#REF!,ROW()-2)),SMALL(#REF!,ROW()-2),\"\")","v":""},1,null,{"$f":"IF(#REF!,#REF!+0,)","v":{"$error":"#REF!"}},"",null,{"$f":"IF(ISNUMBER(AU156),VLOOKUP(AU156,AV:AW,2,FALSE),\"\")","v":""},null,{"$f":"P156","v":""},"",1,{"$f":"IF(ISNUMBER(AZ156),VLOOKUP(AZ156,BA:BB,2,FALSE),\"\")","v":""},null,"",1,null,null,{"$f":"P156","v":""},{"$f":"SUM(G156,G157,G158)","v":0},{"$f":"SUM(I156,I157,I158)","v":0},{"$f":"SUM(M156,M157,M158)","v":0},{"$f":"O156","v":""},{"$f":"#REF!","v":{"$error":"#REF!"}},{"$f":"SUM(K156,K157,K158)","v":0},{"$f":"#REF!","v":{"$error":"#REF!"}},{"$f":"IF(ISNUMBER(P156),CONCATENATE(BI156+100,BJ156+100,BK156+100,BO156+100,BL156+100,BM156+100)+0,\"\")","v":""},{"$f":"IF(ISNUMBER(SMALL(BQ:BQ,ROW()-2)),SMALL(BQ:BQ,ROW()-2),\"\")","v":""},"",1,null,null,"",1,null," ",null,null,null,null,null," ",{"$f":"VLOOKUP(N156,AO:AP,2,FALSE)","v":" "},""]
[null,"",{"$f":"CONCATENATE(B158,\"B\")","v":"52B"},null,null,null,"",null,"",null,"",null,"",null,null,null,null,"","",null,null,null,"","","","","","",1,null,null,"",1,null,"",1,null,"",1,null,"",1,null,{"$f":"IF(ISNUMBER(SMALL(#REF!,ROW()-2)),SMALL(#REF!,ROW()-2),\"\")","v":""},1,null,null,"",null,null,null,null,"",1,null,null,"",1,null,null,null,null,null,null,null,null,null,null,null,null,"",1,null,null,"",1,null," ",null,null,null,null,null," ",null,""]
[null,52,{"$f":"CONCATENATE(B158,\"C\")","v":"52C"},null,null,null,"",null,"",null,"",null,"",null,null,null,null,"","",null,null,null,"","","","","","",1,null,null,"",1,null,"",1,null,"",1,null,"",1,null,{"$f":"IF(ISNUMBER(SMALL(#REF!,ROW()-2)),SMALL(#REF!,ROW()-2),\"\")","v":""},1,null,null,"",null,null,null,null,"",1,null,null,"",1,null,null,null,null,null,null,null,null,null,null,null,null,"",1,null,null,"",1,null," ",null,null,null,null,null," ",null,""]
[null,"",{"$f":"CONCATENATE(B161,\"A\")","v":"A"},null,null,null,null,null,null,null,null,null,null,null,null,null,null,null,null,null,null,null,null,null,null,null,null,null,null,null,null,"",1,null,"",1,null,"",1,null,"",1,null,null,1,null,null,null,null,null,null,null,"",1,null,null,"",null,null,null,null,null,null,null,null,null,null,null,null,null,null,null,null,null,"",1]
[null,null,"#",null,null,null,null,null,null,null,null,null,null,null,null,null,null,null,null,null,null,null,null,null,null,null,null,null,null,null,null,null,null,null,null,null,null,null,null,null,null,null,null,null,null,null,null,null,null,null,null,null,""]

{"sheet":"Sortowanie wyników","index":1,"n_rows":162,"n_cols":14,"rows_kept":162,"cut":false,"hidden":false,"merged":[]}
[]
[]
[null,null,null,null,null,null,null,null,null,null,null,null,{"$f":"IF(ISBLANK(P3),\"\",O3)","v":""},1]
[null,null,null,null,null,null,null,null,null,null,null,null,{"$f":"IF(ISBLANK(P4),\"\",O4)","v":""},2]
[null,null,null,null,null,null,null,null,null,null,null,null,{"$f":"IF(ISBLANK(P5),\"\",O5)","v":""},3]
[null,null,null,null,null,null,null,null,null,null,null,null,{"$f":"IF(ISBLANK(P6),\"\",O6)","v":""},4]
[null,null,null,null,null,null,null,null,null,null,null,null,{"$f":"IF(ISBLANK(P7),\"\",O7)","v":""},5]
[null,null,null,null,null,null,null,null,null,null,null,null,{"$f":"IF(ISBLANK(P8),\"\",O8)","v":""},6]
[null,null,null,null,null,null,null,null,null,null,null,null,{"$f":"IF(ISBLANK(P9),\"\",O9)","v":""},7]
[null,null,null,null,null,null,null,null,null,null,null,null,{"$f":"IF(ISBLANK(P10),\"\",O10)","v":""},8]
[null,null,null,null,null,null,null,null,null,null,null,null,{"$f":"IF(ISBLANK(P11),\"\",O11)","v":""},9]
[null,null,null,null,null,null,null,null,null,null,null,null,{"$f":"IF(ISBLANK(P12),\"\",O12)","v":""},10]
[null,null,null,null,null,null,null,null,null,null,null,null,{"$f":"IF(ISBLANK(P13),\"\",O13)","v":""},11]
[null,null,null,null,null,null,null,null,null,null,null,null,{"$f":"IF(ISBLANK(P14),\"\",O14)","v":""},12]
[null,null,null,null,null,null,null,null,null,null,null,null,{"$f":"IF(ISBLANK(P15),\"\",O15)","v":""},13]
[null,null,null,null,null,null,null,null,null,null,null,null,{"$f":"IF(ISBLANK(P16),\"\",O16)","v":""},14]
[null,null,null,null,null,null,null,null,null,null,null,null,{"$f":"IF(ISBLANK(P17),\"\",O17)","v":""},15]
[null,null,null,null,null,null,null,null,null,null,null,null,{"$f":"IF(ISBLANK(P18),\"\",O18)","v":""},16]
[null,null,null,null,null,null,null,null,null,null,null,null,{"$f":"IF(ISBLANK(P19),\"\",O19)","v":""},17]
[null,null,null,null,null,null,null,null,null,null,null,null,{"$f":"IF(ISBLANK(P20),\"\",O20)","v":""},18]
[null,null,null,null,null,null,null,null,null,null,null,null,{"$f":"IF(ISBLANK(P21),\"\",O21)","v":""},19]
[null,null,null,null,null,null,null,null,null,null,null,null,{"$f":"IF(ISBLANK(P22),\"\",O22)","v":""},20]
[null,null,null,null,null,null,null,null,null,null,null,null,{"$f":"IF(ISBLANK(P23),\"\",O23)","v":""},21]
[null,null,null,null,null,null,null,null,null,null,null,null,{"$f":"IF(ISBLANK(P24),\"\",O24)","v":""},22]
[null,null,null,null,null,null,null,null,null,null,null,null,{"$f":"IF(ISBLANK(P25),\"\",O25)","v":""},23]
[null,null,null,null,null,null,null,null,null,null,null,null,{"$f":"IF(ISBLANK(P26),\"\",O26)","v":""},24]
[null,null,null,null,null,null,null,null,null,null,null,null,{"$f":"IF(ISBLANK(P27),\"\",O27)","v":""},25]
[null,null,null,null,null,null,null,null,null,null,null,null,{"$f":"IF(ISBLANK(P28),\"\",O28)","v":""},26]
[null,null,null,null,null,null,null,null,null,null,null,null,{"$f":"IF(ISBLANK(P29),\"\",O29)","v":""},27]
[null,null,null,null,null,null,null,null,null,null,null,null,{"$f":"IF(ISBLANK(P30),\"\",O30)","v":""},28]
[null,null,null,null,null,null,null,null,null,null,null,null,{"$f":"IF(ISBLANK(P31),\"\",O31)","v":""},29]
[null,null,null,null,null,null,null,null,null,null,null,null,{"$f":"IF(ISBLANK(P32),\"\",O32)","v":""},30]
[null,null,null,null,null,null,null,null,null,null,null,null,{"$f":"IF(ISBLANK(P33),\"\",O33)","v":""},31]
[null,null,null,null,null,null,null,null,null,null,null,null,{"$f":"IF(ISBLANK(P34),\"\",O34)","v":""},32]
[null,null,null,null,null,null,null,null,null,null,null,null,{"$f":"IF(ISBLANK(P35),\"\",O35)","v":""},33]
[null,null,null,null,null,null,null,null,null,null,null,null,{"$f":"IF(ISBLANK(P36),\"\",O36)","v":""},34]
[null,null,null,null,null,null,null,null,null,null,null,null,{"$f":"IF(ISBLANK(P37),\"\",O37)","v":""},35]
[null,null,null,null,null,null,null,null,null,null,null,null,{"$f":"IF(ISBLANK(P38),\"\",O38)","v":""},36]
[null,null,null,null,null,null,null,null,null,null,null,null,{"$f":"IF(ISBLANK(P39),\"\",O39)","v":""},37]
[null,null,null,null,null,null,null,null,null,null,null,null,{"$f":"IF(ISBLANK(P40),\"\",O40)","v":""},38]
[null,null,null,null,null,null,null,null,null,null,null,null,{"$f":"IF(ISBLANK(P41),\"\",O41)","v":""},39]
[null,null,null,null,null,null,null,null,null,null,null,null,{"$f":"IF(ISBLANK(P42),\"\",O42)","v":""},40]
[null,null,null,null,null,null,null,null,null,null,null,null,{"$f":"IF(ISBLANK(P43),\"\",O43)","v":""},41]
[null,null,null,null,null,null,null,null,null,null,null,null,{"$f":"IF(ISBLANK(P44),\"\",O44)","v":""},42]
[null,null,null,null,null,null,null,null,null,null,null,null,{"$f":"IF(ISBLANK(P45),\"\",O45)","v":""},43]
[null,null,null,null,null,null,null,null,null,null,null,null,{"$f":"IF(ISBLANK(P46),\"\",O46)","v":""},44]
[null,null,null,null,null,null,null,null,null,null,null,null,{"$f":"IF(ISBLANK(P47),\"\",O47)","v":""},45]
[null,null,null,null,null,null,null,null,null,null,null,null,{"$f":"IF(ISBLANK(P48),\"\",O48)","v":""},46]
[null,null,null,null,null,null,null,null,null,null,null,null,{"$f":"IF(ISBLANK(P49),\"\",O49)","v":""},47]
[null,null,null,null,null,null,null,null,null,null,null,null,{"$f":"IF(ISBLANK(P50),\"\",O50)","v":""},48]
[null,null,null,null,null,null,null,null,null,null,null,null,{"$f":"IF(ISBLANK(P51),\"\",O51)","v":""},49]
[null,null,null,null,null,null,null,null,null,null,null,null,{"$f":"IF(ISBLANK(P52),\"\",O52)","v":""},50]
[null,null,null,null,null,null,null,null,null,null,null,null,{"$f":"IF(ISBLANK(P53),\"\",O53)","v":""},51]
[null,null,null,null,null,null,null,null,null,null,null,null,{"$f":"IF(ISBLANK(P54),\"\",O54)","v":""},52]
[null,null,null,null,null,null,null,null,null,null,null,null,{"$f":"IF(ISBLANK(P55),\"\",O55)","v":""},53]
[null,null,null,null,null,null,null,null,null,null,null,null,{"$f":"IF(ISBLANK(P56),\"\",O56)","v":""},54]
[null,null,null,null,null,null,null,null,null,null,null,null,{"$f":"IF(ISBLANK(P57),\"\",O57)","v":""},55]
[null,null,null,null,null,null,null,null,null,null,null,null,{"$f":"IF(ISBLANK(P58),\"\",O58)","v":""},56]
[null,null,null,null,null,null,null,null,null,null,null,null,{"$f":"IF(ISBLANK(P59),\"\",O59)","v":""},57]
[null,null,null,null,null,null,null,null,null,null,null,null,{"$f":"IF(ISBLANK(P60),\"\",O60)","v":""},58]
[null,null,null,null,null,null,null,null,null,null,null,null,{"$f":"IF(ISBLANK(P61),\"\",O61)","v":""},59]
[null,null,null,null,null,null,null,null,null,null,null,null,{"$f":"IF(ISBLANK(P62),\"\",O62)","v":""},60]
[null,null,null,null,null,null,null,null,null,null,null,null,{"$f":"IF(ISBLANK(P63),\"\",O63)","v":""},61]
[null,null,null,null,null,null,null,null,null,null,null,null,{"$f":"IF(ISBLANK(P64),\"\",O64)","v":""},62]
[null,null,null,null,null,null,null,null,null,null,null,null,{"$f":"IF(ISBLANK(P65),\"\",O65)","v":""},63]
[null,null,null,null,null,null,null,null,null,null,null,null,{"$f":"IF(ISBLANK(P66),\"\",O66)","v":""},64]
[null,null,null,null,null,null,null,null,null,null,null,null,{"$f":"IF(ISBLANK(P67),\"\",O67)","v":""},65]
[null,null,null,null,null,null,null,null,null,null,null,null,{"$f":"IF(ISBLANK(P68),\"\",O68)","v":""},66]
[null,null,null,null,null,null,null,null,null,null,null,null,{"$f":"IF(ISBLANK(P69),\"\",O69)","v":""},67]
[null,null,null,null,null,null,null,null,null,null,null,null,{"$f":"IF(ISBLANK(P70),\"\",O70)","v":""},68]
[null,null,null,null,null,null,null,null,null,null,null,null,{"$f":"IF(ISBLANK(P71),\"\",O71)","v":""},69]
[null,null,null,null,null,null,null,null,null,null,null,null,{"$f":"IF(ISBLANK(P72),\"\",O72)","v":""},70]
[null,null,null,null,null,null,null,null,null,null,null,null,{"$f":"IF(ISBLANK(P73),\"\",O73)","v":""},71]
[null,null,null,null,null,null,null,null,null,null,null,null,{"$f":"IF(ISBLANK(P74),\"\",O74)","v":""},72]
[null,null,null,null,null,null,null,null,null,null,null,null,{"$f":"IF(ISBLANK(P75),\"\",O75)","v":""},73]
[null,null,null,null,null,null,null,null,null,null,null,null,{"$f":"IF(ISBLANK(P76),\"\",O76)","v":""},74]
[null,null,null,null,null,null,null,null,null,null,null,null,{"$f":"IF(ISBLANK(P77),\"\",O77)","v":""},75]
[null,null,null,null,null,null,null,null,null,null,null,null,{"$f":"IF(ISBLANK(P78),\"\",O78)","v":""},76]
[null,null,null,null,null,null,null,null,null,null,null,null,{"$f":"IF(ISBLANK(P79),\"\",O79)","v":""},77]
[null,null,null,null,null,null,null,null,null,null,null,null,{"$f":"IF(ISBLANK(P80),\"\",O80)","v":""},78]
[null,null,null,null,null,null,null,null,null,null,null,null,{"$f":"IF(ISBLANK(P81),\"\",O81)","v":""},79]
[null,null,null,null,null,null,null,null,null,null,null,null,{"$f":"IF(ISBLANK(P82),\"\",O82)","v":""},80]
[null,null,null,null,null,null,null,null,null,null,null,null,{"$f":"IF(ISBLANK(P83),\"\",O83)","v":""},81]
[null,null,null,null,null,null,null,null,null,null,null,null,{"$f":"IF(ISBLANK(P84),\"\",O84)","v":""},82]
[null,null,null,null,null,null,null,null,null,null,null,null,{"$f":"IF(ISBLANK(P85),\"\",O85)","v":""},83]
[null,null,null,null,null,null,null,null,null,null,null,null,{"$f":"IF(ISBLANK(P86),\"\",O86)","v":""},84]
[null,null,null,null,null,null,null,null,null,null,null,null,{"$f":"IF(ISBLANK(P87),\"\",O87)","v":""},85]
[null,null,null,null,null,null,null,null,null,null,null,null,{"$f":"IF(ISBLANK(P88),\"\",O88)","v":""},86]
[null,null,null,null,null,null,null,null,null,null,null,null,{"$f":"IF(ISBLANK(P89),\"\",O89)","v":""},87]
[null,null,null,null,null,null,null,null,null,null,null,null,{"$f":"IF(ISBLANK(P90),\"\",O90)","v":""},88]
[null,null,null,null,null,null,null,null,null,null,null,null,{"$f":"IF(ISBLANK(P91),\"\",O91)","v":""},89]
[null,null,null,null,null,null,null,null,null,null,null,null,{"$f":"IF(ISBLANK(P92),\"\",O92)","v":""},90]
[null,null,null,null,null,null,null,null,null,null,null,null,{"$f":"IF(ISBLANK(P93),\"\",O93)","v":""},91]
[null,null,null,null,null,null,null,null,null,null,null,null,{"$f":"IF(ISBLANK(P94),\"\",O94)","v":""},92]
[null,null,null,null,null,null,null,null,null,null,null,null,{"$f":"IF(ISBLANK(P95),\"\",O95)","v":""},93]
[null,null,null,null,null,null,null,null,null,null,null,null,{"$f":"IF(ISBLANK(P96),\"\",O96)","v":""},94]
[null,null,null,null,null,null,null,null,null,null,null,null,{"$f":"IF(ISBLANK(P97),\"\",O97)","v":""},95]
[null,null,null,null,null,null,null,null,null,null,null,null,{"$f":"IF(ISBLANK(P98),\"\",O98)","v":""},96]
[null,null,null,null,null,null,null,null,null,null,null,null,{"$f":"IF(ISBLANK(P99),\"\",O99)","v":""},97]
[null,null,null,null,null,null,null,null,null,null,null,null,{"$f":"IF(ISBLANK(P100),\"\",O100)","v":""},98]
[null,null,null,null,null,null,null,null,null,null,null,null,{"$f":"IF(ISBLANK(P101),\"\",O101)","v":""},99]
[null,null,null,null,null,null,null,null,null,null,null,null,{"$f":"IF(ISBLANK(P102),\"\",O102)","v":""},100]
[null,null,null,null,null,null,null,null,null,null,null,null,{"$f":"IF(ISBLANK(P103),\"\",O103)","v":""},101]
[null,null,null,null,null,null,null,null,null,null,null,null,{"$f":"IF(ISBLANK(P104),\"\",O104)","v":""},102]
[null,null,null,null,null,null,null,null,null,null,null,null,{"$f":"IF(ISBLANK(P105),\"\",O105)","v":""},103]
[null,null,null,null,null,null,null,null,null,null,null,null,{"$f":"IF(ISBLANK(P106),\"\",O106)","v":""},104]
[null,null,null,null,null,null,null,null,null,null,null,null,{"$f":"IF(ISBLANK(P107),\"\",O107)","v":""},105]
[null,null,null,null,null,null,null,null,null,null,null,null,{"$f":"IF(ISBLANK(P108),\"\",O108)","v":""},106]
[null,null,null,null,null,null,null,null,null,null,null,null,{"$f":"IF(ISBLANK(P109),\"\",O109)","v":""},107]
[null,null,null,null,null,null,null,null,null,null,null,null,{"$f":"IF(ISBLANK(P110),\"\",O110)","v":""},108]
[null,null,null,null,null,null,null,null,null,null,null,null,{"$f":"IF(ISBLANK(P111),\"\",O111)","v":""},109]
[null,null,null,null,null,null,null,null,null,null,null,null,{"$f":"IF(ISBLANK(P112),\"\",O112)","v":""},110]
[null,null,null,null,null,null,null,null,null,null,null,null,{"$f":"IF(ISBLANK(P113),\"\",O113)","v":""},111]
[null,null,null,null,null,null,null,null,null,null,null,null,{"$f":"IF(ISBLANK(P114),\"\",O114)","v":""},112]
[null,null,null,null,null,null,null,null,null,null,null,null,{"$f":"IF(ISBLANK(P115),\"\",O115)","v":""},113]
[null,null,null,null,null,null,null,null,null,null,null,null,{"$f":"IF(ISBLANK(P116),\"\",O116)","v":""},114]
[null,null,null,null,null,null,null,null,null,null,null,null,{"$f":"IF(ISBLANK(P117),\"\",O117)","v":""},115]
[null,null,null,null,null,null,null,null,null,null,null,null,{"$f":"IF(ISBLANK(P118),\"\",O118)","v":""},116]
[null,null,null,null,null,null,null,null,null,null,null,null,{"$f":"IF(ISBLANK(P119),\"\",O119)","v":""},117]
[null,null,null,null,null,null,null,null,null,null,null,null,{"$f":"IF(ISBLANK(P120),\"\",O120)","v":""},118]
[null,null,null,null,null,null,null,null,null,null,null,null,{"$f":"IF(ISBLANK(P121),\"\",O121)","v":""},119]
[null,null,null,null,null,null,null,null,null,null,null,null,{"$f":"IF(ISBLANK(P122),\"\",O122)","v":""},120]
[null,null,null,null,null,null,null,null,null,null,null,null,{"$f":"IF(ISBLANK(P123),\"\",O123)","v":""},121]
[null,null,null,null,null,null,null,null,null,null,null,null,{"$f":"IF(ISBLANK(P124),\"\",O124)","v":""},122]
[null,null,null,null,null,null,null,null,null,null,null,null,{"$f":"IF(ISBLANK(P125),\"\",O125)","v":""},123]
[null,null,null,null,null,null,null,null,null,null,null,null,{"$f":"IF(ISBLANK(P126),\"\",O126)","v":""},124]
[null,null,null,null,null,null,null,null,null,null,null,null,{"$f":"IF(ISBLANK(P127),\"\",O127)","v":""},125]
[null,null,null,null,null,null,null,null,null,null,null,null,{"$f":"IF(ISBLANK(P128),\"\",O128)","v":""},126]
[null,null,null,null,null,null,null,null,null,null,null,null,{"$f":"IF(ISBLANK(P129),\"\",O129)","v":""},127]
[null,null,null,null,null,null,null,null,null,null,null,null,{"$f":"IF(ISBLANK(P130),\"\",O130)","v":""},128]
[null,null,null,null,null,null,null,null,null,null,null,null,{"$f":"IF(ISBLANK(P131),\"\",O131)","v":""},129]
[null,null,null,null,null,null,null,null,null,null,null,null,{"$f":"IF(ISBLANK(P132),\"\",O132)","v":""},130]
[null,null,null,null,null,null,null,null,null,null,null,null,{"$f":"IF(ISBLANK(P133),\"\",O133)","v":""},131]
[null,null,null,null,null,null,null,null,null,null,null,null,{"$f":"IF(ISBLANK(P134),\"\",O134)","v":""},132]
[null,null,null,null,null,null,null,null,null,null,null,null,{"$f":"IF(ISBLANK(P135),\"\",O135)","v":""},133]
[null,null,null,null,null,null,null,null,null,null,null,null,{"$f":"IF(ISBLANK(P136),\"\",O136)","v":""},134]
[null,null,null,null,null,null,null,null,null,null,null,null,{"$f":"IF(ISBLANK(P137),\"\",O137)","v":""},135]
[null,null,null,null,null,null,null,null,null,null,null,null,{"$f":"IF(ISBLANK(P138),\"\",O138)","v":""},136]
[null,null,null,null,null,null,null,null,null,null,null,null,{"$f":"IF(ISBLANK(P139),\"\",O139)","v":""},137]
[null,null,null,null,null,null,null,null,null,null,null,null,{"$f":"IF(ISBLANK(P140),\"\",O140)","v":""},138]
[null,null,null,null,null,null,null,null,null,null,null,null,{"$f":"IF(ISBLANK(P141),\"\",O141)","v":""},139]
[null,null,null,null,null,null,null,null,null,null,null,null,{"$f":"IF(ISBLANK(P142),\"\",O142)","v":""},140]
[null,null,null,null,null,null,null,null,null,null,null,null,{"$f":"IF(ISBLANK(P143),\"\",O143)","v":""},141]
[null,null,null,null,null,null,null,null,null,null,null,null,{"$f":"IF(ISBLANK(P144),\"\",O144)","v":""},142]
[null,null,null,null,null,null,null,null,null,null,null,null,{"$f":"IF(ISBLANK(P145),\"\",O145)","v":""},143]
[null,null,null,null,null,null,null,null,null,null,null,null,{"$f":"IF(ISBLANK(P146),\"\",O146)","v":""},144]
[null,null,null,null,null,null,null,null,null,null,null,null,{"$f":"IF(ISBLANK(P147),\"\",O147)","v":""},145]
[null,null,null,null,null,null,null,null,null,null,null,null,{"$f":"IF(ISBLANK(P148),\"\",O148)","v":""},146]
[null,null,null,null,null,null,null,null,null,null,null,null,{"$f":"IF(ISBLANK(P149),\"\",O149)","v":""},147]
[null,null,null,null,null,null,null,null,null,null,null,null,{"$f":"IF(ISBLANK(P150),\"\",O150)","v":""},148]
[null,null,null,null,null,null,null,null,null,null,null,null,{"$f":"IF(ISBLANK(P151),\"\",O151)","v":""},149]
[null,null,null,null,null,null,null,null,null,null,null,null,{"$f":"IF(ISBLANK(P152),\"\",O152)","v":""},150]
[null,null,null,null,null,null,null,null,null,null,null,null,{"$f":"IF(ISBLANK(P153),\"\",O153)","v":""},151]
[null,null,null,null,null,null,null,null,null,null,null,null,{"$f":"IF(ISBLANK(P154),\"\",O154)","v":""},152]
[null,null,null,null,null,null,null,null,null,null,null,null,{"$f":"IF(ISBLANK(P155),\"\",O155)","v":""},153]
[null,null,null,null,null,null,null,null,null,null,null,null,{"$f":"IF(ISBLANK(P156),\"\",O156)","v":""},154]
[null,null,null,null,null,null,null,null,null,null,null,null,{"$f":"IF(ISBLANK(P157),\"\",O157)","v":""},155]
[null,"",null,"",null,null,null,null,null,null,null,null,{"$f":"IF(ISBLANK(P158),\"\",O158)","v":""},156]
[null,null,null,"",null,null,null,null,null,null,null,null,{"$f":"IF(ISBLANK(P159),\"\",O159)","v":""},157]
[null,null,null,null,null,null,null,null,null,null,null,null,{"$f":"IF(ISBLANK(P160),\"\",O160)","v":""},158]
[null,null,null,null,null,null,null,null,null,null,null,null,{"$f":"IF(ISBLANK(P161),\"\",O161)","v":""},159]
[null,null,null,null,null,null,null,null,null,null,null,null,{"$f":"IF(ISBLANK(P162),\"\",O162)","v":""},160]